BEGIN:VCALENDAR
VERSION:2.0
PRODID:-//Morehead Planetarium and Science Center - ECPv6.13.2.1//NONSGML v1.0//EN
CALSCALE:GREGORIAN
METHOD:PUBLISH
X-ORIGINAL-URL:https://moreheadplanetarium.org
X-WR-CALDESC:Events for Morehead Planetarium and Science Center
REFRESH-INTERVAL;VALUE=DURATION:PT1H
X-Robots-Tag:noindex
X-PUBLISHED-TTL:PT1H
BEGIN:VTIMEZONE
TZID:America/New_York
BEGIN:DAYLIGHT
TZOFFSETFROM:-0500
TZOFFSETTO:-0400
TZNAME:EDT
DTSTART:20260308T070000
END:DAYLIGHT
BEGIN:STANDARD
TZOFFSETFROM:-0400
TZOFFSETTO:-0500
TZNAME:EST
DTSTART:20261101T060000
END:STANDARD
END:VTIMEZONE
BEGIN:VEVENT
DTSTART;TZID=America/New_York:20260103T163000
DTEND;TZID=America/New_York:20260103T173000
DTSTAMP:20260419T205142
CREATED:20251030T142805Z
LAST-MODIFIED:20251030T142805Z
UID:37468-1767457800-1767461400@moreheadplanetarium.org
SUMMARY:Carolina Skies
DESCRIPTION:
URL:https://moreheadplanetarium.org/calendar/carolina-skies-468/
CATEGORIES:Planetarium Shows
END:VEVENT
BEGIN:VEVENT
DTSTART;TZID=America/New_York:20260104T163000
DTEND;TZID=America/New_York:20260104T173000
DTSTAMP:20260419T205142
CREATED:20251030T142806Z
LAST-MODIFIED:20251030T142806Z
UID:37471-1767544200-1767547800@moreheadplanetarium.org
SUMMARY:Carolina Skies
DESCRIPTION:
URL:https://moreheadplanetarium.org/calendar/carolina-skies-469/
CATEGORIES:Planetarium Shows
END:VEVENT
BEGIN:VEVENT
DTSTART;TZID=America/New_York:20260110T163000
DTEND;TZID=America/New_York:20260110T173000
DTSTAMP:20260419T205142
CREATED:20251030T150825Z
LAST-MODIFIED:20251030T150825Z
UID:37478-1768062600-1768066200@moreheadplanetarium.org
SUMMARY:Carolina Skies
DESCRIPTION:
URL:https://moreheadplanetarium.org/calendar/carolina-skies-470/
CATEGORIES:Planetarium Shows
END:VEVENT
BEGIN:VEVENT
DTSTART;TZID=America/New_York:20260111T163000
DTEND;TZID=America/New_York:20260111T173000
DTSTAMP:20260419T205142
CREATED:20251030T150826Z
LAST-MODIFIED:20251030T150826Z
UID:37481-1768149000-1768152600@moreheadplanetarium.org
SUMMARY:Carolina Skies
DESCRIPTION:
URL:https://moreheadplanetarium.org/calendar/carolina-skies-471/
CATEGORIES:Planetarium Shows
END:VEVENT
BEGIN:VEVENT
DTSTART;TZID=America/New_York:20260117T163000
DTEND;TZID=America/New_York:20260117T173000
DTSTAMP:20260419T205142
CREATED:20251030T151227Z
LAST-MODIFIED:20251030T151227Z
UID:37488-1768667400-1768671000@moreheadplanetarium.org
SUMMARY:Carolina Skies
DESCRIPTION:
URL:https://moreheadplanetarium.org/calendar/carolina-skies-472/
CATEGORIES:Planetarium Shows
END:VEVENT
BEGIN:VEVENT
DTSTART;TZID=America/New_York:20260118T163000
DTEND;TZID=America/New_York:20260118T173000
DTSTAMP:20260419T205142
CREATED:20251030T151228Z
LAST-MODIFIED:20251030T151228Z
UID:37491-1768753800-1768757400@moreheadplanetarium.org
SUMMARY:Carolina Skies
DESCRIPTION:
URL:https://moreheadplanetarium.org/calendar/carolina-skies-473/
CATEGORIES:Planetarium Shows
END:VEVENT
BEGIN:VEVENT
DTSTART;TZID=America/New_York:20260124T163000
DTEND;TZID=America/New_York:20260124T173000
DTSTAMP:20260419T205142
CREATED:20251030T151629Z
LAST-MODIFIED:20260123T161416Z
UID:37498-1769272200-1769275800@moreheadplanetarium.org
SUMMARY:[CANCELLED] Carolina Skies
DESCRIPTION:
URL:https://moreheadplanetarium.org/calendar/carolina-skies-474/
CATEGORIES:Planetarium Shows
END:VEVENT
BEGIN:VEVENT
DTSTART;TZID=America/New_York:20260125T163000
DTEND;TZID=America/New_York:20260125T173000
DTSTAMP:20260419T205142
CREATED:20251030T151630Z
LAST-MODIFIED:20260123T161458Z
UID:37501-1769358600-1769362200@moreheadplanetarium.org
SUMMARY:[CANCELLED] Carolina Skies
DESCRIPTION:
URL:https://moreheadplanetarium.org/calendar/carolina-skies-475/
CATEGORIES:Planetarium Shows
END:VEVENT
BEGIN:VEVENT
DTSTART;TZID=America/New_York:20260131T163000
DTEND;TZID=America/New_York:20260131T173000
DTSTAMP:20260419T205142
CREATED:20251217T233855Z
LAST-MODIFIED:20260130T234722Z
UID:38016-1769877000-1769880600@moreheadplanetarium.org
SUMMARY:[CANCELLED] Carolina Skies
DESCRIPTION:
URL:https://moreheadplanetarium.org/calendar/carolina-skies-476/
CATEGORIES:Planetarium Shows
END:VEVENT
END:VCALENDAR