BEGIN:VCALENDAR
VERSION:2.0
PRODID:-//Morehead Planetarium and Science Center - ECPv6.13.2.1//NONSGML v1.0//EN
CALSCALE:GREGORIAN
METHOD:PUBLISH
X-WR-CALNAME:Morehead Planetarium and Science Center
X-ORIGINAL-URL:https://moreheadplanetarium.org
X-WR-CALDESC:Events for Morehead Planetarium and Science Center
REFRESH-INTERVAL;VALUE=DURATION:PT1H
X-Robots-Tag:noindex
X-PUBLISHED-TTL:PT1H
BEGIN:VTIMEZONE
TZID:America/New_York
BEGIN:DAYLIGHT
TZOFFSETFROM:-0500
TZOFFSETTO:-0400
TZNAME:EDT
DTSTART:20250309T070000
END:DAYLIGHT
BEGIN:STANDARD
TZOFFSETFROM:-0400
TZOFFSETTO:-0500
TZNAME:EST
DTSTART:20251102T060000
END:STANDARD
END:VTIMEZONE
BEGIN:VEVENT
DTSTART;TZID=America/New_York:20251003T163000
DTEND;TZID=America/New_York:20251003T173000
DTSTAMP:20260420T012727
CREATED:20250808T145152Z
LAST-MODIFIED:20250808T145152Z
UID:36584-1759509000-1759512600@moreheadplanetarium.org
SUMMARY:Carolina Skies
DESCRIPTION:
URL:https://moreheadplanetarium.org/calendar/carolina-skies-446/
CATEGORIES:Planetarium Shows
END:VEVENT
BEGIN:VEVENT
DTSTART;TZID=America/New_York:20251004T163000
DTEND;TZID=America/New_York:20251004T173000
DTSTAMP:20260420T012727
CREATED:20250808T145207Z
LAST-MODIFIED:20250808T145207Z
UID:36589-1759595400-1759599000@moreheadplanetarium.org
SUMMARY:Carolina Skies
DESCRIPTION:
URL:https://moreheadplanetarium.org/calendar/carolina-skies-447/
CATEGORIES:Planetarium Shows
END:VEVENT
BEGIN:VEVENT
DTSTART;TZID=America/New_York:20251010T163000
DTEND;TZID=America/New_York:20251010T173000
DTSTAMP:20260420T012727
CREATED:20250808T145409Z
LAST-MODIFIED:20250808T145409Z
UID:36595-1760113800-1760117400@moreheadplanetarium.org
SUMMARY:Carolina Skies
DESCRIPTION:
URL:https://moreheadplanetarium.org/calendar/carolina-skies-448/
CATEGORIES:Planetarium Shows
END:VEVENT
BEGIN:VEVENT
DTSTART;TZID=America/New_York:20251011T163000
DTEND;TZID=America/New_York:20251011T173000
DTSTAMP:20260420T012727
CREATED:20250808T145610Z
LAST-MODIFIED:20250808T145610Z
UID:36600-1760200200-1760203800@moreheadplanetarium.org
SUMMARY:Carolina Skies
DESCRIPTION:
URL:https://moreheadplanetarium.org/calendar/carolina-skies-449/
CATEGORIES:Planetarium Shows
END:VEVENT
BEGIN:VEVENT
DTSTART;TZID=America/New_York:20251017T163000
DTEND;TZID=America/New_York:20251017T173000
DTSTAMP:20260420T012727
CREATED:20250808T150011Z
LAST-MODIFIED:20250808T150011Z
UID:36606-1760718600-1760722200@moreheadplanetarium.org
SUMMARY:Carolina Skies
DESCRIPTION:
URL:https://moreheadplanetarium.org/calendar/carolina-skies-450/
CATEGORIES:Planetarium Shows
END:VEVENT
BEGIN:VEVENT
DTSTART;TZID=America/New_York:20251018T163000
DTEND;TZID=America/New_York:20251018T173000
DTSTAMP:20260420T012727
CREATED:20250808T150147Z
LAST-MODIFIED:20250808T150147Z
UID:36611-1760805000-1760808600@moreheadplanetarium.org
SUMMARY:Carolina Skies
DESCRIPTION:
URL:https://moreheadplanetarium.org/calendar/carolina-skies-451/
CATEGORIES:Planetarium Shows
END:VEVENT
BEGIN:VEVENT
DTSTART;TZID=America/New_York:20251024T163000
DTEND;TZID=America/New_York:20251024T173000
DTSTAMP:20260420T012727
CREATED:20250808T150203Z
LAST-MODIFIED:20250808T150203Z
UID:36617-1761323400-1761327000@moreheadplanetarium.org
SUMMARY:Carolina Skies
DESCRIPTION:
URL:https://moreheadplanetarium.org/calendar/carolina-skies-452/
CATEGORIES:Planetarium Shows
END:VEVENT
BEGIN:VEVENT
DTSTART;TZID=America/New_York:20251025T163000
DTEND;TZID=America/New_York:20251025T173000
DTSTAMP:20260420T012727
CREATED:20250808T150222Z
LAST-MODIFIED:20250808T150222Z
UID:36622-1761409800-1761413400@moreheadplanetarium.org
SUMMARY:Carolina Skies
DESCRIPTION:
URL:https://moreheadplanetarium.org/calendar/carolina-skies-453/
CATEGORIES:Planetarium Shows
END:VEVENT
END:VCALENDAR