BEGIN:VCALENDAR
VERSION:2.0
PRODID:-//Morehead Planetarium and Science Center - ECPv6.13.2.1//NONSGML v1.0//EN
CALSCALE:GREGORIAN
METHOD:PUBLISH
X-WR-CALNAME:Morehead Planetarium and Science Center
X-ORIGINAL-URL:https://moreheadplanetarium.org
X-WR-CALDESC:Events for Morehead Planetarium and Science Center
REFRESH-INTERVAL;VALUE=DURATION:PT1H
X-Robots-Tag:noindex
X-PUBLISHED-TTL:PT1H
BEGIN:VTIMEZONE
TZID:America/New_York
BEGIN:DAYLIGHT
TZOFFSETFROM:-0500
TZOFFSETTO:-0400
TZNAME:EDT
DTSTART:20250309T070000
END:DAYLIGHT
BEGIN:STANDARD
TZOFFSETFROM:-0400
TZOFFSETTO:-0500
TZNAME:EST
DTSTART:20251102T060000
END:STANDARD
END:VTIMEZONE
BEGIN:VEVENT
DTSTART;TZID=America/New_York:20250905T163000
DTEND;TZID=America/New_York:20250905T173000
DTSTAMP:20260420T045907
CREATED:20250808T143110Z
LAST-MODIFIED:20250808T143110Z
UID:36540-1757089800-1757093400@moreheadplanetarium.org
SUMMARY:Carolina Skies
DESCRIPTION:
URL:https://moreheadplanetarium.org/calendar/carolina-skies-438/
CATEGORIES:Planetarium Shows
END:VEVENT
BEGIN:VEVENT
DTSTART;TZID=America/New_York:20250906T163000
DTEND;TZID=America/New_York:20250906T173000
DTSTAMP:20260420T045907
CREATED:20250808T143141Z
LAST-MODIFIED:20250808T143141Z
UID:36546-1757176200-1757179800@moreheadplanetarium.org
SUMMARY:Carolina Skies
DESCRIPTION:
URL:https://moreheadplanetarium.org/calendar/carolina-skies-439/
CATEGORIES:Planetarium Shows
END:VEVENT
BEGIN:VEVENT
DTSTART;TZID=America/New_York:20250912T163000
DTEND;TZID=America/New_York:20250912T173000
DTSTAMP:20260420T045907
CREATED:20250808T143157Z
LAST-MODIFIED:20250808T143157Z
UID:36551-1757694600-1757698200@moreheadplanetarium.org
SUMMARY:Carolina Skies
DESCRIPTION:
URL:https://moreheadplanetarium.org/calendar/carolina-skies-440/
CATEGORIES:Planetarium Shows
END:VEVENT
BEGIN:VEVENT
DTSTART;TZID=America/New_York:20250913T163000
DTEND;TZID=America/New_York:20250913T173000
DTSTAMP:20260420T045907
CREATED:20250808T143358Z
LAST-MODIFIED:20250808T143358Z
UID:36556-1757781000-1757784600@moreheadplanetarium.org
SUMMARY:Carolina Skies
DESCRIPTION:
URL:https://moreheadplanetarium.org/calendar/carolina-skies-441/
CATEGORIES:Planetarium Shows
END:VEVENT
BEGIN:VEVENT
DTSTART;TZID=America/New_York:20250919T163000
DTEND;TZID=America/New_York:20250919T173000
DTSTAMP:20260420T045907
CREATED:20250808T143559Z
LAST-MODIFIED:20250808T143559Z
UID:36562-1758299400-1758303000@moreheadplanetarium.org
SUMMARY:Carolina Skies
DESCRIPTION:
URL:https://moreheadplanetarium.org/calendar/carolina-skies-442/
CATEGORIES:Planetarium Shows
END:VEVENT
BEGIN:VEVENT
DTSTART;TZID=America/New_York:20250920T163000
DTEND;TZID=America/New_York:20250920T173000
DTSTAMP:20260420T045907
CREATED:20250808T143800Z
LAST-MODIFIED:20250808T143800Z
UID:36567-1758385800-1758389400@moreheadplanetarium.org
SUMMARY:Carolina Skies
DESCRIPTION:
URL:https://moreheadplanetarium.org/calendar/carolina-skies-443/
CATEGORIES:Planetarium Shows
END:VEVENT
BEGIN:VEVENT
DTSTART;TZID=America/New_York:20250926T163000
DTEND;TZID=America/New_York:20250926T173000
DTSTAMP:20260420T045907
CREATED:20250808T144001Z
LAST-MODIFIED:20250808T144001Z
UID:36573-1758904200-1758907800@moreheadplanetarium.org
SUMMARY:Carolina Skies
DESCRIPTION:
URL:https://moreheadplanetarium.org/calendar/carolina-skies-444/
CATEGORIES:Planetarium Shows
END:VEVENT
BEGIN:VEVENT
DTSTART;TZID=America/New_York:20250927T163000
DTEND;TZID=America/New_York:20250927T173000
DTSTAMP:20260420T045907
CREATED:20250808T144202Z
LAST-MODIFIED:20250808T144202Z
UID:36578-1758990600-1758994200@moreheadplanetarium.org
SUMMARY:Carolina Skies
DESCRIPTION:
URL:https://moreheadplanetarium.org/calendar/carolina-skies-445/
CATEGORIES:Planetarium Shows
END:VEVENT
END:VCALENDAR