BEGIN:VCALENDAR
VERSION:2.0
PRODID:-//Morehead Planetarium and Science Center - ECPv6.13.2.1//NONSGML v1.0//EN
CALSCALE:GREGORIAN
METHOD:PUBLISH
X-ORIGINAL-URL:https://moreheadplanetarium.org
X-WR-CALDESC:Events for Morehead Planetarium and Science Center
REFRESH-INTERVAL;VALUE=DURATION:PT1H
X-Robots-Tag:noindex
X-PUBLISHED-TTL:PT1H
BEGIN:VTIMEZONE
TZID:America/New_York
BEGIN:DAYLIGHT
TZOFFSETFROM:-0500
TZOFFSETTO:-0400
TZNAME:EDT
DTSTART:20250309T070000
END:DAYLIGHT
BEGIN:STANDARD
TZOFFSETFROM:-0400
TZOFFSETTO:-0500
TZNAME:EST
DTSTART:20251102T060000
END:STANDARD
END:VTIMEZONE
BEGIN:VEVENT
DTSTART;TZID=America/New_York:20250802T163000
DTEND;TZID=America/New_York:20250802T173000
DTSTAMP:20260420T063357
CREATED:20250523T152033Z
LAST-MODIFIED:20250523T152033Z
UID:36036-1754152200-1754155800@moreheadplanetarium.org
SUMMARY:Carolina Skies
DESCRIPTION:
URL:https://moreheadplanetarium.org/calendar/carolina-skies-430/
CATEGORIES:Planetarium Shows
END:VEVENT
BEGIN:VEVENT
DTSTART;TZID=America/New_York:20250809T163000
DTEND;TZID=America/New_York:20250809T173000
DTSTAMP:20260420T063358
CREATED:20250523T153458Z
LAST-MODIFIED:20250523T153458Z
UID:36060-1754757000-1754760600@moreheadplanetarium.org
SUMMARY:Carolina Skies
DESCRIPTION:
URL:https://moreheadplanetarium.org/calendar/carolina-skies-431/
CATEGORIES:Planetarium Shows
END:VEVENT
BEGIN:VEVENT
DTSTART;TZID=America/New_York:20250816T163000
DTEND;TZID=America/New_York:20250816T173000
DTSTAMP:20260420T063358
CREATED:20250523T153834Z
LAST-MODIFIED:20250523T153834Z
UID:36084-1755361800-1755365400@moreheadplanetarium.org
SUMMARY:Carolina Skies
DESCRIPTION:
URL:https://moreheadplanetarium.org/calendar/carolina-skies-432/
CATEGORIES:Planetarium Shows
END:VEVENT
BEGIN:VEVENT
DTSTART;TZID=America/New_York:20250829T163000
DTEND;TZID=America/New_York:20250829T173000
DTSTAMP:20260420T063358
CREATED:20250808T143050Z
LAST-MODIFIED:20250808T143050Z
UID:36530-1756485000-1756488600@moreheadplanetarium.org
SUMMARY:Carolina Skies
DESCRIPTION:
URL:https://moreheadplanetarium.org/calendar/carolina-skies-436/
CATEGORIES:Planetarium Shows
END:VEVENT
BEGIN:VEVENT
DTSTART;TZID=America/New_York:20250830T163000
DTEND;TZID=America/New_York:20250830T173000
DTSTAMP:20260420T063358
CREATED:20250808T143053Z
LAST-MODIFIED:20250808T143053Z
UID:36535-1756571400-1756575000@moreheadplanetarium.org
SUMMARY:Carolina Skies
DESCRIPTION:
URL:https://moreheadplanetarium.org/calendar/carolina-skies-437/
CATEGORIES:Planetarium Shows
END:VEVENT
END:VCALENDAR