BEGIN:VCALENDAR
VERSION:2.0
PRODID:-//Morehead Planetarium and Science Center - ECPv6.13.2.1//NONSGML v1.0//EN
CALSCALE:GREGORIAN
METHOD:PUBLISH
X-ORIGINAL-URL:https://moreheadplanetarium.org
X-WR-CALDESC:Events for Morehead Planetarium and Science Center
REFRESH-INTERVAL;VALUE=DURATION:PT1H
X-Robots-Tag:noindex
X-PUBLISHED-TTL:PT1H
BEGIN:VTIMEZONE
TZID:America/New_York
BEGIN:DAYLIGHT
TZOFFSETFROM:-0500
TZOFFSETTO:-0400
TZNAME:EDT
DTSTART:20250309T070000
END:DAYLIGHT
BEGIN:STANDARD
TZOFFSETFROM:-0400
TZOFFSETTO:-0500
TZNAME:EST
DTSTART:20251102T060000
END:STANDARD
END:VTIMEZONE
BEGIN:VEVENT
DTSTART;TZID=America/New_York:20250610T133000
DTEND;TZID=America/New_York:20250610T143000
DTSTAMP:20260422T191942
CREATED:20250423T164625Z
LAST-MODIFIED:20250423T164625Z
UID:35856-1749562200-1749565800@moreheadplanetarium.org
SUMMARY:The Sun: Our Living Star
DESCRIPTION:
URL:https://moreheadplanetarium.org/calendar/the-sun-our-living-star-36/
CATEGORIES:Planetarium Shows
END:VEVENT
BEGIN:VEVENT
DTSTART;TZID=America/New_York:20250612T133000
DTEND;TZID=America/New_York:20250612T143000
DTSTAMP:20260422T191942
CREATED:20250423T164644Z
LAST-MODIFIED:20250423T164644Z
UID:35864-1749735000-1749738600@moreheadplanetarium.org
SUMMARY:The Sun: Our Living Star
DESCRIPTION:
URL:https://moreheadplanetarium.org/calendar/the-sun-our-living-star-45/
CATEGORIES:Planetarium Shows
END:VEVENT
BEGIN:VEVENT
DTSTART;TZID=America/New_York:20250617T133000
DTEND;TZID=America/New_York:20250617T143000
DTSTAMP:20260422T191942
CREATED:20250423T165247Z
LAST-MODIFIED:20250423T165247Z
UID:35880-1750167000-1750170600@moreheadplanetarium.org
SUMMARY:The Sun: Our Living Star
DESCRIPTION:
URL:https://moreheadplanetarium.org/calendar/the-sun-our-living-star-46/
CATEGORIES:Planetarium Shows
END:VEVENT
BEGIN:VEVENT
DTSTART;TZID=America/New_York:20250619T133000
DTEND;TZID=America/New_York:20250619T143000
DTSTAMP:20260422T191942
CREATED:20250423T165649Z
LAST-MODIFIED:20250423T165649Z
UID:35888-1750339800-1750343400@moreheadplanetarium.org
SUMMARY:The Sun: Our Living Star
DESCRIPTION:
URL:https://moreheadplanetarium.org/calendar/the-sun-our-living-star-47/
CATEGORIES:Planetarium Shows
END:VEVENT
BEGIN:VEVENT
DTSTART;TZID=America/New_York:20250624T133000
DTEND;TZID=America/New_York:20250624T143000
DTSTAMP:20260422T191942
CREATED:20250423T170252Z
LAST-MODIFIED:20250423T170252Z
UID:35904-1750771800-1750775400@moreheadplanetarium.org
SUMMARY:The Sun: Our Living Star
DESCRIPTION:
URL:https://moreheadplanetarium.org/calendar/the-sun-our-living-star-48/
CATEGORIES:Planetarium Shows
END:VEVENT
BEGIN:VEVENT
DTSTART;TZID=America/New_York:20250626T133000
DTEND;TZID=America/New_York:20250626T143000
DTSTAMP:20260422T191942
CREATED:20250423T170454Z
LAST-MODIFIED:20250423T170454Z
UID:35912-1750944600-1750948200@moreheadplanetarium.org
SUMMARY:The Sun: Our Living Star
DESCRIPTION:
URL:https://moreheadplanetarium.org/calendar/the-sun-our-living-star-49/
CATEGORIES:Planetarium Shows
END:VEVENT
END:VCALENDAR