BEGIN:VCALENDAR
VERSION:2.0
PRODID:-//Morehead Planetarium and Science Center - ECPv6.13.2.1//NONSGML v1.0//EN
CALSCALE:GREGORIAN
METHOD:PUBLISH
X-WR-CALNAME:Morehead Planetarium and Science Center
X-ORIGINAL-URL:https://moreheadplanetarium.org
X-WR-CALDESC:Events for Morehead Planetarium and Science Center
REFRESH-INTERVAL;VALUE=DURATION:PT1H
X-Robots-Tag:noindex
X-PUBLISHED-TTL:PT1H
BEGIN:VTIMEZONE
TZID:America/New_York
BEGIN:DAYLIGHT
TZOFFSETFROM:-0500
TZOFFSETTO:-0400
TZNAME:EDT
DTSTART:20250309T070000
END:DAYLIGHT
BEGIN:STANDARD
TZOFFSETFROM:-0400
TZOFFSETTO:-0500
TZNAME:EST
DTSTART:20251102T060000
END:STANDARD
END:VTIMEZONE
BEGIN:VEVENT
DTSTART;TZID=America/New_York:20250503T163000
DTEND;TZID=America/New_York:20250503T173000
DTSTAMP:20260420T113327
CREATED:20250312T161610Z
LAST-MODIFIED:20250312T161610Z
UID:35658-1746289800-1746293400@moreheadplanetarium.org
SUMMARY:Carolina Skies
DESCRIPTION:
URL:https://moreheadplanetarium.org/calendar/carolina-skies-422/
CATEGORIES:Planetarium Shows
END:VEVENT
BEGIN:VEVENT
DTSTART;TZID=America/New_York:20250517T163000
DTEND;TZID=America/New_York:20250517T173000
DTSTAMP:20260420T113327
CREATED:20250312T161758Z
LAST-MODIFIED:20250312T161758Z
UID:35670-1747499400-1747503000@moreheadplanetarium.org
SUMMARY:Carolina Skies
DESCRIPTION:
URL:https://moreheadplanetarium.org/calendar/carolina-skies-423/
CATEGORIES:Planetarium Shows
END:VEVENT
BEGIN:VEVENT
DTSTART;TZID=America/New_York:20250524T163000
DTEND;TZID=America/New_York:20250524T173000
DTSTAMP:20260420T113327
CREATED:20250312T162159Z
LAST-MODIFIED:20250312T162159Z
UID:35680-1748104200-1748107800@moreheadplanetarium.org
SUMMARY:Carolina Skies
DESCRIPTION:
URL:https://moreheadplanetarium.org/calendar/carolina-skies-424/
CATEGORIES:Planetarium Shows
END:VEVENT
BEGIN:VEVENT
DTSTART;TZID=America/New_York:20250531T163000
DTEND;TZID=America/New_York:20250531T173000
DTSTAMP:20260420T113327
CREATED:20250312T162601Z
LAST-MODIFIED:20250312T162601Z
UID:35690-1748709000-1748712600@moreheadplanetarium.org
SUMMARY:Carolina Skies
DESCRIPTION:
URL:https://moreheadplanetarium.org/calendar/carolina-skies-425/
CATEGORIES:Planetarium Shows
END:VEVENT
END:VCALENDAR