BEGIN:VCALENDAR
VERSION:2.0
PRODID:-//Morehead Planetarium and Science Center - ECPv6.13.2.1//NONSGML v1.0//EN
CALSCALE:GREGORIAN
METHOD:PUBLISH
X-ORIGINAL-URL:https://moreheadplanetarium.org
X-WR-CALDESC:Events for Morehead Planetarium and Science Center
REFRESH-INTERVAL;VALUE=DURATION:PT1H
X-Robots-Tag:noindex
X-PUBLISHED-TTL:PT1H
BEGIN:VTIMEZONE
TZID:America/New_York
BEGIN:DAYLIGHT
TZOFFSETFROM:-0500
TZOFFSETTO:-0400
TZNAME:EDT
DTSTART:20240310T070000
END:DAYLIGHT
BEGIN:STANDARD
TZOFFSETFROM:-0400
TZOFFSETTO:-0500
TZNAME:EST
DTSTART:20241103T060000
END:STANDARD
END:VTIMEZONE
BEGIN:VEVENT
DTSTART;TZID=America/New_York:20240303T133000
DTEND;TZID=America/New_York:20240303T143000
DTSTAMP:20260423T183817
CREATED:20240125T193023Z
LAST-MODIFIED:20240303T193648Z
UID:31814-1709472600-1709476200@moreheadplanetarium.org
SUMMARY:[CANCELLED] The Sun: Our Living Star
DESCRIPTION:
URL:https://moreheadplanetarium.org/calendar/the-sun-our-living-star-31/
CATEGORIES:Planetarium Shows
END:VEVENT
BEGIN:VEVENT
DTSTART;TZID=America/New_York:20240310T133000
DTEND;TZID=America/New_York:20240310T143000
DTSTAMP:20260423T183817
CREATED:20240125T193143Z
LAST-MODIFIED:20240125T214005Z
UID:31824-1710077400-1710081000@moreheadplanetarium.org
SUMMARY:The Sun: Our Living Star
DESCRIPTION:
URL:https://moreheadplanetarium.org/calendar/the-sun-our-living-star-32/
CATEGORIES:Planetarium Shows
END:VEVENT
BEGIN:VEVENT
DTSTART;TZID=America/New_York:20240317T133000
DTEND;TZID=America/New_York:20240317T143000
DTSTAMP:20260423T183817
CREATED:20240125T193213Z
LAST-MODIFIED:20240125T214041Z
UID:31833-1710682200-1710685800@moreheadplanetarium.org
SUMMARY:The Sun: Our Living Star
DESCRIPTION:
URL:https://moreheadplanetarium.org/calendar/the-sun-our-living-star-33/
CATEGORIES:Planetarium Shows
END:VEVENT
BEGIN:VEVENT
DTSTART;TZID=America/New_York:20240324T133000
DTEND;TZID=America/New_York:20240324T143000
DTSTAMP:20260423T183817
CREATED:20240125T193243Z
LAST-MODIFIED:20240125T214258Z
UID:31843-1711287000-1711290600@moreheadplanetarium.org
SUMMARY:The Sun: Our Living Star
DESCRIPTION:
URL:https://moreheadplanetarium.org/calendar/the-sun-our-living-star-34/
CATEGORIES:Planetarium Shows
END:VEVENT
BEGIN:VEVENT
DTSTART;TZID=America/New_York:20240331T133000
DTEND;TZID=America/New_York:20240331T143000
DTSTAMP:20260423T183817
CREATED:20240125T193312Z
LAST-MODIFIED:20240125T214458Z
UID:31851-1711891800-1711895400@moreheadplanetarium.org
SUMMARY:The Sun: Our Living Star
DESCRIPTION:
URL:https://moreheadplanetarium.org/calendar/the-sun-our-living-star-35/
CATEGORIES:Planetarium Shows
END:VEVENT
END:VCALENDAR