BEGIN:VCALENDAR
VERSION:2.0
PRODID:-//Morehead Planetarium and Science Center - ECPv6.13.2.1//NONSGML v1.0//EN
CALSCALE:GREGORIAN
METHOD:PUBLISH
X-ORIGINAL-URL:https://moreheadplanetarium.org
X-WR-CALDESC:Events for Morehead Planetarium and Science Center
REFRESH-INTERVAL;VALUE=DURATION:PT1H
X-Robots-Tag:noindex
X-PUBLISHED-TTL:PT1H
BEGIN:VTIMEZONE
TZID:America/New_York
BEGIN:DAYLIGHT
TZOFFSETFROM:-0500
TZOFFSETTO:-0400
TZNAME:EDT
DTSTART:20220313T070000
END:DAYLIGHT
BEGIN:STANDARD
TZOFFSETFROM:-0400
TZOFFSETTO:-0500
TZNAME:EST
DTSTART:20221106T060000
END:STANDARD
END:VTIMEZONE
BEGIN:VEVENT
DTSTART;TZID=America/New_York:20220706T150000
DTEND;TZID=America/New_York:20220706T160000
DTSTAMP:20260419T121041
CREATED:20220410T213955Z
LAST-MODIFIED:20220410T213955Z
UID:23384-1657119600-1657123200@moreheadplanetarium.org
SUMMARY:From Earth to the Universe
DESCRIPTION:
URL:https://moreheadplanetarium.org/calendar/from-earth-to-the-universe-37/
LOCATION:GSK Fulldome Theater
CATEGORIES:Planetarium Shows
END:VEVENT
BEGIN:VEVENT
DTSTART;TZID=America/New_York:20220707T150000
DTEND;TZID=America/New_York:20220707T160000
DTSTAMP:20260419T121041
CREATED:20220410T213956Z
LAST-MODIFIED:20220410T213956Z
UID:23388-1657206000-1657209600@moreheadplanetarium.org
SUMMARY:From Earth to the Universe
DESCRIPTION:
URL:https://moreheadplanetarium.org/calendar/from-earth-to-the-universe-38/
LOCATION:GSK Fulldome Theater
CATEGORIES:Planetarium Shows
END:VEVENT
BEGIN:VEVENT
DTSTART;TZID=America/New_York:20220708T150000
DTEND;TZID=America/New_York:20220708T160000
DTSTAMP:20260419T121041
CREATED:20220410T213958Z
LAST-MODIFIED:20220410T213958Z
UID:23392-1657292400-1657296000@moreheadplanetarium.org
SUMMARY:From Earth to the Universe
DESCRIPTION:
URL:https://moreheadplanetarium.org/calendar/from-earth-to-the-universe-39/
LOCATION:GSK Fulldome Theater
CATEGORIES:Planetarium Shows
END:VEVENT
BEGIN:VEVENT
DTSTART;TZID=America/New_York:20220713T150000
DTEND;TZID=America/New_York:20220713T160000
DTSTAMP:20260419T121041
CREATED:20220617T150327Z
LAST-MODIFIED:20220617T150327Z
UID:23687-1657724400-1657728000@moreheadplanetarium.org
SUMMARY:From Earth to the Universe
DESCRIPTION:
URL:https://moreheadplanetarium.org/calendar/from-earth-to-the-universe-40/
LOCATION:GSK Fulldome Theater
CATEGORIES:Planetarium Shows
END:VEVENT
BEGIN:VEVENT
DTSTART;TZID=America/New_York:20220714T150000
DTEND;TZID=America/New_York:20220714T160000
DTSTAMP:20260419T121041
CREATED:20220617T150329Z
LAST-MODIFIED:20220617T150329Z
UID:23691-1657810800-1657814400@moreheadplanetarium.org
SUMMARY:From Earth to the Universe
DESCRIPTION:
URL:https://moreheadplanetarium.org/calendar/from-earth-to-the-universe-41/
LOCATION:GSK Fulldome Theater
CATEGORIES:Planetarium Shows
END:VEVENT
BEGIN:VEVENT
DTSTART;TZID=America/New_York:20220715T150000
DTEND;TZID=America/New_York:20220715T160000
DTSTAMP:20260419T121041
CREATED:20220617T150330Z
LAST-MODIFIED:20220617T150330Z
UID:23695-1657897200-1657900800@moreheadplanetarium.org
SUMMARY:From Earth to the Universe
DESCRIPTION:
URL:https://moreheadplanetarium.org/calendar/from-earth-to-the-universe-42/
LOCATION:GSK Fulldome Theater
CATEGORIES:Planetarium Shows
END:VEVENT
BEGIN:VEVENT
DTSTART;TZID=America/New_York:20220720T150000
DTEND;TZID=America/New_York:20220720T160000
DTSTAMP:20260419T121041
CREATED:20220617T150336Z
LAST-MODIFIED:20220617T150336Z
UID:23707-1658329200-1658332800@moreheadplanetarium.org
SUMMARY:From Earth to the Universe
DESCRIPTION:
URL:https://moreheadplanetarium.org/calendar/from-earth-to-the-universe-43/
LOCATION:GSK Fulldome Theater
CATEGORIES:Planetarium Shows
END:VEVENT
BEGIN:VEVENT
DTSTART;TZID=America/New_York:20220721T150000
DTEND;TZID=America/New_York:20220721T160000
DTSTAMP:20260419T121041
CREATED:20220617T150338Z
LAST-MODIFIED:20220617T150338Z
UID:23711-1658415600-1658419200@moreheadplanetarium.org
SUMMARY:From Earth to the Universe
DESCRIPTION:
URL:https://moreheadplanetarium.org/calendar/from-earth-to-the-universe-44/
LOCATION:GSK Fulldome Theater
CATEGORIES:Planetarium Shows
END:VEVENT
BEGIN:VEVENT
DTSTART;TZID=America/New_York:20220727T150000
DTEND;TZID=America/New_York:20220727T160000
DTSTAMP:20260419T121041
CREATED:20220617T150345Z
LAST-MODIFIED:20220617T150345Z
UID:23726-1658934000-1658937600@moreheadplanetarium.org
SUMMARY:From Earth to the Universe
DESCRIPTION:
URL:https://moreheadplanetarium.org/calendar/from-earth-to-the-universe-45/
LOCATION:GSK Fulldome Theater
CATEGORIES:Planetarium Shows
END:VEVENT
BEGIN:VEVENT
DTSTART;TZID=America/New_York:20220728T150000
DTEND;TZID=America/New_York:20220728T160000
DTSTAMP:20260419T121041
CREATED:20220617T150346Z
LAST-MODIFIED:20220617T150346Z
UID:23730-1659020400-1659024000@moreheadplanetarium.org
SUMMARY:From Earth to the Universe
DESCRIPTION:
URL:https://moreheadplanetarium.org/calendar/from-earth-to-the-universe-46/
LOCATION:GSK Fulldome Theater
CATEGORIES:Planetarium Shows
END:VEVENT
BEGIN:VEVENT
DTSTART;TZID=America/New_York:20220729T150000
DTEND;TZID=America/New_York:20220729T160000
DTSTAMP:20260419T121041
CREATED:20220617T150348Z
LAST-MODIFIED:20220617T150348Z
UID:23734-1659106800-1659110400@moreheadplanetarium.org
SUMMARY:From Earth to the Universe
DESCRIPTION:
URL:https://moreheadplanetarium.org/calendar/from-earth-to-the-universe-47/
LOCATION:GSK Fulldome Theater
CATEGORIES:Planetarium Shows
END:VEVENT
END:VCALENDAR