BEGIN:VCALENDAR
VERSION:2.0
PRODID:-//Morehead Planetarium and Science Center - ECPv6.13.2.1//NONSGML v1.0//EN
CALSCALE:GREGORIAN
METHOD:PUBLISH
X-WR-CALNAME:Morehead Planetarium and Science Center
X-ORIGINAL-URL:https://moreheadplanetarium.org
X-WR-CALDESC:Events for Morehead Planetarium and Science Center
REFRESH-INTERVAL;VALUE=DURATION:PT1H
X-Robots-Tag:noindex
X-PUBLISHED-TTL:PT1H
BEGIN:VTIMEZONE
TZID:America/New_York
BEGIN:DAYLIGHT
TZOFFSETFROM:-0500
TZOFFSETTO:-0400
TZNAME:EDT
DTSTART:20220313T070000
END:DAYLIGHT
BEGIN:STANDARD
TZOFFSETFROM:-0400
TZOFFSETTO:-0500
TZNAME:EST
DTSTART:20221106T060000
END:STANDARD
END:VTIMEZONE
BEGIN:VEVENT
DTSTART;TZID=America/New_York:20220403T163000
DTEND;TZID=America/New_York:20220403T173000
DTSTAMP:20260422T014719
CREATED:20220204T213258Z
LAST-MODIFIED:20220220T193658Z
UID:22611-1649003400-1649007000@moreheadplanetarium.org
SUMMARY:Phantom of the Universe
DESCRIPTION:
URL:https://moreheadplanetarium.org/calendar/phantom-of-the-universe-15/
LOCATION:GSK Fulldome Theater
CATEGORIES:Planetarium Shows
END:VEVENT
BEGIN:VEVENT
DTSTART;TZID=America/New_York:20220410T163000
DTEND;TZID=America/New_York:20220410T173000
DTSTAMP:20260422T014719
CREATED:20220220T193701Z
LAST-MODIFIED:20220410T213916Z
UID:22836-1649608200-1649611800@moreheadplanetarium.org
SUMMARY:Phantom of the Universe
DESCRIPTION:
URL:https://moreheadplanetarium.org/calendar/phantom-of-the-universe-16/
LOCATION:GSK Fulldome Theater
CATEGORIES:Planetarium Shows
END:VEVENT
BEGIN:VEVENT
DTSTART;TZID=America/New_York:20220417T163000
DTEND;TZID=America/New_York:20220417T173000
DTSTAMP:20260422T014719
CREATED:20220220T193703Z
LAST-MODIFIED:20220410T213918Z
UID:22844-1650213000-1650216600@moreheadplanetarium.org
SUMMARY:Phantom of the Universe
DESCRIPTION:
URL:https://moreheadplanetarium.org/calendar/phantom-of-the-universe-17/
LOCATION:GSK Fulldome Theater
CATEGORIES:Planetarium Shows
END:VEVENT
BEGIN:VEVENT
DTSTART;TZID=America/New_York:20220424T163000
DTEND;TZID=America/New_York:20220424T173000
DTSTAMP:20260422T014719
CREATED:20220220T193705Z
LAST-MODIFIED:20220410T213919Z
UID:22852-1650817800-1650821400@moreheadplanetarium.org
SUMMARY:Phantom of the Universe
DESCRIPTION:
URL:https://moreheadplanetarium.org/calendar/phantom-of-the-universe-18/
LOCATION:GSK Fulldome Theater
CATEGORIES:Planetarium Shows
END:VEVENT
END:VCALENDAR