BEGIN:VCALENDAR
VERSION:2.0
PRODID:-//Morehead Planetarium and Science Center - ECPv6.13.2.1//NONSGML v1.0//EN
CALSCALE:GREGORIAN
METHOD:PUBLISH
X-WR-CALNAME:Morehead Planetarium and Science Center
X-ORIGINAL-URL:https://moreheadplanetarium.org
X-WR-CALDESC:Events for Morehead Planetarium and Science Center
REFRESH-INTERVAL;VALUE=DURATION:PT1H
X-Robots-Tag:noindex
X-PUBLISHED-TTL:PT1H
BEGIN:VTIMEZONE
TZID:America/New_York
BEGIN:DAYLIGHT
TZOFFSETFROM:-0500
TZOFFSETTO:-0400
TZNAME:EDT
DTSTART:20220313T070000
END:DAYLIGHT
BEGIN:STANDARD
TZOFFSETFROM:-0400
TZOFFSETTO:-0500
TZNAME:EST
DTSTART:20221106T060000
END:STANDARD
END:VTIMEZONE
BEGIN:VEVENT
DTSTART;TZID=America/New_York:20220306T163000
DTEND;TZID=America/New_York:20220306T173000
DTSTAMP:20260422T031758
CREATED:20220204T213247Z
LAST-MODIFIED:20220220T193652Z
UID:22579-1646584200-1646587800@moreheadplanetarium.org
SUMMARY:Phantom of the Universe
DESCRIPTION:
URL:https://moreheadplanetarium.org/calendar/phantom-of-the-universe-11/
LOCATION:GSK Fulldome Theater
CATEGORIES:Planetarium Shows
END:VEVENT
BEGIN:VEVENT
DTSTART;TZID=America/New_York:20220313T163000
DTEND;TZID=America/New_York:20220313T173000
DTSTAMP:20260422T031758
CREATED:20220204T213250Z
LAST-MODIFIED:20220220T193653Z
UID:22587-1647189000-1647192600@moreheadplanetarium.org
SUMMARY:Phantom of the Universe
DESCRIPTION:
URL:https://moreheadplanetarium.org/calendar/phantom-of-the-universe-12/
LOCATION:GSK Fulldome Theater
CATEGORIES:Planetarium Shows
END:VEVENT
BEGIN:VEVENT
DTSTART;TZID=America/New_York:20220320T163000
DTEND;TZID=America/New_York:20220320T173000
DTSTAMP:20260422T031758
CREATED:20220204T213253Z
LAST-MODIFIED:20220220T193655Z
UID:22595-1647793800-1647797400@moreheadplanetarium.org
SUMMARY:Phantom of the Universe
DESCRIPTION:
URL:https://moreheadplanetarium.org/calendar/phantom-of-the-universe-13/
LOCATION:GSK Fulldome Theater
CATEGORIES:Planetarium Shows
END:VEVENT
BEGIN:VEVENT
DTSTART;TZID=America/New_York:20220327T163000
DTEND;TZID=America/New_York:20220327T173000
DTSTAMP:20260422T031758
CREATED:20220204T213255Z
LAST-MODIFIED:20220220T193656Z
UID:22603-1648398600-1648402200@moreheadplanetarium.org
SUMMARY:Phantom of the Universe
DESCRIPTION:
URL:https://moreheadplanetarium.org/calendar/phantom-of-the-universe-14/
LOCATION:GSK Fulldome Theater
CATEGORIES:Planetarium Shows
END:VEVENT
END:VCALENDAR