BEGIN:VCALENDAR
VERSION:2.0
PRODID:-//Morehead Planetarium and Science Center - ECPv6.13.2.1//NONSGML v1.0//EN
CALSCALE:GREGORIAN
METHOD:PUBLISH
X-WR-CALNAME:Morehead Planetarium and Science Center
X-ORIGINAL-URL:https://moreheadplanetarium.org
X-WR-CALDESC:Events for Morehead Planetarium and Science Center
REFRESH-INTERVAL;VALUE=DURATION:PT1H
X-Robots-Tag:noindex
X-PUBLISHED-TTL:PT1H
BEGIN:VTIMEZONE
TZID:America/New_York
BEGIN:DAYLIGHT
TZOFFSETFROM:-0500
TZOFFSETTO:-0400
TZNAME:EDT
DTSTART:20220313T070000
END:DAYLIGHT
BEGIN:STANDARD
TZOFFSETFROM:-0400
TZOFFSETTO:-0500
TZNAME:EST
DTSTART:20221106T060000
END:STANDARD
BEGIN:DAYLIGHT
TZOFFSETFROM:-0500
TZOFFSETTO:-0400
TZNAME:EDT
DTSTART:20230312T070000
END:DAYLIGHT
BEGIN:STANDARD
TZOFFSETFROM:-0400
TZOFFSETTO:-0500
TZNAME:EST
DTSTART:20231105T060000
END:STANDARD
END:VTIMEZONE
BEGIN:VEVENT
DTSTART;TZID=America/New_York:20230728T120000
DTEND;TZID=America/New_York:20230728T130000
DTSTAMP:20260425T084945
CREATED:20230614T130110Z
LAST-MODIFIED:20230614T130110Z
UID:28734-1690545600-1690549200@moreheadplanetarium.org
SUMMARY:Earthquakes\, Volcanoes\, and Tsunamis
DESCRIPTION:
URL:https://moreheadplanetarium.org/calendar/earthquakes-volcanoes-and-tsunamis-111/
LOCATION:GSK Fulldome Theater
CATEGORIES:Planetarium Shows
END:VEVENT
BEGIN:VEVENT
DTSTART;TZID=America/New_York:20230726T120000
DTEND;TZID=America/New_York:20230726T130000
DTSTAMP:20260425T084945
CREATED:20230614T130126Z
LAST-MODIFIED:20230614T130126Z
UID:28727-1690372800-1690376400@moreheadplanetarium.org
SUMMARY:Earthquakes\, Volcanoes\, and Tsunamis
DESCRIPTION:
URL:https://moreheadplanetarium.org/calendar/earthquakes-volcanoes-and-tsunamis-112/
LOCATION:GSK Fulldome Theater
CATEGORIES:Planetarium Shows
END:VEVENT
BEGIN:VEVENT
DTSTART;TZID=America/New_York:20230721T120000
DTEND;TZID=America/New_York:20230721T130000
DTSTAMP:20260425T084945
CREATED:20230602T121743Z
LAST-MODIFIED:20230614T123901Z
UID:28659-1689940800-1689944400@moreheadplanetarium.org
SUMMARY:Earthquakes\, Volcanoes\, and Tsunamis
DESCRIPTION:
URL:https://moreheadplanetarium.org/calendar/earthquakes-volcanoes-and-tsunamis-103/
LOCATION:GSK Fulldome Theater
CATEGORIES:Planetarium Shows
END:VEVENT
BEGIN:VEVENT
DTSTART;TZID=America/New_York:20230719T120000
DTEND;TZID=America/New_York:20230719T130000
DTSTAMP:20260425T084945
CREATED:20230420T143133Z
LAST-MODIFIED:20230614T123845Z
UID:28193-1689768000-1689771600@moreheadplanetarium.org
SUMMARY:Earthquakes\, Volcanoes\, and Tsunamis
DESCRIPTION:
URL:https://moreheadplanetarium.org/calendar/earthquakes-volcanoes-and-tsunamis-102/
LOCATION:GSK Fulldome Theater
CATEGORIES:Planetarium Shows
END:VEVENT
BEGIN:VEVENT
DTSTART;TZID=America/New_York:20230714T120000
DTEND;TZID=America/New_York:20230714T130000
DTSTAMP:20260425T084945
CREATED:20230420T143109Z
LAST-MODIFIED:20230614T123817Z
UID:28178-1689336000-1689339600@moreheadplanetarium.org
SUMMARY:Earthquakes\, Volcanoes\, and Tsunamis
DESCRIPTION:
URL:https://moreheadplanetarium.org/calendar/earthquakes-volcanoes-and-tsunamis-101/
LOCATION:GSK Fulldome Theater
CATEGORIES:Planetarium Shows
END:VEVENT
BEGIN:VEVENT
DTSTART;TZID=America/New_York:20230712T120000
DTEND;TZID=America/New_York:20230712T130000
DTSTAMP:20260425T084945
CREATED:20230420T143030Z
LAST-MODIFIED:20230614T123801Z
UID:28171-1689163200-1689166800@moreheadplanetarium.org
SUMMARY:Earthquakes\, Volcanoes\, and Tsunamis
DESCRIPTION:
URL:https://moreheadplanetarium.org/calendar/earthquakes-volcanoes-and-tsunamis-100/
LOCATION:GSK Fulldome Theater
CATEGORIES:Planetarium Shows
END:VEVENT
BEGIN:VEVENT
DTSTART;TZID=America/New_York:20230707T120000
DTEND;TZID=America/New_York:20230707T130000
DTSTAMP:20260425T084945
CREATED:20230420T143027Z
LAST-MODIFIED:20230614T123736Z
UID:28156-1688731200-1688734800@moreheadplanetarium.org
SUMMARY:Earthquakes\, Volcanoes\, and Tsunamis
DESCRIPTION:
URL:https://moreheadplanetarium.org/calendar/earthquakes-volcanoes-and-tsunamis-99/
LOCATION:GSK Fulldome Theater
CATEGORIES:Planetarium Shows
END:VEVENT
BEGIN:VEVENT
DTSTART;TZID=America/New_York:20230705T120000
DTEND;TZID=America/New_York:20230705T130000
DTSTAMP:20260425T084945
CREATED:20230420T142938Z
LAST-MODIFIED:20230614T123720Z
UID:28149-1688558400-1688562000@moreheadplanetarium.org
SUMMARY:Earthquakes\, Volcanoes\, and Tsunamis
DESCRIPTION:
URL:https://moreheadplanetarium.org/calendar/earthquakes-volcanoes-and-tsunamis-98/
LOCATION:GSK Fulldome Theater
CATEGORIES:Planetarium Shows
END:VEVENT
BEGIN:VEVENT
DTSTART;TZID=America/New_York:20230630T120000
DTEND;TZID=America/New_York:20230630T130000
DTSTAMP:20260425T084945
CREATED:20230420T142904Z
LAST-MODIFIED:20230614T123703Z
UID:28134-1688126400-1688130000@moreheadplanetarium.org
SUMMARY:Earthquakes\, Volcanoes\, and Tsunamis
DESCRIPTION:
URL:https://moreheadplanetarium.org/calendar/earthquakes-volcanoes-and-tsunamis-97/
LOCATION:GSK Fulldome Theater
CATEGORIES:Planetarium Shows
END:VEVENT
BEGIN:VEVENT
DTSTART;TZID=America/New_York:20230628T120000
DTEND;TZID=America/New_York:20230628T130000
DTSTAMP:20260425T084945
CREATED:20230420T142903Z
LAST-MODIFIED:20230614T123652Z
UID:28128-1687953600-1687957200@moreheadplanetarium.org
SUMMARY:Earthquakes\, Volcanoes\, and Tsunamis
DESCRIPTION:
URL:https://moreheadplanetarium.org/calendar/earthquakes-volcanoes-and-tsunamis-96/
LOCATION:GSK Fulldome Theater
CATEGORIES:Planetarium Shows
END:VEVENT
BEGIN:VEVENT
DTSTART;TZID=America/New_York:20230623T120000
DTEND;TZID=America/New_York:20230623T130000
DTSTAMP:20260425T084945
CREATED:20230420T142820Z
LAST-MODIFIED:20230614T123619Z
UID:28113-1687521600-1687525200@moreheadplanetarium.org
SUMMARY:Earthquakes\, Volcanoes\, and Tsunamis
DESCRIPTION:
URL:https://moreheadplanetarium.org/calendar/earthquakes-volcanoes-and-tsunamis-95/
LOCATION:GSK Fulldome Theater
CATEGORIES:Planetarium Shows
END:VEVENT
BEGIN:VEVENT
DTSTART;TZID=America/New_York:20230621T120000
DTEND;TZID=America/New_York:20230621T130000
DTSTAMP:20260425T084945
CREATED:20230420T142819Z
LAST-MODIFIED:20230614T123610Z
UID:28106-1687348800-1687352400@moreheadplanetarium.org
SUMMARY:Earthquakes\, Volcanoes\, and Tsunamis
DESCRIPTION:
URL:https://moreheadplanetarium.org/calendar/earthquakes-volcanoes-and-tsunamis-94/
LOCATION:GSK Fulldome Theater
CATEGORIES:Planetarium Shows
END:VEVENT
BEGIN:VEVENT
DTSTART;TZID=America/New_York:20230616T120000
DTEND;TZID=America/New_York:20230616T130000
DTSTAMP:20260425T084945
CREATED:20230420T142740Z
LAST-MODIFIED:20230614T123526Z
UID:28091-1686916800-1686920400@moreheadplanetarium.org
SUMMARY:Earthquakes\, Volcanoes\, and Tsunamis
DESCRIPTION:
URL:https://moreheadplanetarium.org/calendar/earthquakes-volcanoes-and-tsunamis-93/
LOCATION:GSK Fulldome Theater
CATEGORIES:Planetarium Shows
END:VEVENT
BEGIN:VEVENT
DTSTART;TZID=America/New_York:20230614T120000
DTEND;TZID=America/New_York:20230614T130000
DTSTAMP:20260425T084945
CREATED:20230420T142739Z
LAST-MODIFIED:20230614T123502Z
UID:28084-1686744000-1686747600@moreheadplanetarium.org
SUMMARY:Earthquakes\, Volcanoes\, and Tsunamis
DESCRIPTION:
URL:https://moreheadplanetarium.org/calendar/earthquakes-volcanoes-and-tsunamis-92/
LOCATION:GSK Fulldome Theater
CATEGORIES:Planetarium Shows
END:VEVENT
BEGIN:VEVENT
DTSTART;TZID=America/New_York:20221119T133000
DTEND;TZID=America/New_York:20221119T143000
DTSTAMP:20260425T084945
CREATED:20220831T163921Z
LAST-MODIFIED:20221108T194326Z
UID:24483-1668864600-1668868200@moreheadplanetarium.org
SUMMARY:Earthquakes\, Volcanoes\, and Tsunamis
DESCRIPTION:
URL:https://moreheadplanetarium.org/calendar/earthquakes-volcanoes-and-tsunamis-82/
LOCATION:GSK Fulldome Theater
CATEGORIES:Planetarium Shows
END:VEVENT
BEGIN:VEVENT
DTSTART;TZID=America/New_York:20221112T133000
DTEND;TZID=America/New_York:20221112T143000
DTSTAMP:20260425T084945
CREATED:20220831T163923Z
LAST-MODIFIED:20221108T194323Z
UID:24473-1668259800-1668263400@moreheadplanetarium.org
SUMMARY:Earthquakes\, Volcanoes\, and Tsunamis
DESCRIPTION:
URL:https://moreheadplanetarium.org/calendar/earthquakes-volcanoes-and-tsunamis-83/
LOCATION:GSK Fulldome Theater
CATEGORIES:Planetarium Shows
END:VEVENT
BEGIN:VEVENT
DTSTART;TZID=America/New_York:20221105T133000
DTEND;TZID=America/New_York:20221105T143000
DTSTAMP:20260425T084945
CREATED:20220831T163941Z
LAST-MODIFIED:20221031T175725Z
UID:24464-1667655000-1667658600@moreheadplanetarium.org
SUMMARY:Earthquakes\, Volcanoes\, and Tsunamis
DESCRIPTION:
URL:https://moreheadplanetarium.org/calendar/earthquakes-volcanoes-and-tsunamis-84/
LOCATION:GSK Fulldome Theater
CATEGORIES:Planetarium Shows
END:VEVENT
BEGIN:VEVENT
DTSTART;TZID=America/New_York:20221029T133000
DTEND;TZID=America/New_York:20221029T143000
DTSTAMP:20260425T084945
CREATED:20220831T163942Z
LAST-MODIFIED:20221006T170324Z
UID:24455-1667050200-1667053800@moreheadplanetarium.org
SUMMARY:Earthquakes\, Volcanoes\, and Tsunamis
DESCRIPTION:
URL:https://moreheadplanetarium.org/calendar/earthquakes-volcanoes-and-tsunamis-85/
LOCATION:GSK Fulldome Theater
CATEGORIES:Planetarium Shows
END:VEVENT
BEGIN:VEVENT
DTSTART;TZID=America/New_York:20221022T133000
DTEND;TZID=America/New_York:20221022T143000
DTSTAMP:20260425T084945
CREATED:20220831T164000Z
LAST-MODIFIED:20221006T170321Z
UID:24445-1666445400-1666449000@moreheadplanetarium.org
SUMMARY:Earthquakes\, Volcanoes\, and Tsunamis
DESCRIPTION:
URL:https://moreheadplanetarium.org/calendar/earthquakes-volcanoes-and-tsunamis-86/
LOCATION:GSK Fulldome Theater
CATEGORIES:Planetarium Shows
END:VEVENT
BEGIN:VEVENT
DTSTART;TZID=America/New_York:20221015T133000
DTEND;TZID=America/New_York:20221015T143000
DTSTAMP:20260425T084945
CREATED:20220831T164003Z
LAST-MODIFIED:20221006T170318Z
UID:24435-1665840600-1665844200@moreheadplanetarium.org
SUMMARY:Earthquakes\, Volcanoes\, and Tsunamis
DESCRIPTION:
URL:https://moreheadplanetarium.org/calendar/earthquakes-volcanoes-and-tsunamis-87/
LOCATION:GSK Fulldome Theater
CATEGORIES:Planetarium Shows
END:VEVENT
BEGIN:VEVENT
DTSTART;TZID=America/New_York:20221008T133000
DTEND;TZID=America/New_York:20221008T143000
DTSTAMP:20260425T084945
CREATED:20220831T164016Z
LAST-MODIFIED:20221006T170316Z
UID:24427-1665235800-1665239400@moreheadplanetarium.org
SUMMARY:Earthquakes\, Volcanoes\, and Tsunamis
DESCRIPTION:
URL:https://moreheadplanetarium.org/calendar/earthquakes-volcanoes-and-tsunamis-88/
LOCATION:GSK Fulldome Theater
CATEGORIES:Planetarium Shows
END:VEVENT
BEGIN:VEVENT
DTSTART;TZID=America/New_York:20221001T133000
DTEND;TZID=America/New_York:20221001T143000
DTSTAMP:20260425T084945
CREATED:20220831T164017Z
LAST-MODIFIED:20220930T172833Z
UID:24417-1664631000-1664634600@moreheadplanetarium.org
SUMMARY:Earthquakes\, Volcanoes\, and Tsunamis
DESCRIPTION:
URL:https://moreheadplanetarium.org/calendar/earthquakes-volcanoes-and-tsunamis-89/
LOCATION:GSK Fulldome Theater
CATEGORIES:Planetarium Shows
END:VEVENT
BEGIN:VEVENT
DTSTART;TZID=America/New_York:20220924T133000
DTEND;TZID=America/New_York:20220924T143000
DTSTAMP:20260425T084945
CREATED:20220831T164051Z
LAST-MODIFIED:20220916T175315Z
UID:24407-1664026200-1664029800@moreheadplanetarium.org
SUMMARY:Earthquakes\, Volcanoes\, and Tsunamis
DESCRIPTION:
URL:https://moreheadplanetarium.org/calendar/earthquakes-volcanoes-and-tsunamis-90/
LOCATION:GSK Fulldome Theater
CATEGORIES:Planetarium Shows
END:VEVENT
BEGIN:VEVENT
DTSTART;TZID=America/New_York:20220917T133000
DTEND;TZID=America/New_York:20220917T143000
DTSTAMP:20260425T084945
CREATED:20220831T164054Z
LAST-MODIFIED:20220916T175312Z
UID:24394-1663421400-1663425000@moreheadplanetarium.org
SUMMARY:Earthquakes\, Volcanoes\, and Tsunamis
DESCRIPTION:
URL:https://moreheadplanetarium.org/calendar/earthquakes-volcanoes-and-tsunamis-91/
LOCATION:GSK Fulldome Theater
CATEGORIES:Planetarium Shows
END:VEVENT
BEGIN:VEVENT
DTSTART;TZID=America/New_York:20220826T133000
DTEND;TZID=America/New_York:20220826T143000
DTSTAMP:20260425T084945
CREATED:20220617T150425Z
LAST-MODIFIED:20220617T150425Z
UID:23813-1661520600-1661524200@moreheadplanetarium.org
SUMMARY:Earthquakes\, Volcanoes\, and Tsunamis
DESCRIPTION:
URL:https://moreheadplanetarium.org/calendar/earthquakes-volcanoes-and-tsunamis-81/
LOCATION:GSK Fulldome Theater
CATEGORIES:Planetarium Shows
END:VEVENT
BEGIN:VEVENT
DTSTART;TZID=America/New_York:20220825T133000
DTEND;TZID=America/New_York:20220825T143000
DTSTAMP:20260425T084945
CREATED:20220617T150423Z
LAST-MODIFIED:20220617T150423Z
UID:23809-1661434200-1661437800@moreheadplanetarium.org
SUMMARY:Earthquakes\, Volcanoes\, and Tsunamis
DESCRIPTION:
URL:https://moreheadplanetarium.org/calendar/earthquakes-volcanoes-and-tsunamis-80/
LOCATION:GSK Fulldome Theater
CATEGORIES:Planetarium Shows
END:VEVENT
BEGIN:VEVENT
DTSTART;TZID=America/New_York:20220824T133000
DTEND;TZID=America/New_York:20220824T143000
DTSTAMP:20260425T084945
CREATED:20220617T150421Z
LAST-MODIFIED:20220617T150421Z
UID:23805-1661347800-1661351400@moreheadplanetarium.org
SUMMARY:Earthquakes\, Volcanoes\, and Tsunamis
DESCRIPTION:
URL:https://moreheadplanetarium.org/calendar/earthquakes-volcanoes-and-tsunamis-79/
LOCATION:GSK Fulldome Theater
CATEGORIES:Planetarium Shows
END:VEVENT
BEGIN:VEVENT
DTSTART;TZID=America/New_York:20220819T133000
DTEND;TZID=America/New_York:20220819T143000
DTSTAMP:20260425T084945
CREATED:20220617T150416Z
LAST-MODIFIED:20220617T150416Z
UID:23793-1660915800-1660919400@moreheadplanetarium.org
SUMMARY:Earthquakes\, Volcanoes\, and Tsunamis
DESCRIPTION:
URL:https://moreheadplanetarium.org/calendar/earthquakes-volcanoes-and-tsunamis-78/
LOCATION:GSK Fulldome Theater
CATEGORIES:Planetarium Shows
END:VEVENT
BEGIN:VEVENT
DTSTART;TZID=America/New_York:20220818T133000
DTEND;TZID=America/New_York:20220818T143000
DTSTAMP:20260425T084945
CREATED:20220617T150414Z
LAST-MODIFIED:20220617T150414Z
UID:23789-1660829400-1660833000@moreheadplanetarium.org
SUMMARY:Earthquakes\, Volcanoes\, and Tsunamis
DESCRIPTION:
URL:https://moreheadplanetarium.org/calendar/earthquakes-volcanoes-and-tsunamis-77/
LOCATION:GSK Fulldome Theater
CATEGORIES:Planetarium Shows
END:VEVENT
BEGIN:VEVENT
DTSTART;TZID=America/New_York:20220817T133000
DTEND;TZID=America/New_York:20220817T143000
DTSTAMP:20260425T084945
CREATED:20220617T150412Z
LAST-MODIFIED:20220617T150412Z
UID:23785-1660743000-1660746600@moreheadplanetarium.org
SUMMARY:Earthquakes\, Volcanoes\, and Tsunamis
DESCRIPTION:
URL:https://moreheadplanetarium.org/calendar/earthquakes-volcanoes-and-tsunamis-76/
LOCATION:GSK Fulldome Theater
CATEGORIES:Planetarium Shows
END:VEVENT
END:VCALENDAR