BEGIN:VCALENDAR
VERSION:2.0
PRODID:-//Morehead Planetarium and Science Center - ECPv6.13.2.1//NONSGML v1.0//EN
CALSCALE:GREGORIAN
METHOD:PUBLISH
X-WR-CALNAME:Morehead Planetarium and Science Center
X-ORIGINAL-URL:https://moreheadplanetarium.org
X-WR-CALDESC:Events for Morehead Planetarium and Science Center
REFRESH-INTERVAL;VALUE=DURATION:PT1H
X-Robots-Tag:noindex
X-PUBLISHED-TTL:PT1H
BEGIN:VTIMEZONE
TZID:America/New_York
BEGIN:DAYLIGHT
TZOFFSETFROM:-0500
TZOFFSETTO:-0400
TZNAME:EDT
DTSTART:20200308T070000
END:DAYLIGHT
BEGIN:STANDARD
TZOFFSETFROM:-0400
TZOFFSETTO:-0500
TZNAME:EST
DTSTART:20201101T060000
END:STANDARD
BEGIN:DAYLIGHT
TZOFFSETFROM:-0500
TZOFFSETTO:-0400
TZNAME:EDT
DTSTART:20210314T070000
END:DAYLIGHT
BEGIN:STANDARD
TZOFFSETFROM:-0400
TZOFFSETTO:-0500
TZNAME:EST
DTSTART:20211107T060000
END:STANDARD
BEGIN:DAYLIGHT
TZOFFSETFROM:-0500
TZOFFSETTO:-0400
TZNAME:EDT
DTSTART:20220313T070000
END:DAYLIGHT
BEGIN:STANDARD
TZOFFSETFROM:-0400
TZOFFSETTO:-0500
TZNAME:EST
DTSTART:20221106T060000
END:STANDARD
BEGIN:DAYLIGHT
TZOFFSETFROM:-0500
TZOFFSETTO:-0400
TZNAME:EDT
DTSTART:20230312T070000
END:DAYLIGHT
BEGIN:STANDARD
TZOFFSETFROM:-0400
TZOFFSETTO:-0500
TZNAME:EST
DTSTART:20231105T060000
END:STANDARD
END:VTIMEZONE
BEGIN:VEVENT
DTSTART;TZID=America/New_York:20230930T150000
DTEND;TZID=America/New_York:20230930T160000
DTSTAMP:20260422T102713
CREATED:20230816T132222Z
LAST-MODIFIED:20230816T132222Z
UID:29441-1696086000-1696089600@moreheadplanetarium.org
SUMMARY:The Sun: Our Living Star
DESCRIPTION:
URL:https://moreheadplanetarium.org/calendar/the-sun-our-living-star-26/
CATEGORIES:Planetarium Shows
END:VEVENT
BEGIN:VEVENT
DTSTART;TZID=America/New_York:20230923T150000
DTEND;TZID=America/New_York:20230923T160000
DTSTAMP:20260422T102713
CREATED:20230816T132224Z
LAST-MODIFIED:20230816T132224Z
UID:29431-1695481200-1695484800@moreheadplanetarium.org
SUMMARY:The Sun: Our Living Star
DESCRIPTION:
URL:https://moreheadplanetarium.org/calendar/the-sun-our-living-star-27/
CATEGORIES:Planetarium Shows
END:VEVENT
BEGIN:VEVENT
DTSTART;TZID=America/New_York:20230916T150000
DTEND;TZID=America/New_York:20230916T160000
DTSTAMP:20260422T102713
CREATED:20230816T132304Z
LAST-MODIFIED:20230816T132304Z
UID:29421-1694876400-1694880000@moreheadplanetarium.org
SUMMARY:The Sun: Our Living Star
DESCRIPTION:
URL:https://moreheadplanetarium.org/calendar/the-sun-our-living-star-28/
CATEGORIES:Planetarium Shows
END:VEVENT
BEGIN:VEVENT
DTSTART;TZID=America/New_York:20230909T150000
DTEND;TZID=America/New_York:20230909T160000
DTSTAMP:20260422T102713
CREATED:20230816T132305Z
LAST-MODIFIED:20230816T132305Z
UID:29411-1694271600-1694275200@moreheadplanetarium.org
SUMMARY:The Sun: Our Living Star
DESCRIPTION:
URL:https://moreheadplanetarium.org/calendar/the-sun-our-living-star-29/
CATEGORIES:Planetarium Shows
END:VEVENT
BEGIN:VEVENT
DTSTART;TZID=America/New_York:20230902T150000
DTEND;TZID=America/New_York:20230902T160000
DTSTAMP:20260422T102713
CREATED:20230816T132331Z
LAST-MODIFIED:20230816T132331Z
UID:29401-1693666800-1693670400@moreheadplanetarium.org
SUMMARY:The Sun: Our Living Star
DESCRIPTION:
URL:https://moreheadplanetarium.org/calendar/the-sun-our-living-star-30/
CATEGORIES:Planetarium Shows
END:VEVENT
BEGIN:VEVENT
DTSTART;TZID=America/New_York:20230805T120000
DTEND;TZID=America/New_York:20230805T130000
DTSTAMP:20260422T102713
CREATED:20230614T130049Z
LAST-MODIFIED:20230614T130049Z
UID:28767-1691236800-1691240400@moreheadplanetarium.org
SUMMARY:The Sun: Our Living Star
DESCRIPTION:
URL:https://moreheadplanetarium.org/calendar/the-sun-our-living-star-16/
LOCATION:GSK Fulldome Theater
CATEGORIES:Planetarium Shows
END:VEVENT
BEGIN:VEVENT
DTSTART;TZID=America/New_York:20230722T120000
DTEND;TZID=America/New_York:20230722T130000
DTSTAMP:20260422T102713
CREATED:20230602T121742Z
LAST-MODIFIED:20230614T123908Z
UID:28663-1690027200-1690030800@moreheadplanetarium.org
SUMMARY:The Sun: Our Living Star
DESCRIPTION:
URL:https://moreheadplanetarium.org/calendar/the-sun-our-living-star-18/
LOCATION:GSK Fulldome Theater
CATEGORIES:Planetarium Shows
END:VEVENT
BEGIN:VEVENT
DTSTART;TZID=America/New_York:20230708T120000
DTEND;TZID=America/New_York:20230708T130000
DTSTAMP:20260422T102713
CREATED:20230420T143028Z
LAST-MODIFIED:20230614T123743Z
UID:28160-1688817600-1688821200@moreheadplanetarium.org
SUMMARY:The Sun: Our Living Star
DESCRIPTION:
URL:https://moreheadplanetarium.org/calendar/the-sun-our-living-star-17/
LOCATION:GSK Fulldome Theater
CATEGORIES:Planetarium Shows
END:VEVENT
BEGIN:VEVENT
DTSTART;TZID=America/New_York:20220529T150000
DTEND;TZID=America/New_York:20220529T160000
DTSTAMP:20260422T102713
CREATED:20220410T213930Z
LAST-MODIFIED:20220410T213930Z
UID:23303-1653836400-1653840000@moreheadplanetarium.org
SUMMARY:The Sun: Our Living Star
DESCRIPTION:
URL:https://moreheadplanetarium.org/calendar/the-sun-our-living-star-15/
LOCATION:GSK Fulldome Theater
CATEGORIES:Planetarium Shows
END:VEVENT
BEGIN:VEVENT
DTSTART;TZID=America/New_York:20220522T150000
DTEND;TZID=America/New_York:20220522T160000
DTSTAMP:20260422T102713
CREATED:20220410T213927Z
LAST-MODIFIED:20220410T213927Z
UID:23295-1653231600-1653235200@moreheadplanetarium.org
SUMMARY:The Sun: Our Living Star
DESCRIPTION:
URL:https://moreheadplanetarium.org/calendar/the-sun-our-living-star-14/
LOCATION:GSK Fulldome Theater
CATEGORIES:Planetarium Shows
END:VEVENT
BEGIN:VEVENT
DTSTART;TZID=America/New_York:20220515T150000
DTEND;TZID=America/New_York:20220515T160000
DTSTAMP:20260422T102713
CREATED:20220410T213925Z
LAST-MODIFIED:20220410T213925Z
UID:23287-1652626800-1652630400@moreheadplanetarium.org
SUMMARY:The Sun: Our Living Star
DESCRIPTION:
URL:https://moreheadplanetarium.org/calendar/the-sun-our-living-star-13/
LOCATION:GSK Fulldome Theater
CATEGORIES:Planetarium Shows
END:VEVENT
BEGIN:VEVENT
DTSTART;TZID=America/New_York:20220501T150000
DTEND;TZID=America/New_York:20220501T160000
DTSTAMP:20260422T102713
CREATED:20220220T193707Z
LAST-MODIFIED:20220410T213921Z
UID:22859-1651417200-1651420800@moreheadplanetarium.org
SUMMARY:The Sun: Our Living Star
DESCRIPTION:
URL:https://moreheadplanetarium.org/calendar/the-sun-our-living-star-12/
LOCATION:GSK Fulldome Theater
CATEGORIES:Planetarium Shows
END:VEVENT
BEGIN:VEVENT
DTSTART;TZID=America/New_York:20220424T150000
DTEND;TZID=America/New_York:20220424T160000
DTSTAMP:20260422T102713
CREATED:20220220T193705Z
LAST-MODIFIED:20220410T213919Z
UID:22851-1650812400-1650816000@moreheadplanetarium.org
SUMMARY:The Sun: Our Living Star
DESCRIPTION:
URL:https://moreheadplanetarium.org/calendar/the-sun-our-living-star-11/
LOCATION:GSK Fulldome Theater
CATEGORIES:Planetarium Shows
END:VEVENT
BEGIN:VEVENT
DTSTART;TZID=America/New_York:20220417T150000
DTEND;TZID=America/New_York:20220417T160000
DTSTAMP:20260422T102713
CREATED:20220220T193703Z
LAST-MODIFIED:20220410T213917Z
UID:22843-1650207600-1650211200@moreheadplanetarium.org
SUMMARY:The Sun: Our Living Star
DESCRIPTION:
URL:https://moreheadplanetarium.org/calendar/the-sun-our-living-star-10/
LOCATION:GSK Fulldome Theater
CATEGORIES:Planetarium Shows
END:VEVENT
BEGIN:VEVENT
DTSTART;TZID=America/New_York:20220410T150000
DTEND;TZID=America/New_York:20220410T160000
DTSTAMP:20260422T102713
CREATED:20220220T193700Z
LAST-MODIFIED:20220410T213916Z
UID:22835-1649602800-1649606400@moreheadplanetarium.org
SUMMARY:The Sun: Our Living Star
DESCRIPTION:
URL:https://moreheadplanetarium.org/calendar/the-sun-our-living-star-9/
LOCATION:GSK Fulldome Theater
CATEGORIES:Planetarium Shows
END:VEVENT
BEGIN:VEVENT
DTSTART;TZID=America/New_York:20220403T150000
DTEND;TZID=America/New_York:20220403T160000
DTSTAMP:20260422T102713
CREATED:20220204T213258Z
LAST-MODIFIED:20220220T193658Z
UID:22610-1648998000-1649001600@moreheadplanetarium.org
SUMMARY:The Sun: Our Living Star
DESCRIPTION:
URL:https://moreheadplanetarium.org/calendar/the-sun-our-living-star-8/
LOCATION:GSK Fulldome Theater
CATEGORIES:Planetarium Shows
END:VEVENT
BEGIN:VEVENT
DTSTART;TZID=America/New_York:20220327T150000
DTEND;TZID=America/New_York:20220327T160000
DTSTAMP:20260422T102713
CREATED:20220204T213255Z
LAST-MODIFIED:20220220T193656Z
UID:22602-1648393200-1648396800@moreheadplanetarium.org
SUMMARY:The Sun: Our Living Star
DESCRIPTION:
URL:https://moreheadplanetarium.org/calendar/the-sun-our-living-star-7/
LOCATION:GSK Fulldome Theater
CATEGORIES:Planetarium Shows
END:VEVENT
BEGIN:VEVENT
DTSTART;TZID=America/New_York:20220320T150000
DTEND;TZID=America/New_York:20220320T160000
DTSTAMP:20260422T102713
CREATED:20220204T213252Z
LAST-MODIFIED:20220220T193655Z
UID:22594-1647788400-1647792000@moreheadplanetarium.org
SUMMARY:The Sun: Our Living Star
DESCRIPTION:
URL:https://moreheadplanetarium.org/calendar/the-sun-our-living-star-6/
LOCATION:GSK Fulldome Theater
CATEGORIES:Planetarium Shows
END:VEVENT
BEGIN:VEVENT
DTSTART;TZID=America/New_York:20220313T150000
DTEND;TZID=America/New_York:20220313T160000
DTSTAMP:20260422T102713
CREATED:20220204T213250Z
LAST-MODIFIED:20220220T193653Z
UID:22586-1647183600-1647187200@moreheadplanetarium.org
SUMMARY:The Sun: Our Living Star
DESCRIPTION:
URL:https://moreheadplanetarium.org/calendar/the-sun-our-living-star-5/
LOCATION:GSK Fulldome Theater
CATEGORIES:Planetarium Shows
END:VEVENT
BEGIN:VEVENT
DTSTART;TZID=America/New_York:20220306T150000
DTEND;TZID=America/New_York:20220306T160000
DTSTAMP:20260422T102713
CREATED:20220204T213247Z
LAST-MODIFIED:20220220T193652Z
UID:22578-1646578800-1646582400@moreheadplanetarium.org
SUMMARY:The Sun: Our Living Star
DESCRIPTION:
URL:https://moreheadplanetarium.org/calendar/the-sun-our-living-star-4/
LOCATION:GSK Fulldome Theater
CATEGORIES:Planetarium Shows
END:VEVENT
BEGIN:VEVENT
DTSTART;TZID=America/New_York:20201121T140000
DTEND;TZID=America/New_York:20201121T160000
DTSTAMP:20260422T102713
CREATED:20201022T150316Z
LAST-MODIFIED:20201121T174154Z
UID:18971-1605967200-1605974400@moreheadplanetarium.org
SUMMARY:The Sun: Our Living Star
DESCRIPTION:
URL:https://moreheadplanetarium.org/calendar/the-sun-our-living-star-3/
LOCATION:GSK Fulldome Theater
CATEGORIES:Planetarium Shows
END:VEVENT
BEGIN:VEVENT
DTSTART;TZID=America/New_York:20201114T140000
DTEND;TZID=America/New_York:20201114T160000
DTSTAMP:20260422T102713
CREATED:20201022T150313Z
LAST-MODIFIED:20201114T172804Z
UID:18962-1605362400-1605369600@moreheadplanetarium.org
SUMMARY:The Sun: Our Living Star
DESCRIPTION:
URL:https://moreheadplanetarium.org/calendar/the-sun-our-living-star-2/
LOCATION:GSK Fulldome Theater
CATEGORIES:Planetarium Shows
END:VEVENT
BEGIN:VEVENT
DTSTART;TZID=America/New_York:20201107T140000
DTEND;TZID=America/New_York:20201107T160000
DTSTAMP:20260422T102713
CREATED:20201022T150310Z
LAST-MODIFIED:20201022T150310Z
UID:18953-1604757600-1604764800@moreheadplanetarium.org
SUMMARY:The Sun: Our Living Star
DESCRIPTION:
URL:https://moreheadplanetarium.org/calendar/the-sun-our-living-star/
LOCATION:GSK Fulldome Theater
CATEGORIES:Planetarium Shows
END:VEVENT
END:VCALENDAR