BEGIN:VCALENDAR
VERSION:2.0
PRODID:-//Morehead Planetarium and Science Center - ECPv6.13.2.1//NONSGML v1.0//EN
CALSCALE:GREGORIAN
METHOD:PUBLISH
X-WR-CALNAME:Morehead Planetarium and Science Center
X-ORIGINAL-URL:https://moreheadplanetarium.org
X-WR-CALDESC:Events for Morehead Planetarium and Science Center
REFRESH-INTERVAL;VALUE=DURATION:PT1H
X-Robots-Tag:noindex
X-PUBLISHED-TTL:PT1H
BEGIN:VTIMEZONE
TZID:America/New_York
BEGIN:DAYLIGHT
TZOFFSETFROM:-0500
TZOFFSETTO:-0400
TZNAME:EDT
DTSTART:20220313T070000
END:DAYLIGHT
BEGIN:STANDARD
TZOFFSETFROM:-0400
TZOFFSETTO:-0500
TZNAME:EST
DTSTART:20221106T060000
END:STANDARD
BEGIN:DAYLIGHT
TZOFFSETFROM:-0500
TZOFFSETTO:-0400
TZNAME:EDT
DTSTART:20230312T070000
END:DAYLIGHT
BEGIN:STANDARD
TZOFFSETFROM:-0400
TZOFFSETTO:-0500
TZNAME:EST
DTSTART:20231105T060000
END:STANDARD
BEGIN:DAYLIGHT
TZOFFSETFROM:-0500
TZOFFSETTO:-0400
TZNAME:EDT
DTSTART:20240310T070000
END:DAYLIGHT
BEGIN:STANDARD
TZOFFSETFROM:-0400
TZOFFSETTO:-0500
TZNAME:EST
DTSTART:20241103T060000
END:STANDARD
END:VTIMEZONE
BEGIN:VEVENT
DTSTART;TZID=America/New_York:20240609T133000
DTEND;TZID=America/New_York:20240609T143000
DTSTAMP:20260422T054026
CREATED:20240125T234133Z
LAST-MODIFIED:20240125T234133Z
UID:32120-1717939800-1717943400@moreheadplanetarium.org
SUMMARY:The Sun: Our Living Star
DESCRIPTION:
URL:https://moreheadplanetarium.org/calendar/the-sun-our-living-star-44/
END:VEVENT
BEGIN:VEVENT
DTSTART;TZID=America/New_York:20240602T133000
DTEND;TZID=America/New_York:20240602T143000
DTSTAMP:20260422T054026
CREATED:20240125T194516Z
LAST-MODIFIED:20240125T224738Z
UID:31931-1717335000-1717338600@moreheadplanetarium.org
SUMMARY:The Sun: Our Living Star
DESCRIPTION:
URL:https://moreheadplanetarium.org/calendar/the-sun-our-living-star-43/
CATEGORIES:Planetarium Shows
END:VEVENT
BEGIN:VEVENT
DTSTART;TZID=America/New_York:20240526T133000
DTEND;TZID=America/New_York:20240526T143000
DTSTAMP:20260422T054026
CREATED:20240125T224337Z
LAST-MODIFIED:20240125T224337Z
UID:32100-1716730200-1716733800@moreheadplanetarium.org
SUMMARY:The Sun: Our Living Star
DESCRIPTION:
URL:https://moreheadplanetarium.org/calendar/the-sun-our-living-star-42/
CATEGORIES:Planetarium Shows
END:VEVENT
BEGIN:VEVENT
DTSTART;TZID=America/New_York:20240519T133000
DTEND;TZID=America/New_York:20240519T143000
DTSTAMP:20260422T054026
CREATED:20240125T193939Z
LAST-MODIFIED:20240125T224258Z
UID:31911-1716125400-1716129000@moreheadplanetarium.org
SUMMARY:The Sun: Our Living Star
DESCRIPTION:
URL:https://moreheadplanetarium.org/calendar/the-sun-our-living-star-41/
END:VEVENT
BEGIN:VEVENT
DTSTART;TZID=America/New_York:20240505T133000
DTEND;TZID=America/New_York:20240505T143000
DTSTAMP:20260422T054026
CREATED:20240125T223934Z
LAST-MODIFIED:20240125T223934Z
UID:32078-1714915800-1714919400@moreheadplanetarium.org
SUMMARY:The Sun: Our Living Star
DESCRIPTION:
URL:https://moreheadplanetarium.org/calendar/the-sun-our-living-star-40/
CATEGORIES:Planetarium Shows
END:VEVENT
BEGIN:VEVENT
DTSTART;TZID=America/New_York:20240428T133000
DTEND;TZID=America/New_York:20240428T143000
DTSTAMP:20260422T054026
CREATED:20240125T193528Z
LAST-MODIFIED:20240125T223833Z
UID:31890-1714311000-1714314600@moreheadplanetarium.org
SUMMARY:The Sun: Our Living Star
DESCRIPTION:
URL:https://moreheadplanetarium.org/calendar/the-sun-our-living-star-39/
CATEGORIES:Planetarium Shows
END:VEVENT
BEGIN:VEVENT
DTSTART;TZID=America/New_York:20240421T133000
DTEND;TZID=America/New_York:20240421T143000
DTSTAMP:20260422T054026
CREATED:20240125T193458Z
LAST-MODIFIED:20240125T215341Z
UID:31880-1713706200-1713709800@moreheadplanetarium.org
SUMMARY:The Sun: Our Living Star
DESCRIPTION:
URL:https://moreheadplanetarium.org/calendar/the-sun-our-living-star-38/
CATEGORIES:Planetarium Shows
END:VEVENT
BEGIN:VEVENT
DTSTART;TZID=America/New_York:20240414T133000
DTEND;TZID=America/New_York:20240414T143000
DTSTAMP:20260422T054026
CREATED:20240125T193428Z
LAST-MODIFIED:20240125T214939Z
UID:31871-1713101400-1713105000@moreheadplanetarium.org
SUMMARY:The Sun: Our Living Star
DESCRIPTION:
URL:https://moreheadplanetarium.org/calendar/the-sun-our-living-star-37/
CATEGORIES:Planetarium Shows
END:VEVENT
BEGIN:VEVENT
DTSTART;TZID=America/New_York:20240331T133000
DTEND;TZID=America/New_York:20240331T143000
DTSTAMP:20260422T054026
CREATED:20240125T193312Z
LAST-MODIFIED:20240125T214458Z
UID:31851-1711891800-1711895400@moreheadplanetarium.org
SUMMARY:The Sun: Our Living Star
DESCRIPTION:
URL:https://moreheadplanetarium.org/calendar/the-sun-our-living-star-35/
CATEGORIES:Planetarium Shows
END:VEVENT
BEGIN:VEVENT
DTSTART;TZID=America/New_York:20240324T133000
DTEND;TZID=America/New_York:20240324T143000
DTSTAMP:20260422T054026
CREATED:20240125T193243Z
LAST-MODIFIED:20240125T214258Z
UID:31843-1711287000-1711290600@moreheadplanetarium.org
SUMMARY:The Sun: Our Living Star
DESCRIPTION:
URL:https://moreheadplanetarium.org/calendar/the-sun-our-living-star-34/
CATEGORIES:Planetarium Shows
END:VEVENT
BEGIN:VEVENT
DTSTART;TZID=America/New_York:20240317T133000
DTEND;TZID=America/New_York:20240317T143000
DTSTAMP:20260422T054026
CREATED:20240125T193213Z
LAST-MODIFIED:20240125T214041Z
UID:31833-1710682200-1710685800@moreheadplanetarium.org
SUMMARY:The Sun: Our Living Star
DESCRIPTION:
URL:https://moreheadplanetarium.org/calendar/the-sun-our-living-star-33/
CATEGORIES:Planetarium Shows
END:VEVENT
BEGIN:VEVENT
DTSTART;TZID=America/New_York:20240310T133000
DTEND;TZID=America/New_York:20240310T143000
DTSTAMP:20260422T054026
CREATED:20240125T193143Z
LAST-MODIFIED:20240125T214005Z
UID:31824-1710077400-1710081000@moreheadplanetarium.org
SUMMARY:The Sun: Our Living Star
DESCRIPTION:
URL:https://moreheadplanetarium.org/calendar/the-sun-our-living-star-32/
CATEGORIES:Planetarium Shows
END:VEVENT
BEGIN:VEVENT
DTSTART;TZID=America/New_York:20240303T133000
DTEND;TZID=America/New_York:20240303T143000
DTSTAMP:20260422T054026
CREATED:20240125T193023Z
LAST-MODIFIED:20240303T193648Z
UID:31814-1709472600-1709476200@moreheadplanetarium.org
SUMMARY:[CANCELLED] The Sun: Our Living Star
DESCRIPTION:
URL:https://moreheadplanetarium.org/calendar/the-sun-our-living-star-31/
CATEGORIES:Planetarium Shows
END:VEVENT
BEGIN:VEVENT
DTSTART;TZID=America/New_York:20231118T150000
DTEND;TZID=America/New_York:20231118T160000
DTSTAMP:20260422T054026
CREATED:20230816T131442Z
LAST-MODIFIED:20230816T131442Z
UID:29512-1700319600-1700323200@moreheadplanetarium.org
SUMMARY:The Sun: Our Living Star
DESCRIPTION:
URL:https://moreheadplanetarium.org/calendar/the-sun-our-living-star-19/
CATEGORIES:Planetarium Shows
END:VEVENT
BEGIN:VEVENT
DTSTART;TZID=America/New_York:20231111T150000
DTEND;TZID=America/New_York:20231111T160000
DTSTAMP:20260422T054026
CREATED:20230816T131515Z
LAST-MODIFIED:20230816T131515Z
UID:29502-1699714800-1699718400@moreheadplanetarium.org
SUMMARY:The Sun: Our Living Star
DESCRIPTION:
URL:https://moreheadplanetarium.org/calendar/the-sun-our-living-star-20/
CATEGORIES:Planetarium Shows
END:VEVENT
BEGIN:VEVENT
DTSTART;TZID=America/New_York:20231104T150000
DTEND;TZID=America/New_York:20231104T160000
DTSTAMP:20260422T054026
CREATED:20230816T131517Z
LAST-MODIFIED:20230816T131517Z
UID:29492-1699110000-1699113600@moreheadplanetarium.org
SUMMARY:The Sun: Our Living Star
DESCRIPTION:
URL:https://moreheadplanetarium.org/calendar/the-sun-our-living-star-21/
CATEGORIES:Planetarium Shows
END:VEVENT
BEGIN:VEVENT
DTSTART;TZID=America/New_York:20231028T150000
DTEND;TZID=America/New_York:20231028T160000
DTSTAMP:20260422T054026
CREATED:20230816T132052Z
LAST-MODIFIED:20230816T132052Z
UID:29482-1698505200-1698508800@moreheadplanetarium.org
SUMMARY:The Sun: Our Living Star
DESCRIPTION:
URL:https://moreheadplanetarium.org/calendar/the-sun-our-living-star-22/
CATEGORIES:Planetarium Shows
END:VEVENT
BEGIN:VEVENT
DTSTART;TZID=America/New_York:20231021T150000
DTEND;TZID=America/New_York:20231021T160000
DTSTAMP:20260422T054026
CREATED:20230816T132053Z
LAST-MODIFIED:20230816T132053Z
UID:29471-1697900400-1697904000@moreheadplanetarium.org
SUMMARY:The Sun: Our Living Star
DESCRIPTION:
URL:https://moreheadplanetarium.org/calendar/the-sun-our-living-star-23/
CATEGORIES:Planetarium Shows
END:VEVENT
BEGIN:VEVENT
DTSTART;TZID=America/New_York:20231014T150000
DTEND;TZID=America/New_York:20231014T160000
DTSTAMP:20260422T054026
CREATED:20230816T132139Z
LAST-MODIFIED:20230816T132139Z
UID:29461-1697295600-1697299200@moreheadplanetarium.org
SUMMARY:The Sun: Our Living Star
DESCRIPTION:
URL:https://moreheadplanetarium.org/calendar/the-sun-our-living-star-24/
CATEGORIES:Planetarium Shows
END:VEVENT
BEGIN:VEVENT
DTSTART;TZID=America/New_York:20231007T150000
DTEND;TZID=America/New_York:20231007T160000
DTSTAMP:20260422T054026
CREATED:20230816T132140Z
LAST-MODIFIED:20230816T132140Z
UID:29451-1696690800-1696694400@moreheadplanetarium.org
SUMMARY:The Sun: Our Living Star
DESCRIPTION:
URL:https://moreheadplanetarium.org/calendar/the-sun-our-living-star-25/
CATEGORIES:Planetarium Shows
END:VEVENT
BEGIN:VEVENT
DTSTART;TZID=America/New_York:20230930T150000
DTEND;TZID=America/New_York:20230930T160000
DTSTAMP:20260422T054026
CREATED:20230816T132222Z
LAST-MODIFIED:20230816T132222Z
UID:29441-1696086000-1696089600@moreheadplanetarium.org
SUMMARY:The Sun: Our Living Star
DESCRIPTION:
URL:https://moreheadplanetarium.org/calendar/the-sun-our-living-star-26/
CATEGORIES:Planetarium Shows
END:VEVENT
BEGIN:VEVENT
DTSTART;TZID=America/New_York:20230923T150000
DTEND;TZID=America/New_York:20230923T160000
DTSTAMP:20260422T054026
CREATED:20230816T132224Z
LAST-MODIFIED:20230816T132224Z
UID:29431-1695481200-1695484800@moreheadplanetarium.org
SUMMARY:The Sun: Our Living Star
DESCRIPTION:
URL:https://moreheadplanetarium.org/calendar/the-sun-our-living-star-27/
CATEGORIES:Planetarium Shows
END:VEVENT
BEGIN:VEVENT
DTSTART;TZID=America/New_York:20230916T150000
DTEND;TZID=America/New_York:20230916T160000
DTSTAMP:20260422T054026
CREATED:20230816T132304Z
LAST-MODIFIED:20230816T132304Z
UID:29421-1694876400-1694880000@moreheadplanetarium.org
SUMMARY:The Sun: Our Living Star
DESCRIPTION:
URL:https://moreheadplanetarium.org/calendar/the-sun-our-living-star-28/
CATEGORIES:Planetarium Shows
END:VEVENT
BEGIN:VEVENT
DTSTART;TZID=America/New_York:20230909T150000
DTEND;TZID=America/New_York:20230909T160000
DTSTAMP:20260422T054026
CREATED:20230816T132305Z
LAST-MODIFIED:20230816T132305Z
UID:29411-1694271600-1694275200@moreheadplanetarium.org
SUMMARY:The Sun: Our Living Star
DESCRIPTION:
URL:https://moreheadplanetarium.org/calendar/the-sun-our-living-star-29/
CATEGORIES:Planetarium Shows
END:VEVENT
BEGIN:VEVENT
DTSTART;TZID=America/New_York:20230902T150000
DTEND;TZID=America/New_York:20230902T160000
DTSTAMP:20260422T054026
CREATED:20230816T132331Z
LAST-MODIFIED:20230816T132331Z
UID:29401-1693666800-1693670400@moreheadplanetarium.org
SUMMARY:The Sun: Our Living Star
DESCRIPTION:
URL:https://moreheadplanetarium.org/calendar/the-sun-our-living-star-30/
CATEGORIES:Planetarium Shows
END:VEVENT
BEGIN:VEVENT
DTSTART;TZID=America/New_York:20230805T120000
DTEND;TZID=America/New_York:20230805T130000
DTSTAMP:20260422T054026
CREATED:20230614T130049Z
LAST-MODIFIED:20230614T130049Z
UID:28767-1691236800-1691240400@moreheadplanetarium.org
SUMMARY:The Sun: Our Living Star
DESCRIPTION:
URL:https://moreheadplanetarium.org/calendar/the-sun-our-living-star-16/
LOCATION:GSK Fulldome Theater
CATEGORIES:Planetarium Shows
END:VEVENT
BEGIN:VEVENT
DTSTART;TZID=America/New_York:20230722T120000
DTEND;TZID=America/New_York:20230722T130000
DTSTAMP:20260422T054026
CREATED:20230602T121742Z
LAST-MODIFIED:20230614T123908Z
UID:28663-1690027200-1690030800@moreheadplanetarium.org
SUMMARY:The Sun: Our Living Star
DESCRIPTION:
URL:https://moreheadplanetarium.org/calendar/the-sun-our-living-star-18/
LOCATION:GSK Fulldome Theater
CATEGORIES:Planetarium Shows
END:VEVENT
BEGIN:VEVENT
DTSTART;TZID=America/New_York:20230708T120000
DTEND;TZID=America/New_York:20230708T130000
DTSTAMP:20260422T054026
CREATED:20230420T143028Z
LAST-MODIFIED:20230614T123743Z
UID:28160-1688817600-1688821200@moreheadplanetarium.org
SUMMARY:The Sun: Our Living Star
DESCRIPTION:
URL:https://moreheadplanetarium.org/calendar/the-sun-our-living-star-17/
LOCATION:GSK Fulldome Theater
CATEGORIES:Planetarium Shows
END:VEVENT
BEGIN:VEVENT
DTSTART;TZID=America/New_York:20220529T150000
DTEND;TZID=America/New_York:20220529T160000
DTSTAMP:20260422T054026
CREATED:20220410T213930Z
LAST-MODIFIED:20220410T213930Z
UID:23303-1653836400-1653840000@moreheadplanetarium.org
SUMMARY:The Sun: Our Living Star
DESCRIPTION:
URL:https://moreheadplanetarium.org/calendar/the-sun-our-living-star-15/
LOCATION:GSK Fulldome Theater
CATEGORIES:Planetarium Shows
END:VEVENT
BEGIN:VEVENT
DTSTART;TZID=America/New_York:20220522T150000
DTEND;TZID=America/New_York:20220522T160000
DTSTAMP:20260422T054026
CREATED:20220410T213927Z
LAST-MODIFIED:20220410T213927Z
UID:23295-1653231600-1653235200@moreheadplanetarium.org
SUMMARY:The Sun: Our Living Star
DESCRIPTION:
URL:https://moreheadplanetarium.org/calendar/the-sun-our-living-star-14/
LOCATION:GSK Fulldome Theater
CATEGORIES:Planetarium Shows
END:VEVENT
END:VCALENDAR