BEGIN:VCALENDAR
VERSION:2.0
PRODID:-//Morehead Planetarium and Science Center - ECPv6.13.2.1//NONSGML v1.0//EN
CALSCALE:GREGORIAN
METHOD:PUBLISH
X-WR-CALNAME:Morehead Planetarium and Science Center
X-ORIGINAL-URL:https://moreheadplanetarium.org
X-WR-CALDESC:Events for Morehead Planetarium and Science Center
REFRESH-INTERVAL;VALUE=DURATION:PT1H
X-Robots-Tag:noindex
X-PUBLISHED-TTL:PT1H
BEGIN:VTIMEZONE
TZID:America/New_York
BEGIN:DAYLIGHT
TZOFFSETFROM:-0500
TZOFFSETTO:-0400
TZNAME:EDT
DTSTART:20210314T070000
END:DAYLIGHT
BEGIN:STANDARD
TZOFFSETFROM:-0400
TZOFFSETTO:-0500
TZNAME:EST
DTSTART:20211107T060000
END:STANDARD
END:VTIMEZONE
BEGIN:VEVENT
DTSTART;TZID=America/New_York:20210814T100000
DTEND;TZID=America/New_York:20210814T120000
DTSTAMP:20260419T114943
CREATED:20210708T173253Z
LAST-MODIFIED:20210708T173253Z
UID:20927-1628935200-1628942400@moreheadplanetarium.org
SUMMARY:Little Star that Could
DESCRIPTION:
URL:https://moreheadplanetarium.org/calendar/little-star-that-could-2/
LOCATION:GSK Fulldome Theater
CATEGORIES:05 Planetarium Shows
END:VEVENT
BEGIN:VEVENT
DTSTART;TZID=America/New_York:20210807T100000
DTEND;TZID=America/New_York:20210807T120000
DTSTAMP:20260419T114943
CREATED:20210708T173250Z
LAST-MODIFIED:20210708T173250Z
UID:20921-1628330400-1628337600@moreheadplanetarium.org
SUMMARY:Little Star that Could
DESCRIPTION:
URL:https://moreheadplanetarium.org/calendar/little-star-that-could/
LOCATION:GSK Fulldome Theater
CATEGORIES:05 Planetarium Shows
END:VEVENT
END:VCALENDAR