BEGIN:VCALENDAR
VERSION:2.0
PRODID:-//Morehead Planetarium and Science Center - ECPv6.13.2.1//NONSGML v1.0//EN
CALSCALE:GREGORIAN
METHOD:PUBLISH
X-WR-CALNAME:Morehead Planetarium and Science Center
X-ORIGINAL-URL:https://moreheadplanetarium.org
X-WR-CALDESC:Events for Morehead Planetarium and Science Center
REFRESH-INTERVAL;VALUE=DURATION:PT1H
X-Robots-Tag:noindex
X-PUBLISHED-TTL:PT1H
BEGIN:VTIMEZONE
TZID:America/New_York
BEGIN:DAYLIGHT
TZOFFSETFROM:-0500
TZOFFSETTO:-0400
TZNAME:EDT
DTSTART:20250309T070000
END:DAYLIGHT
BEGIN:STANDARD
TZOFFSETFROM:-0400
TZOFFSETTO:-0500
TZNAME:EST
DTSTART:20251102T060000
END:STANDARD
END:VTIMEZONE
BEGIN:VEVENT
DTSTART;TZID=America/New_York:20250729T133000
DTEND;TZID=America/New_York:20250729T143000
DTSTAMP:20260423T013017
CREATED:20250523T151429Z
LAST-MODIFIED:20250523T151429Z
UID:36019-1753795800-1753799400@moreheadplanetarium.org
SUMMARY:The Sun: Our Living Star
DESCRIPTION:
URL:https://moreheadplanetarium.org/calendar/the-sun-our-living-star-52/
CATEGORIES:Planetarium Shows
END:VEVENT
BEGIN:VEVENT
DTSTART;TZID=America/New_York:20250731T133000
DTEND;TZID=America/New_York:20250731T143000
DTSTAMP:20260423T013017
CREATED:20250523T151631Z
LAST-MODIFIED:20250523T151631Z
UID:36027-1753968600-1753972200@moreheadplanetarium.org
SUMMARY:The Sun: Our Living Star
DESCRIPTION:
URL:https://moreheadplanetarium.org/calendar/the-sun-our-living-star-53/
CATEGORIES:Planetarium Shows
END:VEVENT
BEGIN:VEVENT
DTSTART;TZID=America/New_York:20250805T133000
DTEND;TZID=America/New_York:20250805T143000
DTSTAMP:20260423T013017
CREATED:20250523T152234Z
LAST-MODIFIED:20250523T152234Z
UID:36042-1754400600-1754404200@moreheadplanetarium.org
SUMMARY:The Sun: Our Living Star
DESCRIPTION:
URL:https://moreheadplanetarium.org/calendar/the-sun-our-living-star-54/
CATEGORIES:Planetarium Shows
END:VEVENT
BEGIN:VEVENT
DTSTART;TZID=America/New_York:20250807T133000
DTEND;TZID=America/New_York:20250807T143000
DTSTAMP:20260423T013017
CREATED:20250523T153232Z
LAST-MODIFIED:20250523T153232Z
UID:36050-1754573400-1754577000@moreheadplanetarium.org
SUMMARY:The Sun: Our Living Star
DESCRIPTION:
URL:https://moreheadplanetarium.org/calendar/the-sun-our-living-star-55/
CATEGORIES:Planetarium Shows
END:VEVENT
BEGIN:VEVENT
DTSTART;TZID=America/New_York:20250812T133000
DTEND;TZID=America/New_York:20250812T143000
DTSTAMP:20260423T013017
CREATED:20250523T153514Z
LAST-MODIFIED:20250523T153514Z
UID:36066-1755005400-1755009000@moreheadplanetarium.org
SUMMARY:The Sun: Our Living Star
DESCRIPTION:
URL:https://moreheadplanetarium.org/calendar/the-sun-our-living-star-56/
CATEGORIES:Planetarium Shows
END:VEVENT
BEGIN:VEVENT
DTSTART;TZID=America/New_York:20250814T133000
DTEND;TZID=America/New_York:20250814T143000
DTSTAMP:20260423T013017
CREATED:20250523T153600Z
LAST-MODIFIED:20250523T153600Z
UID:36074-1755178200-1755181800@moreheadplanetarium.org
SUMMARY:The Sun: Our Living Star
DESCRIPTION:
URL:https://moreheadplanetarium.org/calendar/the-sun-our-living-star-57/
CATEGORIES:Planetarium Shows
END:VEVENT
END:VCALENDAR