BEGIN:VCALENDAR
VERSION:2.0
PRODID:-//Morehead Planetarium and Science Center - ECPv6.13.2.1//NONSGML v1.0//EN
CALSCALE:GREGORIAN
METHOD:PUBLISH
X-WR-CALNAME:Morehead Planetarium and Science Center
X-ORIGINAL-URL:https://moreheadplanetarium.org
X-WR-CALDESC:Events for Morehead Planetarium and Science Center
REFRESH-INTERVAL;VALUE=DURATION:PT1H
X-Robots-Tag:noindex
X-PUBLISHED-TTL:PT1H
BEGIN:VTIMEZONE
TZID:America/New_York
BEGIN:DAYLIGHT
TZOFFSETFROM:-0500
TZOFFSETTO:-0400
TZNAME:EDT
DTSTART:20240310T070000
END:DAYLIGHT
BEGIN:STANDARD
TZOFFSETFROM:-0400
TZOFFSETTO:-0500
TZNAME:EST
DTSTART:20241103T060000
END:STANDARD
END:VTIMEZONE
BEGIN:VEVENT
DTSTART;TZID=America/New_York:20240802T150000
DTEND;TZID=America/New_York:20240802T160000
DTSTAMP:20260420T025037
CREATED:20240514T195748Z
LAST-MODIFIED:20240514T195748Z
UID:33461-1722610800-1722614400@moreheadplanetarium.org
SUMMARY:Phantom of the Universe
DESCRIPTION:
URL:https://moreheadplanetarium.org/calendar/phantom-of-the-universe-59/
CATEGORIES:Planetarium Shows
END:VEVENT
BEGIN:VEVENT
DTSTART;TZID=America/New_York:20240808T150000
DTEND;TZID=America/New_York:20240808T160000
DTSTAMP:20260420T025037
CREATED:20240514T203139Z
LAST-MODIFIED:20240514T203139Z
UID:33481-1723129200-1723132800@moreheadplanetarium.org
SUMMARY:Phantom of the Universe
DESCRIPTION:
URL:https://moreheadplanetarium.org/calendar/phantom-of-the-universe-60/
END:VEVENT
BEGIN:VEVENT
DTSTART;TZID=America/New_York:20240809T150000
DTEND;TZID=America/New_York:20240809T160000
DTSTAMP:20260420T025037
CREATED:20240514T203140Z
LAST-MODIFIED:20240514T203140Z
UID:33485-1723215600-1723219200@moreheadplanetarium.org
SUMMARY:Phantom of the Universe
DESCRIPTION:
URL:https://moreheadplanetarium.org/calendar/phantom-of-the-universe-61/
END:VEVENT
BEGIN:VEVENT
DTSTART;TZID=America/New_York:20240815T150000
DTEND;TZID=America/New_York:20240815T160000
DTSTAMP:20260420T025037
CREATED:20240514T213433Z
LAST-MODIFIED:20240514T213433Z
UID:33505-1723734000-1723737600@moreheadplanetarium.org
SUMMARY:Phantom of the Universe
DESCRIPTION:
URL:https://moreheadplanetarium.org/calendar/phantom-of-the-universe-62/
END:VEVENT
BEGIN:VEVENT
DTSTART;TZID=America/New_York:20240816T150000
DTEND;TZID=America/New_York:20240816T160000
DTSTAMP:20260420T025037
CREATED:20240514T214210Z
LAST-MODIFIED:20240514T214210Z
UID:33509-1723820400-1723824000@moreheadplanetarium.org
SUMMARY:Phantom of the Universe
DESCRIPTION:
URL:https://moreheadplanetarium.org/calendar/phantom-of-the-universe-63/
END:VEVENT
END:VCALENDAR