BEGIN:VCALENDAR
VERSION:2.0
PRODID:-//Morehead Planetarium and Science Center - ECPv6.13.2.1//NONSGML v1.0//EN
CALSCALE:GREGORIAN
METHOD:PUBLISH
X-WR-CALNAME:Morehead Planetarium and Science Center
X-ORIGINAL-URL:https://moreheadplanetarium.org
X-WR-CALDESC:Events for Morehead Planetarium and Science Center
REFRESH-INTERVAL;VALUE=DURATION:PT1H
X-Robots-Tag:noindex
X-PUBLISHED-TTL:PT1H
BEGIN:VTIMEZONE
TZID:America/New_York
BEGIN:DAYLIGHT
TZOFFSETFROM:-0500
TZOFFSETTO:-0400
TZNAME:EDT
DTSTART:20210314T070000
END:DAYLIGHT
BEGIN:STANDARD
TZOFFSETFROM:-0400
TZOFFSETTO:-0500
TZNAME:EST
DTSTART:20211107T060000
END:STANDARD
BEGIN:DAYLIGHT
TZOFFSETFROM:-0500
TZOFFSETTO:-0400
TZNAME:EDT
DTSTART:20220313T070000
END:DAYLIGHT
BEGIN:STANDARD
TZOFFSETFROM:-0400
TZOFFSETTO:-0500
TZNAME:EST
DTSTART:20221106T060000
END:STANDARD
BEGIN:DAYLIGHT
TZOFFSETFROM:-0500
TZOFFSETTO:-0400
TZNAME:EDT
DTSTART:20230312T070000
END:DAYLIGHT
BEGIN:STANDARD
TZOFFSETFROM:-0400
TZOFFSETTO:-0500
TZNAME:EST
DTSTART:20231105T060000
END:STANDARD
END:VTIMEZONE
BEGIN:VEVENT
DTSTART;TZID=America/New_York:20230114T120000
DTEND;TZID=America/New_York:20230114T130000
DTSTAMP:20260425T062408
CREATED:20221108T195330Z
LAST-MODIFIED:20230106T132350Z
UID:25330-1673697600-1673701200@moreheadplanetarium.org
SUMMARY:Galileo: The Power of the Telescope
DESCRIPTION:
URL:https://moreheadplanetarium.org/calendar/galileo-the-power-of-the-telescope-8/
LOCATION:GSK Fulldome Theater
CATEGORIES:Planetarium Shows
END:VEVENT
BEGIN:VEVENT
DTSTART;TZID=America/New_York:20221126T120000
DTEND;TZID=America/New_York:20221126T130000
DTSTAMP:20260425T062408
CREATED:20221108T195253Z
LAST-MODIFIED:20221108T195253Z
UID:25282-1669464000-1669467600@moreheadplanetarium.org
SUMMARY:Galileo: The Power of the Telescope
DESCRIPTION:
URL:https://moreheadplanetarium.org/calendar/galileo-the-power-of-the-telescope-6/
LOCATION:GSK Fulldome Theater
CATEGORIES:Planetarium Shows
END:VEVENT
BEGIN:VEVENT
DTSTART;TZID=America/New_York:20221029T120000
DTEND;TZID=America/New_York:20221029T130000
DTSTAMP:20260425T062408
CREATED:20220831T163942Z
LAST-MODIFIED:20221006T170324Z
UID:24454-1667044800-1667048400@moreheadplanetarium.org
SUMMARY:Galileo: The Power of the Telescope
DESCRIPTION:
URL:https://moreheadplanetarium.org/calendar/galileo-the-power-of-the-telescope-5/
LOCATION:GSK Fulldome Theater
CATEGORIES:Planetarium Shows
END:VEVENT
BEGIN:VEVENT
DTSTART;TZID=America/New_York:20221001T120000
DTEND;TZID=America/New_York:20221001T133000
DTSTAMP:20260425T062408
CREATED:20220930T173225Z
LAST-MODIFIED:20220930T173225Z
UID:24721-1664625600-1664631000@moreheadplanetarium.org
SUMMARY:Galileo: The Power of the Telescope
DESCRIPTION:
URL:https://moreheadplanetarium.org/calendar/galileo-the-power-of-the-telescope-7/
LOCATION:GSK Fulldome Theater
CATEGORIES:Planetarium Shows
END:VEVENT
BEGIN:VEVENT
DTSTART;TZID=America/New_York:20211120T120000
DTEND;TZID=America/New_York:20211120T130000
DTSTAMP:20260425T062408
CREATED:20210917T203924Z
LAST-MODIFIED:20211115T153926Z
UID:21671-1637409600-1637413200@moreheadplanetarium.org
SUMMARY:Galileo: The Power of the Telescope
DESCRIPTION:
URL:https://moreheadplanetarium.org/calendar/galileo-the-power-of-the-telescope-4/
LOCATION:GSK Fulldome Theater
CATEGORIES:05 Planetarium Shows
END:VEVENT
BEGIN:VEVENT
DTSTART;TZID=America/New_York:20211106T120000
DTEND;TZID=America/New_York:20211106T130000
DTSTAMP:20260425T062408
CREATED:20210917T203917Z
LAST-MODIFIED:20211016T204422Z
UID:21655-1636200000-1636203600@moreheadplanetarium.org
SUMMARY:Galileo: The Power of the Telescope
DESCRIPTION:
URL:https://moreheadplanetarium.org/calendar/galileo-the-power-of-the-telescope-3/
LOCATION:GSK Fulldome Theater
CATEGORIES:05 Planetarium Shows
END:VEVENT
BEGIN:VEVENT
DTSTART;TZID=America/New_York:20211023T120000
DTEND;TZID=America/New_York:20211023T130000
DTSTAMP:20260425T062408
CREATED:20210917T203909Z
LAST-MODIFIED:20211016T204419Z
UID:21639-1634990400-1634994000@moreheadplanetarium.org
SUMMARY:Galileo: The Power of the Telescope
DESCRIPTION:
URL:https://moreheadplanetarium.org/calendar/galileo-the-power-of-the-telescope-2/
LOCATION:GSK Fulldome Theater
CATEGORIES:05 Planetarium Shows
END:VEVENT
BEGIN:VEVENT
DTSTART;TZID=America/New_York:20211009T120000
DTEND;TZID=America/New_York:20211009T130000
DTSTAMP:20260425T062408
CREATED:20210917T203902Z
LAST-MODIFIED:20210929T171614Z
UID:21623-1633780800-1633784400@moreheadplanetarium.org
SUMMARY:Galileo: The Power of the Telescope
DESCRIPTION:
URL:https://moreheadplanetarium.org/calendar/galileo-the-power-of-the-telescope/
LOCATION:GSK Fulldome Theater
CATEGORIES:05 Planetarium Shows
END:VEVENT
END:VCALENDAR