BEGIN:VCALENDAR
VERSION:2.0
PRODID:-//Morehead Planetarium and Science Center - ECPv6.13.2.1//NONSGML v1.0//EN
CALSCALE:GREGORIAN
METHOD:PUBLISH
X-WR-CALNAME:Morehead Planetarium and Science Center
X-ORIGINAL-URL:https://moreheadplanetarium.org
X-WR-CALDESC:Events for Morehead Planetarium and Science Center
REFRESH-INTERVAL;VALUE=DURATION:PT1H
X-Robots-Tag:noindex
X-PUBLISHED-TTL:PT1H
BEGIN:VTIMEZONE
TZID:America/New_York
BEGIN:DAYLIGHT
TZOFFSETFROM:-0500
TZOFFSETTO:-0400
TZNAME:EDT
DTSTART:20200308T070000
END:DAYLIGHT
BEGIN:STANDARD
TZOFFSETFROM:-0400
TZOFFSETTO:-0500
TZNAME:EST
DTSTART:20201101T060000
END:STANDARD
BEGIN:DAYLIGHT
TZOFFSETFROM:-0500
TZOFFSETTO:-0400
TZNAME:EDT
DTSTART:20210314T070000
END:DAYLIGHT
BEGIN:STANDARD
TZOFFSETFROM:-0400
TZOFFSETTO:-0500
TZNAME:EST
DTSTART:20211107T060000
END:STANDARD
END:VTIMEZONE
BEGIN:VEVENT
DTSTART;TZID=America/New_York:20211127T133000
DTEND;TZID=America/New_York:20211127T143000
DTSTAMP:20260425T190729
CREATED:20210917T203928Z
LAST-MODIFIED:20211115T153928Z
UID:21680-1638019800-1638023400@moreheadplanetarium.org
SUMMARY:Earthquakes\, Volcanoes\, and Tsunamis
DESCRIPTION:
URL:https://moreheadplanetarium.org/calendar/earthquakes-volcanoes-and-tsunamis-35/
LOCATION:GSK Fulldome Theater
CATEGORIES:05 Planetarium Shows
END:VEVENT
BEGIN:VEVENT
DTSTART;TZID=America/New_York:20211120T133000
DTEND;TZID=America/New_York:20211120T143000
DTSTAMP:20260425T190729
CREATED:20210917T203925Z
LAST-MODIFIED:20211115T153926Z
UID:21672-1637415000-1637418600@moreheadplanetarium.org
SUMMARY:Earthquakes\, Volcanoes\, and Tsunamis
DESCRIPTION:
URL:https://moreheadplanetarium.org/calendar/earthquakes-volcanoes-and-tsunamis-34/
LOCATION:GSK Fulldome Theater
CATEGORIES:05 Planetarium Shows
END:VEVENT
BEGIN:VEVENT
DTSTART;TZID=America/New_York:20211113T133000
DTEND;TZID=America/New_York:20211113T143000
DTSTAMP:20260425T190729
CREATED:20210917T203921Z
LAST-MODIFIED:20211016T204423Z
UID:21664-1636810200-1636813800@moreheadplanetarium.org
SUMMARY:Earthquakes\, Volcanoes\, and Tsunamis
DESCRIPTION:
URL:https://moreheadplanetarium.org/calendar/earthquakes-volcanoes-and-tsunamis-33/
LOCATION:GSK Fulldome Theater
CATEGORIES:05 Planetarium Shows
END:VEVENT
BEGIN:VEVENT
DTSTART;TZID=America/New_York:20211106T133000
DTEND;TZID=America/New_York:20211106T143000
DTSTAMP:20260425T190729
CREATED:20210917T203918Z
LAST-MODIFIED:20211016T204422Z
UID:21656-1636205400-1636209000@moreheadplanetarium.org
SUMMARY:Earthquakes\, Volcanoes\, and Tsunamis
DESCRIPTION:
URL:https://moreheadplanetarium.org/calendar/earthquakes-volcanoes-and-tsunamis-32/
LOCATION:GSK Fulldome Theater
CATEGORIES:05 Planetarium Shows
END:VEVENT
BEGIN:VEVENT
DTSTART;TZID=America/New_York:20211030T133000
DTEND;TZID=America/New_York:20211030T143000
DTSTAMP:20260425T190729
CREATED:20210917T203913Z
LAST-MODIFIED:20211016T204420Z
UID:21648-1635600600-1635604200@moreheadplanetarium.org
SUMMARY:Earthquakes\, Volcanoes\, and Tsunamis
DESCRIPTION:
URL:https://moreheadplanetarium.org/calendar/earthquakes-volcanoes-and-tsunamis-31/
LOCATION:GSK Fulldome Theater
CATEGORIES:05 Planetarium Shows
END:VEVENT
BEGIN:VEVENT
DTSTART;TZID=America/New_York:20211023T133000
DTEND;TZID=America/New_York:20211023T143000
DTSTAMP:20260425T190729
CREATED:20210917T203910Z
LAST-MODIFIED:20211016T204419Z
UID:21640-1634995800-1634999400@moreheadplanetarium.org
SUMMARY:Earthquakes\, Volcanoes\, and Tsunamis
DESCRIPTION:
URL:https://moreheadplanetarium.org/calendar/earthquakes-volcanoes-and-tsunamis-30/
LOCATION:GSK Fulldome Theater
CATEGORIES:05 Planetarium Shows
END:VEVENT
BEGIN:VEVENT
DTSTART;TZID=America/New_York:20211016T133000
DTEND;TZID=America/New_York:20211016T143000
DTSTAMP:20260425T190729
CREATED:20210917T203906Z
LAST-MODIFIED:20211016T204418Z
UID:21632-1634391000-1634394600@moreheadplanetarium.org
SUMMARY:Earthquakes\, Volcanoes\, and Tsunamis
DESCRIPTION:
URL:https://moreheadplanetarium.org/calendar/earthquakes-volcanoes-and-tsunamis-29/
LOCATION:GSK Fulldome Theater
CATEGORIES:05 Planetarium Shows
END:VEVENT
BEGIN:VEVENT
DTSTART;TZID=America/New_York:20211009T133000
DTEND;TZID=America/New_York:20211009T143000
DTSTAMP:20260425T190729
CREATED:20210917T203902Z
LAST-MODIFIED:20210929T171615Z
UID:21624-1633786200-1633789800@moreheadplanetarium.org
SUMMARY:Earthquakes\, Volcanoes\, and Tsunamis
DESCRIPTION:
URL:https://moreheadplanetarium.org/calendar/earthquakes-volcanoes-and-tsunamis-28/
LOCATION:GSK Fulldome Theater
CATEGORIES:05 Planetarium Shows
END:VEVENT
BEGIN:VEVENT
DTSTART;TZID=America/New_York:20210918T120000
DTEND;TZID=America/New_York:20210918T140000
DTSTAMP:20260425T190729
CREATED:20210708T173307Z
LAST-MODIFIED:20210917T203857Z
UID:20958-1631966400-1631973600@moreheadplanetarium.org
SUMMARY:Earthquakes\, Volcanoes\, and Tsunamis
DESCRIPTION:
URL:https://moreheadplanetarium.org/calendar/earthquakes-volcanoes-and-tsunamis-27/
LOCATION:GSK Fulldome Theater
CATEGORIES:05 Planetarium Shows
END:VEVENT
BEGIN:VEVENT
DTSTART;TZID=America/New_York:20210904T120000
DTEND;TZID=America/New_York:20210904T140000
DTSTAMP:20260425T190729
CREATED:20210708T173302Z
LAST-MODIFIED:20210708T173302Z
UID:20946-1630756800-1630764000@moreheadplanetarium.org
SUMMARY:Earthquakes\, Volcanoes\, and Tsunamis
DESCRIPTION:
URL:https://moreheadplanetarium.org/calendar/earthquakes-volcanoes-and-tsunamis-26/
LOCATION:GSK Fulldome Theater
CATEGORIES:05 Planetarium Shows
END:VEVENT
BEGIN:VEVENT
DTSTART;TZID=America/New_York:20210821T120000
DTEND;TZID=America/New_York:20210821T140000
DTSTAMP:20260425T190729
CREATED:20210708T173256Z
LAST-MODIFIED:20210708T173256Z
UID:20934-1629547200-1629554400@moreheadplanetarium.org
SUMMARY:Earthquakes\, Volcanoes\, and Tsunamis
DESCRIPTION:
URL:https://moreheadplanetarium.org/calendar/earthquakes-volcanoes-and-tsunamis-25/
LOCATION:GSK Fulldome Theater
CATEGORIES:05 Planetarium Shows
END:VEVENT
BEGIN:VEVENT
DTSTART;TZID=America/New_York:20210807T120000
DTEND;TZID=America/New_York:20210807T140000
DTSTAMP:20260425T190729
CREATED:20210708T173251Z
LAST-MODIFIED:20210708T173251Z
UID:20922-1628337600-1628344800@moreheadplanetarium.org
SUMMARY:Earthquakes\, Volcanoes\, and Tsunamis
DESCRIPTION:
URL:https://moreheadplanetarium.org/calendar/earthquakes-volcanoes-and-tsunamis-24/
LOCATION:GSK Fulldome Theater
CATEGORIES:05 Planetarium Shows
END:VEVENT
BEGIN:VEVENT
DTSTART;TZID=America/New_York:20210522T120000
DTEND;TZID=America/New_York:20210522T140000
DTSTAMP:20260425T190729
CREATED:20210323T180314Z
LAST-MODIFIED:20210323T180314Z
UID:20411-1621684800-1621692000@moreheadplanetarium.org
SUMMARY:Earthquakes\, Volcanoes\, and Tsunamis
DESCRIPTION:
URL:https://moreheadplanetarium.org/calendar/earthquakes-volcanoes-and-tsunamis-23/
LOCATION:GSK Fulldome Theater
CATEGORIES:Planetarium Shows
END:VEVENT
BEGIN:VEVENT
DTSTART;TZID=America/New_York:20210508T120000
DTEND;TZID=America/New_York:20210508T140000
DTSTAMP:20260425T190729
CREATED:20210323T180309Z
LAST-MODIFIED:20210323T180309Z
UID:20399-1620475200-1620482400@moreheadplanetarium.org
SUMMARY:Earthquakes\, Volcanoes\, and Tsunamis
DESCRIPTION:
URL:https://moreheadplanetarium.org/calendar/earthquakes-volcanoes-and-tsunamis-22/
LOCATION:GSK Fulldome Theater
CATEGORIES:Planetarium Shows
END:VEVENT
BEGIN:VEVENT
DTSTART;TZID=America/New_York:20210424T120000
DTEND;TZID=America/New_York:20210424T140000
DTSTAMP:20260425T190729
CREATED:20210323T180305Z
LAST-MODIFIED:20210323T180305Z
UID:20387-1619265600-1619272800@moreheadplanetarium.org
SUMMARY:Earthquakes\, Volcanoes\, and Tsunamis
DESCRIPTION:
URL:https://moreheadplanetarium.org/calendar/earthquakes-volcanoes-and-tsunamis-21/
LOCATION:GSK Fulldome Theater
CATEGORIES:Planetarium Shows
END:VEVENT
BEGIN:VEVENT
DTSTART;TZID=America/New_York:20210410T120000
DTEND;TZID=America/New_York:20210410T140000
DTSTAMP:20260425T190729
CREATED:20210222T163958Z
LAST-MODIFIED:20210323T180300Z
UID:20003-1618056000-1618063200@moreheadplanetarium.org
SUMMARY:Earthquakes\, Volcanoes\, and Tsunamis
DESCRIPTION:
URL:https://moreheadplanetarium.org/calendar/earthquakes-volcanoes-and-tsunamis-20/
LOCATION:GSK Fulldome Theater
CATEGORIES:Planetarium Shows
END:VEVENT
BEGIN:VEVENT
DTSTART;TZID=America/New_York:20210327T120000
DTEND;TZID=America/New_York:20210327T140000
DTSTAMP:20260425T190729
CREATED:20210222T163953Z
LAST-MODIFIED:20210323T180257Z
UID:19991-1616846400-1616853600@moreheadplanetarium.org
SUMMARY:Earthquakes\, Volcanoes\, and Tsunamis
DESCRIPTION:
URL:https://moreheadplanetarium.org/calendar/earthquakes-volcanoes-and-tsunamis-19/
LOCATION:GSK Fulldome Theater
CATEGORIES:Planetarium Shows
END:VEVENT
BEGIN:VEVENT
DTSTART;TZID=America/New_York:20210313T120000
DTEND;TZID=America/New_York:20210313T140000
DTSTAMP:20260425T190729
CREATED:20210119T161408Z
LAST-MODIFIED:20210222T163949Z
UID:19763-1615636800-1615644000@moreheadplanetarium.org
SUMMARY:Earthquakes\, Volcanoes\, and Tsunamis
DESCRIPTION:
URL:https://moreheadplanetarium.org/calendar/earthquakes-volcanoes-and-tsunamis-18/
LOCATION:GSK Fulldome Theater
CATEGORIES:Planetarium Shows
END:VEVENT
BEGIN:VEVENT
DTSTART;TZID=America/New_York:20210227T120000
DTEND;TZID=America/New_York:20210227T140000
DTSTAMP:20260425T190729
CREATED:20210119T161404Z
LAST-MODIFIED:20210222T163945Z
UID:19749-1614427200-1614434400@moreheadplanetarium.org
SUMMARY:Earthquakes\, Volcanoes\, and Tsunamis
DESCRIPTION:
URL:https://moreheadplanetarium.org/calendar/earthquakes-volcanoes-and-tsunamis-17/
LOCATION:GSK Fulldome Theater
CATEGORIES:Planetarium Shows
END:VEVENT
BEGIN:VEVENT
DTSTART;TZID=America/New_York:20210213T120000
DTEND;TZID=America/New_York:20210213T140000
DTSTAMP:20260425T190729
CREATED:20210119T161359Z
LAST-MODIFIED:20210127T160556Z
UID:19733-1613217600-1613224800@moreheadplanetarium.org
SUMMARY:Earthquakes\, Volcanoes\, and Tsunamis
DESCRIPTION:
URL:https://moreheadplanetarium.org/calendar/earthquakes-volcanoes-and-tsunamis-16/
LOCATION:GSK Fulldome Theater
CATEGORIES:Planetarium Shows
END:VEVENT
BEGIN:VEVENT
DTSTART;TZID=America/New_York:20210206T160000
DTEND;TZID=America/New_York:20210206T180000
DTSTAMP:20260425T190729
CREATED:20201220T194633Z
LAST-MODIFIED:20210127T160555Z
UID:19538-1612627200-1612634400@moreheadplanetarium.org
SUMMARY:Earthquakes\, Volcanoes\, and Tsunamis
DESCRIPTION:
URL:https://moreheadplanetarium.org/calendar/earthquakes-volcanoes-and-tsunamis-15/
LOCATION:GSK Fulldome Theater
CATEGORIES:Planetarium Shows
END:VEVENT
BEGIN:VEVENT
DTSTART;TZID=America/New_York:20210130T160000
DTEND;TZID=America/New_York:20210130T180000
DTSTAMP:20260425T190729
CREATED:20201220T194630Z
LAST-MODIFIED:20210127T160553Z
UID:19529-1612022400-1612029600@moreheadplanetarium.org
SUMMARY:Earthquakes\, Volcanoes\, and Tsunamis
DESCRIPTION:
URL:https://moreheadplanetarium.org/calendar/earthquakes-volcanoes-and-tsunamis-14/
LOCATION:GSK Fulldome Theater
CATEGORIES:Planetarium Shows
END:VEVENT
BEGIN:VEVENT
DTSTART;TZID=America/New_York:20210123T160000
DTEND;TZID=America/New_York:20210123T180000
DTSTAMP:20260425T190729
CREATED:20201220T194627Z
LAST-MODIFIED:20210119T161354Z
UID:19520-1611417600-1611424800@moreheadplanetarium.org
SUMMARY:Earthquakes\, Volcanoes\, and Tsunamis
DESCRIPTION:
URL:https://moreheadplanetarium.org/calendar/earthquakes-volcanoes-and-tsunamis-13/
LOCATION:GSK Fulldome Theater
CATEGORIES:Planetarium Shows
END:VEVENT
BEGIN:VEVENT
DTSTART;TZID=America/New_York:20210116T160000
DTEND;TZID=America/New_York:20210116T180000
DTSTAMP:20260425T190729
CREATED:20201220T194623Z
LAST-MODIFIED:20210106T194151Z
UID:19511-1610812800-1610820000@moreheadplanetarium.org
SUMMARY:Earthquakes\, Volcanoes\, and Tsunamis
DESCRIPTION:
URL:https://moreheadplanetarium.org/calendar/earthquakes-volcanoes-and-tsunamis-12/
LOCATION:GSK Fulldome Theater
CATEGORIES:Planetarium Shows
END:VEVENT
BEGIN:VEVENT
DTSTART;TZID=America/New_York:20210109T160000
DTEND;TZID=America/New_York:20210109T180000
DTSTAMP:20260425T190729
CREATED:20201220T194621Z
LAST-MODIFIED:20210106T194148Z
UID:19502-1610208000-1610215200@moreheadplanetarium.org
SUMMARY:Earthquakes\, Volcanoes\, and Tsunamis
DESCRIPTION:
URL:https://moreheadplanetarium.org/calendar/earthquakes-volcanoes-and-tsunamis-11/
LOCATION:GSK Fulldome Theater
CATEGORIES:Planetarium Shows
END:VEVENT
BEGIN:VEVENT
DTSTART;TZID=America/New_York:20210102T160000
DTEND;TZID=America/New_York:20210102T180000
DTSTAMP:20260425T190729
CREATED:20201220T194618Z
LAST-MODIFIED:20201220T194618Z
UID:19493-1609603200-1609610400@moreheadplanetarium.org
SUMMARY:Earthquakes\, Volcanoes\, and Tsunamis
DESCRIPTION:
URL:https://moreheadplanetarium.org/calendar/earthquakes-volcanoes-and-tsunamis-10/
LOCATION:GSK Fulldome Theater
CATEGORIES:Planetarium Shows
END:VEVENT
BEGIN:VEVENT
DTSTART;TZID=America/New_York:20201219T160000
DTEND;TZID=America/New_York:20201219T180000
DTSTAMP:20260425T190729
CREATED:20201123T200443Z
LAST-MODIFIED:20201217T154328Z
UID:19365-1608393600-1608400800@moreheadplanetarium.org
SUMMARY:Earthquakes\, Volcanoes\, and Tsunamis
DESCRIPTION:
URL:https://moreheadplanetarium.org/calendar/earthquakes-volcanoes-and-tsunamis-9/
LOCATION:GSK Fulldome Theater
CATEGORIES:Planetarium Shows
END:VEVENT
BEGIN:VEVENT
DTSTART;TZID=America/New_York:20201212T160000
DTEND;TZID=America/New_York:20201212T180000
DTSTAMP:20260425T190729
CREATED:20201123T200441Z
LAST-MODIFIED:20201123T200441Z
UID:19363-1607788800-1607796000@moreheadplanetarium.org
SUMMARY:Earthquakes\, Volcanoes\, and Tsunamis
DESCRIPTION:
URL:https://moreheadplanetarium.org/calendar/earthquakes-volcanoes-and-tsunamis-8/
LOCATION:GSK Fulldome Theater
CATEGORIES:Planetarium Shows
END:VEVENT
BEGIN:VEVENT
DTSTART;TZID=America/New_York:20201205T160000
DTEND;TZID=America/New_York:20201205T180000
DTSTAMP:20260425T190729
CREATED:20201123T200439Z
LAST-MODIFIED:20201123T200439Z
UID:19361-1607184000-1607191200@moreheadplanetarium.org
SUMMARY:Earthquakes\, Volcanoes\, and Tsunamis
DESCRIPTION:
URL:https://moreheadplanetarium.org/calendar/earthquakes-volcanoes-and-tsunamis-7/
LOCATION:GSK Fulldome Theater
CATEGORIES:Planetarium Shows
END:VEVENT
BEGIN:VEVENT
DTSTART;TZID=America/New_York:20201128T160000
DTEND;TZID=America/New_York:20201128T180000
DTSTAMP:20260425T190729
CREATED:20201022T150319Z
LAST-MODIFIED:20201123T200438Z
UID:18978-1606579200-1606586400@moreheadplanetarium.org
SUMMARY:Earthquakes\, Volcanoes\, and Tsunamis
DESCRIPTION:
URL:https://moreheadplanetarium.org/calendar/earthquakes-volcanoes-and-tsunamis-6/
LOCATION:GSK Fulldome Theater
CATEGORIES:Planetarium Shows
END:VEVENT
END:VCALENDAR