BEGIN:VCALENDAR
VERSION:2.0
PRODID:-//Morehead Planetarium and Science Center - ECPv6.13.2.1//NONSGML v1.0//EN
CALSCALE:GREGORIAN
METHOD:PUBLISH
X-WR-CALNAME:Morehead Planetarium and Science Center
X-ORIGINAL-URL:https://moreheadplanetarium.org
X-WR-CALDESC:Events for Morehead Planetarium and Science Center
REFRESH-INTERVAL;VALUE=DURATION:PT1H
X-Robots-Tag:noindex
X-PUBLISHED-TTL:PT1H
BEGIN:VTIMEZONE
TZID:America/New_York
BEGIN:DAYLIGHT
TZOFFSETFROM:-0500
TZOFFSETTO:-0400
TZNAME:EDT
DTSTART:20210314T070000
END:DAYLIGHT
BEGIN:STANDARD
TZOFFSETFROM:-0400
TZOFFSETTO:-0500
TZNAME:EST
DTSTART:20211107T060000
END:STANDARD
BEGIN:DAYLIGHT
TZOFFSETFROM:-0500
TZOFFSETTO:-0400
TZNAME:EDT
DTSTART:20220313T070000
END:DAYLIGHT
BEGIN:STANDARD
TZOFFSETFROM:-0400
TZOFFSETTO:-0500
TZNAME:EST
DTSTART:20221106T060000
END:STANDARD
END:VTIMEZONE
BEGIN:VEVENT
DTSTART;TZID=America/New_York:20220629T133000
DTEND;TZID=America/New_York:20220629T143000
DTSTAMP:20260425T162019
CREATED:20220410T213949Z
LAST-MODIFIED:20220410T213949Z
UID:23363-1656509400-1656513000@moreheadplanetarium.org
SUMMARY:Earthquakes\, Volcanoes\, and Tsunamis
DESCRIPTION:
URL:https://moreheadplanetarium.org/calendar/earthquakes-volcanoes-and-tsunamis-55/
LOCATION:GSK Fulldome Theater
CATEGORIES:Planetarium Shows
END:VEVENT
BEGIN:VEVENT
DTSTART;TZID=America/New_York:20220624T133000
DTEND;TZID=America/New_York:20220624T143000
DTSTAMP:20260425T162019
CREATED:20220410T213945Z
LAST-MODIFIED:20220410T213945Z
UID:23351-1656077400-1656081000@moreheadplanetarium.org
SUMMARY:Earthquakes\, Volcanoes\, and Tsunamis
DESCRIPTION:
URL:https://moreheadplanetarium.org/calendar/earthquakes-volcanoes-and-tsunamis-54/
LOCATION:GSK Fulldome Theater
CATEGORIES:Planetarium Shows
END:VEVENT
BEGIN:VEVENT
DTSTART;TZID=America/New_York:20220623T133000
DTEND;TZID=America/New_York:20220623T143000
DTSTAMP:20260425T162019
CREATED:20220410T213944Z
LAST-MODIFIED:20220410T213944Z
UID:23347-1655991000-1655994600@moreheadplanetarium.org
SUMMARY:Earthquakes\, Volcanoes\, and Tsunamis
DESCRIPTION:
URL:https://moreheadplanetarium.org/calendar/earthquakes-volcanoes-and-tsunamis-53/
LOCATION:GSK Fulldome Theater
CATEGORIES:Planetarium Shows
END:VEVENT
BEGIN:VEVENT
DTSTART;TZID=America/New_York:20220622T133000
DTEND;TZID=America/New_York:20220622T143000
DTSTAMP:20260425T162019
CREATED:20220410T213942Z
LAST-MODIFIED:20220410T213942Z
UID:23343-1655904600-1655908200@moreheadplanetarium.org
SUMMARY:Earthquakes\, Volcanoes\, and Tsunamis
DESCRIPTION:
URL:https://moreheadplanetarium.org/calendar/earthquakes-volcanoes-and-tsunamis-52/
LOCATION:GSK Fulldome Theater
CATEGORIES:Planetarium Shows
END:VEVENT
BEGIN:VEVENT
DTSTART;TZID=America/New_York:20220617T133000
DTEND;TZID=America/New_York:20220617T143000
DTSTAMP:20260425T162019
CREATED:20220410T213938Z
LAST-MODIFIED:20220410T213938Z
UID:23331-1655472600-1655476200@moreheadplanetarium.org
SUMMARY:Earthquakes\, Volcanoes\, and Tsunamis
DESCRIPTION:
URL:https://moreheadplanetarium.org/calendar/earthquakes-volcanoes-and-tsunamis-51/
LOCATION:GSK Fulldome Theater
CATEGORIES:Planetarium Shows
END:VEVENT
BEGIN:VEVENT
DTSTART;TZID=America/New_York:20220616T133000
DTEND;TZID=America/New_York:20220616T143000
DTSTAMP:20260425T162019
CREATED:20220410T213937Z
LAST-MODIFIED:20220410T213937Z
UID:23327-1655386200-1655389800@moreheadplanetarium.org
SUMMARY:Earthquakes\, Volcanoes\, and Tsunamis
DESCRIPTION:
URL:https://moreheadplanetarium.org/calendar/earthquakes-volcanoes-and-tsunamis-50/
LOCATION:GSK Fulldome Theater
CATEGORIES:Planetarium Shows
END:VEVENT
BEGIN:VEVENT
DTSTART;TZID=America/New_York:20220615T133000
DTEND;TZID=America/New_York:20220615T143000
DTSTAMP:20260425T162019
CREATED:20220410T213936Z
LAST-MODIFIED:20220410T213936Z
UID:23323-1655299800-1655303400@moreheadplanetarium.org
SUMMARY:Earthquakes\, Volcanoes\, and Tsunamis
DESCRIPTION:
URL:https://moreheadplanetarium.org/calendar/earthquakes-volcanoes-and-tsunamis-49/
LOCATION:GSK Fulldome Theater
CATEGORIES:Planetarium Shows
END:VEVENT
BEGIN:VEVENT
DTSTART;TZID=America/New_York:20220528T150000
DTEND;TZID=America/New_York:20220528T160000
DTSTAMP:20260425T162019
CREATED:20220410T213929Z
LAST-MODIFIED:20220410T213929Z
UID:23300-1653750000-1653753600@moreheadplanetarium.org
SUMMARY:Earthquakes\, Volcanoes\, and Tsunamis
DESCRIPTION:
URL:https://moreheadplanetarium.org/calendar/earthquakes-volcanoes-and-tsunamis-48/
LOCATION:GSK Fulldome Theater
CATEGORIES:Planetarium Shows
END:VEVENT
BEGIN:VEVENT
DTSTART;TZID=America/New_York:20220521T150000
DTEND;TZID=America/New_York:20220521T160000
DTSTAMP:20260425T162019
CREATED:20220410T213926Z
LAST-MODIFIED:20220410T213926Z
UID:23292-1653145200-1653148800@moreheadplanetarium.org
SUMMARY:Earthquakes\, Volcanoes\, and Tsunamis
DESCRIPTION:
URL:https://moreheadplanetarium.org/calendar/earthquakes-volcanoes-and-tsunamis-47/
LOCATION:GSK Fulldome Theater
CATEGORIES:Planetarium Shows
END:VEVENT
BEGIN:VEVENT
DTSTART;TZID=America/New_York:20220514T150000
DTEND;TZID=America/New_York:20220514T160000
DTSTAMP:20260425T162019
CREATED:20220410T213924Z
LAST-MODIFIED:20220410T213924Z
UID:23284-1652540400-1652544000@moreheadplanetarium.org
SUMMARY:Earthquakes\, Volcanoes\, and Tsunamis
DESCRIPTION:
URL:https://moreheadplanetarium.org/calendar/earthquakes-volcanoes-and-tsunamis-46/
LOCATION:GSK Fulldome Theater
CATEGORIES:Planetarium Shows
END:VEVENT
BEGIN:VEVENT
DTSTART;TZID=America/New_York:20220507T150000
DTEND;TZID=America/New_York:20220507T160000
DTSTAMP:20260425T162019
CREATED:20220410T213922Z
LAST-MODIFIED:20220410T213922Z
UID:23279-1651935600-1651939200@moreheadplanetarium.org
SUMMARY:Earthquakes\, Volcanoes\, and Tsunamis
DESCRIPTION:
URL:https://moreheadplanetarium.org/calendar/earthquakes-volcanoes-and-tsunamis-45/
LOCATION:GSK Fulldome Theater
CATEGORIES:Planetarium Shows
END:VEVENT
BEGIN:VEVENT
DTSTART;TZID=America/New_York:20220430T150000
DTEND;TZID=America/New_York:20220430T160000
DTSTAMP:20260425T162019
CREATED:20220220T193706Z
LAST-MODIFIED:20220410T213920Z
UID:22856-1651330800-1651334400@moreheadplanetarium.org
SUMMARY:Earthquakes\, Volcanoes\, and Tsunamis
DESCRIPTION:
URL:https://moreheadplanetarium.org/calendar/earthquakes-volcanoes-and-tsunamis-44/
LOCATION:GSK Fulldome Theater
CATEGORIES:Planetarium Shows
END:VEVENT
BEGIN:VEVENT
DTSTART;TZID=America/New_York:20220423T150000
DTEND;TZID=America/New_York:20220423T160000
DTSTAMP:20260425T162019
CREATED:20220220T193704Z
LAST-MODIFIED:20220410T213918Z
UID:22848-1650726000-1650729600@moreheadplanetarium.org
SUMMARY:Earthquakes\, Volcanoes\, and Tsunamis
DESCRIPTION:
URL:https://moreheadplanetarium.org/calendar/earthquakes-volcanoes-and-tsunamis-43/
LOCATION:GSK Fulldome Theater
CATEGORIES:Planetarium Shows
END:VEVENT
BEGIN:VEVENT
DTSTART;TZID=America/New_York:20220416T150000
DTEND;TZID=America/New_York:20220416T160000
DTSTAMP:20260425T162019
CREATED:20220220T193702Z
LAST-MODIFIED:20220410T213917Z
UID:22840-1650121200-1650124800@moreheadplanetarium.org
SUMMARY:Earthquakes\, Volcanoes\, and Tsunamis
DESCRIPTION:
URL:https://moreheadplanetarium.org/calendar/earthquakes-volcanoes-and-tsunamis-42/
LOCATION:GSK Fulldome Theater
CATEGORIES:Planetarium Shows
END:VEVENT
BEGIN:VEVENT
DTSTART;TZID=America/New_York:20220409T150000
DTEND;TZID=America/New_York:20220409T160000
DTSTAMP:20260425T162019
CREATED:20220220T193659Z
LAST-MODIFIED:20220220T193659Z
UID:22832-1649516400-1649520000@moreheadplanetarium.org
SUMMARY:Earthquakes\, Volcanoes\, and Tsunamis
DESCRIPTION:
URL:https://moreheadplanetarium.org/calendar/earthquakes-volcanoes-and-tsunamis-41/
LOCATION:GSK Fulldome Theater
CATEGORIES:Planetarium Shows
END:VEVENT
BEGIN:VEVENT
DTSTART;TZID=America/New_York:20220402T150000
DTEND;TZID=America/New_York:20220402T160000
DTSTAMP:20260425T162019
CREATED:20220204T213257Z
LAST-MODIFIED:20220220T193657Z
UID:22607-1648911600-1648915200@moreheadplanetarium.org
SUMMARY:Earthquakes\, Volcanoes\, and Tsunamis
DESCRIPTION:
URL:https://moreheadplanetarium.org/calendar/earthquakes-volcanoes-and-tsunamis-40/
LOCATION:GSK Fulldome Theater
CATEGORIES:Planetarium Shows
END:VEVENT
BEGIN:VEVENT
DTSTART;TZID=America/New_York:20220326T150000
DTEND;TZID=America/New_York:20220326T160000
DTSTAMP:20260425T162019
CREATED:20220204T213254Z
LAST-MODIFIED:20220220T193656Z
UID:22599-1648306800-1648310400@moreheadplanetarium.org
SUMMARY:Earthquakes\, Volcanoes\, and Tsunamis
DESCRIPTION:
URL:https://moreheadplanetarium.org/calendar/earthquakes-volcanoes-and-tsunamis-39/
LOCATION:GSK Fulldome Theater
CATEGORIES:Planetarium Shows
END:VEVENT
BEGIN:VEVENT
DTSTART;TZID=America/New_York:20220319T150000
DTEND;TZID=America/New_York:20220319T160000
DTSTAMP:20260425T162019
CREATED:20220204T213251Z
LAST-MODIFIED:20220220T193654Z
UID:22591-1647702000-1647705600@moreheadplanetarium.org
SUMMARY:Earthquakes\, Volcanoes\, and Tsunamis
DESCRIPTION:
URL:https://moreheadplanetarium.org/calendar/earthquakes-volcanoes-and-tsunamis-38/
LOCATION:GSK Fulldome Theater
CATEGORIES:Planetarium Shows
END:VEVENT
BEGIN:VEVENT
DTSTART;TZID=America/New_York:20220312T150000
DTEND;TZID=America/New_York:20220312T160000
DTSTAMP:20260425T162019
CREATED:20220204T213248Z
LAST-MODIFIED:20220220T193653Z
UID:22583-1647097200-1647100800@moreheadplanetarium.org
SUMMARY:Earthquakes\, Volcanoes\, and Tsunamis
DESCRIPTION:
URL:https://moreheadplanetarium.org/calendar/earthquakes-volcanoes-and-tsunamis-37/
LOCATION:GSK Fulldome Theater
CATEGORIES:Planetarium Shows
END:VEVENT
BEGIN:VEVENT
DTSTART;TZID=America/New_York:20220305T150000
DTEND;TZID=America/New_York:20220305T160000
DTSTAMP:20260425T162019
CREATED:20220204T213246Z
LAST-MODIFIED:20220220T193651Z
UID:22575-1646492400-1646496000@moreheadplanetarium.org
SUMMARY:Earthquakes\, Volcanoes\, and Tsunamis
DESCRIPTION:
URL:https://moreheadplanetarium.org/calendar/earthquakes-volcanoes-and-tsunamis-36/
LOCATION:GSK Fulldome Theater
CATEGORIES:Planetarium Shows
END:VEVENT
BEGIN:VEVENT
DTSTART;TZID=America/New_York:20211127T133000
DTEND;TZID=America/New_York:20211127T143000
DTSTAMP:20260425T162019
CREATED:20210917T203928Z
LAST-MODIFIED:20211115T153928Z
UID:21680-1638019800-1638023400@moreheadplanetarium.org
SUMMARY:Earthquakes\, Volcanoes\, and Tsunamis
DESCRIPTION:
URL:https://moreheadplanetarium.org/calendar/earthquakes-volcanoes-and-tsunamis-35/
LOCATION:GSK Fulldome Theater
CATEGORIES:05 Planetarium Shows
END:VEVENT
BEGIN:VEVENT
DTSTART;TZID=America/New_York:20211120T133000
DTEND;TZID=America/New_York:20211120T143000
DTSTAMP:20260425T162019
CREATED:20210917T203925Z
LAST-MODIFIED:20211115T153926Z
UID:21672-1637415000-1637418600@moreheadplanetarium.org
SUMMARY:Earthquakes\, Volcanoes\, and Tsunamis
DESCRIPTION:
URL:https://moreheadplanetarium.org/calendar/earthquakes-volcanoes-and-tsunamis-34/
LOCATION:GSK Fulldome Theater
CATEGORIES:05 Planetarium Shows
END:VEVENT
BEGIN:VEVENT
DTSTART;TZID=America/New_York:20211113T133000
DTEND;TZID=America/New_York:20211113T143000
DTSTAMP:20260425T162019
CREATED:20210917T203921Z
LAST-MODIFIED:20211016T204423Z
UID:21664-1636810200-1636813800@moreheadplanetarium.org
SUMMARY:Earthquakes\, Volcanoes\, and Tsunamis
DESCRIPTION:
URL:https://moreheadplanetarium.org/calendar/earthquakes-volcanoes-and-tsunamis-33/
LOCATION:GSK Fulldome Theater
CATEGORIES:05 Planetarium Shows
END:VEVENT
BEGIN:VEVENT
DTSTART;TZID=America/New_York:20211106T133000
DTEND;TZID=America/New_York:20211106T143000
DTSTAMP:20260425T162019
CREATED:20210917T203918Z
LAST-MODIFIED:20211016T204422Z
UID:21656-1636205400-1636209000@moreheadplanetarium.org
SUMMARY:Earthquakes\, Volcanoes\, and Tsunamis
DESCRIPTION:
URL:https://moreheadplanetarium.org/calendar/earthquakes-volcanoes-and-tsunamis-32/
LOCATION:GSK Fulldome Theater
CATEGORIES:05 Planetarium Shows
END:VEVENT
BEGIN:VEVENT
DTSTART;TZID=America/New_York:20211030T133000
DTEND;TZID=America/New_York:20211030T143000
DTSTAMP:20260425T162019
CREATED:20210917T203913Z
LAST-MODIFIED:20211016T204420Z
UID:21648-1635600600-1635604200@moreheadplanetarium.org
SUMMARY:Earthquakes\, Volcanoes\, and Tsunamis
DESCRIPTION:
URL:https://moreheadplanetarium.org/calendar/earthquakes-volcanoes-and-tsunamis-31/
LOCATION:GSK Fulldome Theater
CATEGORIES:05 Planetarium Shows
END:VEVENT
BEGIN:VEVENT
DTSTART;TZID=America/New_York:20211023T133000
DTEND;TZID=America/New_York:20211023T143000
DTSTAMP:20260425T162019
CREATED:20210917T203910Z
LAST-MODIFIED:20211016T204419Z
UID:21640-1634995800-1634999400@moreheadplanetarium.org
SUMMARY:Earthquakes\, Volcanoes\, and Tsunamis
DESCRIPTION:
URL:https://moreheadplanetarium.org/calendar/earthquakes-volcanoes-and-tsunamis-30/
LOCATION:GSK Fulldome Theater
CATEGORIES:05 Planetarium Shows
END:VEVENT
BEGIN:VEVENT
DTSTART;TZID=America/New_York:20211016T133000
DTEND;TZID=America/New_York:20211016T143000
DTSTAMP:20260425T162019
CREATED:20210917T203906Z
LAST-MODIFIED:20211016T204418Z
UID:21632-1634391000-1634394600@moreheadplanetarium.org
SUMMARY:Earthquakes\, Volcanoes\, and Tsunamis
DESCRIPTION:
URL:https://moreheadplanetarium.org/calendar/earthquakes-volcanoes-and-tsunamis-29/
LOCATION:GSK Fulldome Theater
CATEGORIES:05 Planetarium Shows
END:VEVENT
BEGIN:VEVENT
DTSTART;TZID=America/New_York:20211009T133000
DTEND;TZID=America/New_York:20211009T143000
DTSTAMP:20260425T162019
CREATED:20210917T203902Z
LAST-MODIFIED:20210929T171615Z
UID:21624-1633786200-1633789800@moreheadplanetarium.org
SUMMARY:Earthquakes\, Volcanoes\, and Tsunamis
DESCRIPTION:
URL:https://moreheadplanetarium.org/calendar/earthquakes-volcanoes-and-tsunamis-28/
LOCATION:GSK Fulldome Theater
CATEGORIES:05 Planetarium Shows
END:VEVENT
BEGIN:VEVENT
DTSTART;TZID=America/New_York:20210918T120000
DTEND;TZID=America/New_York:20210918T140000
DTSTAMP:20260425T162019
CREATED:20210708T173307Z
LAST-MODIFIED:20210917T203857Z
UID:20958-1631966400-1631973600@moreheadplanetarium.org
SUMMARY:Earthquakes\, Volcanoes\, and Tsunamis
DESCRIPTION:
URL:https://moreheadplanetarium.org/calendar/earthquakes-volcanoes-and-tsunamis-27/
LOCATION:GSK Fulldome Theater
CATEGORIES:05 Planetarium Shows
END:VEVENT
BEGIN:VEVENT
DTSTART;TZID=America/New_York:20210904T120000
DTEND;TZID=America/New_York:20210904T140000
DTSTAMP:20260425T162019
CREATED:20210708T173302Z
LAST-MODIFIED:20210708T173302Z
UID:20946-1630756800-1630764000@moreheadplanetarium.org
SUMMARY:Earthquakes\, Volcanoes\, and Tsunamis
DESCRIPTION:
URL:https://moreheadplanetarium.org/calendar/earthquakes-volcanoes-and-tsunamis-26/
LOCATION:GSK Fulldome Theater
CATEGORIES:05 Planetarium Shows
END:VEVENT
END:VCALENDAR