BEGIN:VCALENDAR
VERSION:2.0
PRODID:-//Morehead Planetarium and Science Center - ECPv6.13.2.1//NONSGML v1.0//EN
CALSCALE:GREGORIAN
METHOD:PUBLISH
X-WR-CALNAME:Morehead Planetarium and Science Center
X-ORIGINAL-URL:https://moreheadplanetarium.org
X-WR-CALDESC:Events for Morehead Planetarium and Science Center
REFRESH-INTERVAL;VALUE=DURATION:PT1H
X-Robots-Tag:noindex
X-PUBLISHED-TTL:PT1H
BEGIN:VTIMEZONE
TZID:America/New_York
BEGIN:DAYLIGHT
TZOFFSETFROM:-0500
TZOFFSETTO:-0400
TZNAME:EDT
DTSTART:20250309T070000
END:DAYLIGHT
BEGIN:STANDARD
TZOFFSETFROM:-0400
TZOFFSETTO:-0500
TZNAME:EST
DTSTART:20251102T060000
END:STANDARD
BEGIN:DAYLIGHT
TZOFFSETFROM:-0500
TZOFFSETTO:-0400
TZNAME:EDT
DTSTART:20260308T070000
END:DAYLIGHT
BEGIN:STANDARD
TZOFFSETFROM:-0400
TZOFFSETTO:-0500
TZNAME:EST
DTSTART:20261101T060000
END:STANDARD
END:VTIMEZONE
BEGIN:VEVENT
DTSTART;TZID=America/New_York:20251101T163000
DTEND;TZID=America/New_York:20251101T173000
DTSTAMP:20260420T012744
CREATED:20250808T150610Z
LAST-MODIFIED:20250808T150610Z
UID:36633-1762014600-1762018200@moreheadplanetarium.org
SUMMARY:Carolina Skies
DESCRIPTION:
URL:https://moreheadplanetarium.org/calendar/carolina-skies-454/
CATEGORIES:Planetarium Shows
END:VEVENT
BEGIN:VEVENT
DTSTART;TZID=America/New_York:20251107T163000
DTEND;TZID=America/New_York:20251107T173000
DTSTAMP:20260420T012744
CREATED:20250808T150626Z
LAST-MODIFIED:20250808T150626Z
UID:36638-1762533000-1762536600@moreheadplanetarium.org
SUMMARY:Carolina Skies
DESCRIPTION:
URL:https://moreheadplanetarium.org/calendar/carolina-skies-455/
CATEGORIES:Planetarium Shows
END:VEVENT
BEGIN:VEVENT
DTSTART;TZID=America/New_York:20251108T163000
DTEND;TZID=America/New_York:20251108T173000
DTSTAMP:20260420T012744
CREATED:20250808T150826Z
LAST-MODIFIED:20250808T150826Z
UID:36644-1762619400-1762623000@moreheadplanetarium.org
SUMMARY:Carolina Skies
DESCRIPTION:
URL:https://moreheadplanetarium.org/calendar/carolina-skies-456/
CATEGORIES:Planetarium Shows
END:VEVENT
BEGIN:VEVENT
DTSTART;TZID=America/New_York:20251114T163000
DTEND;TZID=America/New_York:20251114T173000
DTSTAMP:20260420T012744
CREATED:20251009T150434Z
LAST-MODIFIED:20251009T150434Z
UID:37255-1763137800-1763141400@moreheadplanetarium.org
SUMMARY:Carolina Skies
DESCRIPTION:
URL:https://moreheadplanetarium.org/calendar/carolina-skies-457/
CATEGORIES:Planetarium Shows
END:VEVENT
BEGIN:VEVENT
DTSTART;TZID=America/New_York:20251115T163000
DTEND;TZID=America/New_York:20251115T173000
DTSTAMP:20260420T012744
CREATED:20251009T150438Z
LAST-MODIFIED:20251009T150438Z
UID:37260-1763224200-1763227800@moreheadplanetarium.org
SUMMARY:Carolina Skies
DESCRIPTION:
URL:https://moreheadplanetarium.org/calendar/carolina-skies-458/
CATEGORIES:Planetarium Shows
END:VEVENT
BEGIN:VEVENT
DTSTART;TZID=America/New_York:20251122T163000
DTEND;TZID=America/New_York:20251122T173000
DTSTAMP:20260420T012744
CREATED:20251009T150455Z
LAST-MODIFIED:20251009T150455Z
UID:37268-1763829000-1763832600@moreheadplanetarium.org
SUMMARY:Carolina Skies
DESCRIPTION:
URL:https://moreheadplanetarium.org/calendar/carolina-skies-459/
CATEGORIES:Planetarium Shows
END:VEVENT
BEGIN:VEVENT
DTSTART;TZID=America/New_York:20251129T163000
DTEND;TZID=America/New_York:20251129T173000
DTSTAMP:20260420T012744
CREATED:20251030T141355Z
LAST-MODIFIED:20251030T141355Z
UID:37427-1764433800-1764437400@moreheadplanetarium.org
SUMMARY:Carolina Skies
DESCRIPTION:
URL:https://moreheadplanetarium.org/calendar/carolina-skies-460/
CATEGORIES:Planetarium Shows
END:VEVENT
BEGIN:VEVENT
DTSTART;TZID=America/New_York:20251130T163000
DTEND;TZID=America/New_York:20251130T173000
DTSTAMP:20260420T012744
CREATED:20251030T141357Z
LAST-MODIFIED:20251030T141357Z
UID:37430-1764520200-1764523800@moreheadplanetarium.org
SUMMARY:Carolina Skies
DESCRIPTION:
URL:https://moreheadplanetarium.org/calendar/carolina-skies-461/
CATEGORIES:Planetarium Shows
END:VEVENT
BEGIN:VEVENT
DTSTART;TZID=America/New_York:20251206T163000
DTEND;TZID=America/New_York:20251206T173000
DTSTAMP:20260420T012744
CREATED:20251030T141614Z
LAST-MODIFIED:20251030T141614Z
UID:37438-1765038600-1765042200@moreheadplanetarium.org
SUMMARY:Carolina Skies
DESCRIPTION:
URL:https://moreheadplanetarium.org/calendar/carolina-skies-462/
CATEGORIES:Planetarium Shows
END:VEVENT
BEGIN:VEVENT
DTSTART;TZID=America/New_York:20251207T163000
DTEND;TZID=America/New_York:20251207T173000
DTSTAMP:20260420T012744
CREATED:20251030T141615Z
LAST-MODIFIED:20251030T141615Z
UID:37441-1765125000-1765128600@moreheadplanetarium.org
SUMMARY:Carolina Skies
DESCRIPTION:
URL:https://moreheadplanetarium.org/calendar/carolina-skies-463/
CATEGORIES:Planetarium Shows
END:VEVENT
BEGIN:VEVENT
DTSTART;TZID=America/New_York:20251213T163000
DTEND;TZID=America/New_York:20251213T173000
DTSTAMP:20260420T012744
CREATED:20251030T142001Z
LAST-MODIFIED:20251030T142001Z
UID:37448-1765643400-1765647000@moreheadplanetarium.org
SUMMARY:Carolina Skies
DESCRIPTION:
URL:https://moreheadplanetarium.org/calendar/carolina-skies-464/
CATEGORIES:Planetarium Shows
END:VEVENT
BEGIN:VEVENT
DTSTART;TZID=America/New_York:20251214T163000
DTEND;TZID=America/New_York:20251214T173000
DTSTAMP:20260420T012744
CREATED:20251030T142002Z
LAST-MODIFIED:20251030T142002Z
UID:37451-1765729800-1765733400@moreheadplanetarium.org
SUMMARY:Carolina Skies
DESCRIPTION:
URL:https://moreheadplanetarium.org/calendar/carolina-skies-465/
CATEGORIES:Planetarium Shows
END:VEVENT
BEGIN:VEVENT
DTSTART;TZID=America/New_York:20251220T163000
DTEND;TZID=America/New_York:20251220T173000
DTSTAMP:20260420T012744
CREATED:20251030T142403Z
LAST-MODIFIED:20251030T142403Z
UID:37458-1766248200-1766251800@moreheadplanetarium.org
SUMMARY:Carolina Skies
DESCRIPTION:
URL:https://moreheadplanetarium.org/calendar/carolina-skies-466/
CATEGORIES:Planetarium Shows
END:VEVENT
BEGIN:VEVENT
DTSTART;TZID=America/New_York:20251221T163000
DTEND;TZID=America/New_York:20251221T173000
DTSTAMP:20260420T012744
CREATED:20251030T142404Z
LAST-MODIFIED:20251030T142404Z
UID:37461-1766334600-1766338200@moreheadplanetarium.org
SUMMARY:Carolina Skies
DESCRIPTION:
URL:https://moreheadplanetarium.org/calendar/carolina-skies-467/
CATEGORIES:Planetarium Shows
END:VEVENT
BEGIN:VEVENT
DTSTART;TZID=America/New_York:20260103T163000
DTEND;TZID=America/New_York:20260103T173000
DTSTAMP:20260420T012744
CREATED:20251030T142805Z
LAST-MODIFIED:20251030T142805Z
UID:37468-1767457800-1767461400@moreheadplanetarium.org
SUMMARY:Carolina Skies
DESCRIPTION:
URL:https://moreheadplanetarium.org/calendar/carolina-skies-468/
CATEGORIES:Planetarium Shows
END:VEVENT
BEGIN:VEVENT
DTSTART;TZID=America/New_York:20260104T163000
DTEND;TZID=America/New_York:20260104T173000
DTSTAMP:20260420T012744
CREATED:20251030T142806Z
LAST-MODIFIED:20251030T142806Z
UID:37471-1767544200-1767547800@moreheadplanetarium.org
SUMMARY:Carolina Skies
DESCRIPTION:
URL:https://moreheadplanetarium.org/calendar/carolina-skies-469/
CATEGORIES:Planetarium Shows
END:VEVENT
BEGIN:VEVENT
DTSTART;TZID=America/New_York:20260110T163000
DTEND;TZID=America/New_York:20260110T173000
DTSTAMP:20260420T012744
CREATED:20251030T150825Z
LAST-MODIFIED:20251030T150825Z
UID:37478-1768062600-1768066200@moreheadplanetarium.org
SUMMARY:Carolina Skies
DESCRIPTION:
URL:https://moreheadplanetarium.org/calendar/carolina-skies-470/
CATEGORIES:Planetarium Shows
END:VEVENT
BEGIN:VEVENT
DTSTART;TZID=America/New_York:20260111T163000
DTEND;TZID=America/New_York:20260111T173000
DTSTAMP:20260420T012744
CREATED:20251030T150826Z
LAST-MODIFIED:20251030T150826Z
UID:37481-1768149000-1768152600@moreheadplanetarium.org
SUMMARY:Carolina Skies
DESCRIPTION:
URL:https://moreheadplanetarium.org/calendar/carolina-skies-471/
CATEGORIES:Planetarium Shows
END:VEVENT
BEGIN:VEVENT
DTSTART;TZID=America/New_York:20260117T163000
DTEND;TZID=America/New_York:20260117T173000
DTSTAMP:20260420T012744
CREATED:20251030T151227Z
LAST-MODIFIED:20251030T151227Z
UID:37488-1768667400-1768671000@moreheadplanetarium.org
SUMMARY:Carolina Skies
DESCRIPTION:
URL:https://moreheadplanetarium.org/calendar/carolina-skies-472/
CATEGORIES:Planetarium Shows
END:VEVENT
BEGIN:VEVENT
DTSTART;TZID=America/New_York:20260118T163000
DTEND;TZID=America/New_York:20260118T173000
DTSTAMP:20260420T012744
CREATED:20251030T151228Z
LAST-MODIFIED:20251030T151228Z
UID:37491-1768753800-1768757400@moreheadplanetarium.org
SUMMARY:Carolina Skies
DESCRIPTION:
URL:https://moreheadplanetarium.org/calendar/carolina-skies-473/
CATEGORIES:Planetarium Shows
END:VEVENT
BEGIN:VEVENT
DTSTART;TZID=America/New_York:20260124T163000
DTEND;TZID=America/New_York:20260124T173000
DTSTAMP:20260420T012744
CREATED:20251030T151629Z
LAST-MODIFIED:20260123T161416Z
UID:37498-1769272200-1769275800@moreheadplanetarium.org
SUMMARY:[CANCELLED] Carolina Skies
DESCRIPTION:
URL:https://moreheadplanetarium.org/calendar/carolina-skies-474/
CATEGORIES:Planetarium Shows
END:VEVENT
BEGIN:VEVENT
DTSTART;TZID=America/New_York:20260125T163000
DTEND;TZID=America/New_York:20260125T173000
DTSTAMP:20260420T012744
CREATED:20251030T151630Z
LAST-MODIFIED:20260123T161458Z
UID:37501-1769358600-1769362200@moreheadplanetarium.org
SUMMARY:[CANCELLED] Carolina Skies
DESCRIPTION:
URL:https://moreheadplanetarium.org/calendar/carolina-skies-475/
CATEGORIES:Planetarium Shows
END:VEVENT
BEGIN:VEVENT
DTSTART;TZID=America/New_York:20260131T163000
DTEND;TZID=America/New_York:20260131T173000
DTSTAMP:20260420T012744
CREATED:20251217T233855Z
LAST-MODIFIED:20260130T234722Z
UID:38016-1769877000-1769880600@moreheadplanetarium.org
SUMMARY:[CANCELLED] Carolina Skies
DESCRIPTION:
URL:https://moreheadplanetarium.org/calendar/carolina-skies-476/
CATEGORIES:Planetarium Shows
END:VEVENT
BEGIN:VEVENT
DTSTART;TZID=America/New_York:20260201T163000
DTEND;TZID=America/New_York:20260201T173000
DTSTAMP:20260420T012744
CREATED:20251217T233856Z
LAST-MODIFIED:20260130T234800Z
UID:38019-1769963400-1769967000@moreheadplanetarium.org
SUMMARY:[CANCELLED] Carolina Skies
DESCRIPTION:
URL:https://moreheadplanetarium.org/calendar/carolina-skies-477/
CATEGORIES:Planetarium Shows
END:VEVENT
BEGIN:VEVENT
DTSTART;TZID=America/New_York:20260207T163000
DTEND;TZID=America/New_York:20260207T173000
DTSTAMP:20260420T012744
CREATED:20251217T233926Z
LAST-MODIFIED:20251217T233926Z
UID:38027-1770481800-1770485400@moreheadplanetarium.org
SUMMARY:Carolina Skies
DESCRIPTION:
URL:https://moreheadplanetarium.org/calendar/carolina-skies-478/
CATEGORIES:Planetarium Shows
END:VEVENT
BEGIN:VEVENT
DTSTART;TZID=America/New_York:20260208T163000
DTEND;TZID=America/New_York:20260208T173000
DTSTAMP:20260420T012744
CREATED:20251217T233940Z
LAST-MODIFIED:20251217T233940Z
UID:38030-1770568200-1770571800@moreheadplanetarium.org
SUMMARY:Carolina Skies
DESCRIPTION:
URL:https://moreheadplanetarium.org/calendar/carolina-skies-479/
CATEGORIES:Planetarium Shows
END:VEVENT
BEGIN:VEVENT
DTSTART;TZID=America/New_York:20260213T183000
DTEND;TZID=America/New_York:20260213T193000
DTSTAMP:20260420T012744
CREATED:20251217T233942Z
LAST-MODIFIED:20251217T233942Z
UID:38034-1771007400-1771011000@moreheadplanetarium.org
SUMMARY:Carolina Skies: Valentine Edition
DESCRIPTION:
URL:https://moreheadplanetarium.org/calendar/carolina-skies-valentine-edition-16/
CATEGORIES:Special Planetarium Shows
END:VEVENT
BEGIN:VEVENT
DTSTART;TZID=America/New_York:20260213T200000
DTEND;TZID=America/New_York:20260213T210000
DTSTAMP:20260420T012744
CREATED:20251217T233955Z
LAST-MODIFIED:20251217T233955Z
UID:38035-1771012800-1771016400@moreheadplanetarium.org
SUMMARY:Carolina Skies: Valentine Edition
DESCRIPTION:
URL:https://moreheadplanetarium.org/calendar/carolina-skies-valentine-edition-17/
CATEGORIES:Special Planetarium Shows
END:VEVENT
BEGIN:VEVENT
DTSTART;TZID=America/New_York:20260214T163000
DTEND;TZID=America/New_York:20260214T173000
DTSTAMP:20260420T012744
CREATED:20251217T234010Z
LAST-MODIFIED:20251217T234010Z
UID:38040-1771086600-1771090200@moreheadplanetarium.org
SUMMARY:Carolina Skies
DESCRIPTION:
URL:https://moreheadplanetarium.org/calendar/carolina-skies-480/
CATEGORIES:Planetarium Shows
END:VEVENT
BEGIN:VEVENT
DTSTART;TZID=America/New_York:20260214T183000
DTEND;TZID=America/New_York:20260214T193000
DTSTAMP:20260420T012744
CREATED:20251217T234011Z
LAST-MODIFIED:20251217T234011Z
UID:38041-1771093800-1771097400@moreheadplanetarium.org
SUMMARY:Carolina Skies: Valentine Edition
DESCRIPTION:
URL:https://moreheadplanetarium.org/calendar/carolina-skies-valentine-edition-18/
CATEGORIES:Special Planetarium Shows
END:VEVENT
END:VCALENDAR