BEGIN:VCALENDAR
VERSION:2.0
PRODID:-//Morehead Planetarium and Science Center - ECPv6.13.2.1//NONSGML v1.0//EN
CALSCALE:GREGORIAN
METHOD:PUBLISH
X-WR-CALNAME:Morehead Planetarium and Science Center
X-ORIGINAL-URL:https://moreheadplanetarium.org
X-WR-CALDESC:Events for Morehead Planetarium and Science Center
REFRESH-INTERVAL;VALUE=DURATION:PT1H
X-Robots-Tag:noindex
X-PUBLISHED-TTL:PT1H
BEGIN:VTIMEZONE
TZID:America/New_York
BEGIN:DAYLIGHT
TZOFFSETFROM:-0500
TZOFFSETTO:-0400
TZNAME:EDT
DTSTART:20220313T070000
END:DAYLIGHT
BEGIN:STANDARD
TZOFFSETFROM:-0400
TZOFFSETTO:-0500
TZNAME:EST
DTSTART:20221106T060000
END:STANDARD
BEGIN:DAYLIGHT
TZOFFSETFROM:-0500
TZOFFSETTO:-0400
TZNAME:EDT
DTSTART:20230312T070000
END:DAYLIGHT
BEGIN:STANDARD
TZOFFSETFROM:-0400
TZOFFSETTO:-0500
TZNAME:EST
DTSTART:20231105T060000
END:STANDARD
END:VTIMEZONE
BEGIN:VEVENT
DTSTART;TZID=America/New_York:20220810T150000
DTEND;TZID=America/New_York:20220810T160000
DTSTAMP:20260419T133655
CREATED:20220617T150403Z
LAST-MODIFIED:20220617T150403Z
UID:23766-1660143600-1660147200@moreheadplanetarium.org
SUMMARY:From Earth to the Universe
DESCRIPTION:
URL:https://moreheadplanetarium.org/calendar/from-earth-to-the-universe-51/
LOCATION:GSK Fulldome Theater
CATEGORIES:Planetarium Shows
END:VEVENT
BEGIN:VEVENT
DTSTART;TZID=America/New_York:20220811T150000
DTEND;TZID=America/New_York:20220811T160000
DTSTAMP:20260419T133655
CREATED:20220617T150405Z
LAST-MODIFIED:20220617T150405Z
UID:23770-1660230000-1660233600@moreheadplanetarium.org
SUMMARY:From Earth to the Universe
DESCRIPTION:
URL:https://moreheadplanetarium.org/calendar/from-earth-to-the-universe-52/
LOCATION:GSK Fulldome Theater
CATEGORIES:Planetarium Shows
END:VEVENT
BEGIN:VEVENT
DTSTART;TZID=America/New_York:20220812T150000
DTEND;TZID=America/New_York:20220812T160000
DTSTAMP:20260419T133655
CREATED:20220617T150407Z
LAST-MODIFIED:20220617T150407Z
UID:23774-1660316400-1660320000@moreheadplanetarium.org
SUMMARY:From Earth to the Universe
DESCRIPTION:
URL:https://moreheadplanetarium.org/calendar/from-earth-to-the-universe-53/
LOCATION:GSK Fulldome Theater
CATEGORIES:Planetarium Shows
END:VEVENT
BEGIN:VEVENT
DTSTART;TZID=America/New_York:20220817T150000
DTEND;TZID=America/New_York:20220817T160000
DTSTAMP:20260419T133655
CREATED:20220617T150413Z
LAST-MODIFIED:20220617T150413Z
UID:23786-1660748400-1660752000@moreheadplanetarium.org
SUMMARY:From Earth to the Universe
DESCRIPTION:
URL:https://moreheadplanetarium.org/calendar/from-earth-to-the-universe-54/
LOCATION:GSK Fulldome Theater
CATEGORIES:Planetarium Shows
END:VEVENT
BEGIN:VEVENT
DTSTART;TZID=America/New_York:20220818T150000
DTEND;TZID=America/New_York:20220818T160000
DTSTAMP:20260419T133655
CREATED:20220617T150414Z
LAST-MODIFIED:20220617T150414Z
UID:23790-1660834800-1660838400@moreheadplanetarium.org
SUMMARY:From Earth to the Universe
DESCRIPTION:
URL:https://moreheadplanetarium.org/calendar/from-earth-to-the-universe-55/
LOCATION:GSK Fulldome Theater
CATEGORIES:Planetarium Shows
END:VEVENT
BEGIN:VEVENT
DTSTART;TZID=America/New_York:20220819T150000
DTEND;TZID=America/New_York:20220819T160000
DTSTAMP:20260419T133655
CREATED:20220617T150416Z
LAST-MODIFIED:20220617T150416Z
UID:23794-1660921200-1660924800@moreheadplanetarium.org
SUMMARY:From Earth to the Universe
DESCRIPTION:
URL:https://moreheadplanetarium.org/calendar/from-earth-to-the-universe-56/
LOCATION:GSK Fulldome Theater
CATEGORIES:Planetarium Shows
END:VEVENT
BEGIN:VEVENT
DTSTART;TZID=America/New_York:20220824T150000
DTEND;TZID=America/New_York:20220824T160000
DTSTAMP:20260419T133655
CREATED:20220617T150422Z
LAST-MODIFIED:20220617T150422Z
UID:23806-1661353200-1661356800@moreheadplanetarium.org
SUMMARY:From Earth to the Universe
DESCRIPTION:
URL:https://moreheadplanetarium.org/calendar/from-earth-to-the-universe-57/
LOCATION:GSK Fulldome Theater
CATEGORIES:Planetarium Shows
END:VEVENT
BEGIN:VEVENT
DTSTART;TZID=America/New_York:20220825T150000
DTEND;TZID=America/New_York:20220825T160000
DTSTAMP:20260419T133655
CREATED:20220617T150424Z
LAST-MODIFIED:20220617T150424Z
UID:23810-1661439600-1661443200@moreheadplanetarium.org
SUMMARY:From Earth to the Universe
DESCRIPTION:
URL:https://moreheadplanetarium.org/calendar/from-earth-to-the-universe-58/
LOCATION:GSK Fulldome Theater
CATEGORIES:Planetarium Shows
END:VEVENT
BEGIN:VEVENT
DTSTART;TZID=America/New_York:20220826T150000
DTEND;TZID=America/New_York:20220826T160000
DTSTAMP:20260419T133655
CREATED:20220617T150425Z
LAST-MODIFIED:20220617T150425Z
UID:23814-1661526000-1661529600@moreheadplanetarium.org
SUMMARY:From Earth to the Universe
DESCRIPTION:
URL:https://moreheadplanetarium.org/calendar/from-earth-to-the-universe-59/
LOCATION:GSK Fulldome Theater
CATEGORIES:Planetarium Shows
END:VEVENT
BEGIN:VEVENT
DTSTART;TZID=America/New_York:20220917T150000
DTEND;TZID=America/New_York:20220917T160000
DTSTAMP:20260419T133655
CREATED:20220831T164054Z
LAST-MODIFIED:20220916T175313Z
UID:24396-1663426800-1663430400@moreheadplanetarium.org
SUMMARY:From Earth to the Universe
DESCRIPTION:
URL:https://moreheadplanetarium.org/calendar/from-earth-to-the-universe-68/
LOCATION:GSK Fulldome Theater
CATEGORIES:Planetarium Shows
END:VEVENT
BEGIN:VEVENT
DTSTART;TZID=America/New_York:20220924T150000
DTEND;TZID=America/New_York:20220924T160000
DTSTAMP:20260419T133655
CREATED:20220831T164051Z
LAST-MODIFIED:20220916T175316Z
UID:24408-1664031600-1664035200@moreheadplanetarium.org
SUMMARY:From Earth to the Universe
DESCRIPTION:
URL:https://moreheadplanetarium.org/calendar/from-earth-to-the-universe-67/
LOCATION:GSK Fulldome Theater
CATEGORIES:Planetarium Shows
END:VEVENT
BEGIN:VEVENT
DTSTART;TZID=America/New_York:20221001T150000
DTEND;TZID=America/New_York:20221001T160000
DTSTAMP:20260419T133655
CREATED:20220831T164017Z
LAST-MODIFIED:20220930T172833Z
UID:24418-1664636400-1664640000@moreheadplanetarium.org
SUMMARY:From Earth to the Universe
DESCRIPTION:
URL:https://moreheadplanetarium.org/calendar/from-earth-to-the-universe-66/
LOCATION:GSK Fulldome Theater
CATEGORIES:Planetarium Shows
END:VEVENT
BEGIN:VEVENT
DTSTART;TZID=America/New_York:20221015T150000
DTEND;TZID=America/New_York:20221015T160000
DTSTAMP:20260419T133655
CREATED:20220831T164002Z
LAST-MODIFIED:20221006T170318Z
UID:24436-1665846000-1665849600@moreheadplanetarium.org
SUMMARY:From Earth to the Universe
DESCRIPTION:
URL:https://moreheadplanetarium.org/calendar/from-earth-to-the-universe-65/
LOCATION:GSK Fulldome Theater
CATEGORIES:Planetarium Shows
END:VEVENT
BEGIN:VEVENT
DTSTART;TZID=America/New_York:20221022T150000
DTEND;TZID=America/New_York:20221022T160000
DTSTAMP:20260419T133655
CREATED:20220831T164000Z
LAST-MODIFIED:20221006T170321Z
UID:24446-1666450800-1666454400@moreheadplanetarium.org
SUMMARY:From Earth to the Universe
DESCRIPTION:
URL:https://moreheadplanetarium.org/calendar/from-earth-to-the-universe-64/
LOCATION:GSK Fulldome Theater
CATEGORIES:Planetarium Shows
END:VEVENT
BEGIN:VEVENT
DTSTART;TZID=America/New_York:20221029T150000
DTEND;TZID=America/New_York:20221029T160000
DTSTAMP:20260419T133655
CREATED:20220831T163942Z
LAST-MODIFIED:20221006T170324Z
UID:24456-1667055600-1667059200@moreheadplanetarium.org
SUMMARY:From Earth to the Universe
DESCRIPTION:
URL:https://moreheadplanetarium.org/calendar/from-earth-to-the-universe-63/
LOCATION:GSK Fulldome Theater
CATEGORIES:Planetarium Shows
END:VEVENT
BEGIN:VEVENT
DTSTART;TZID=America/New_York:20221105T150000
DTEND;TZID=America/New_York:20221105T160000
DTSTAMP:20260419T133655
CREATED:20220831T163940Z
LAST-MODIFIED:20221031T175726Z
UID:24465-1667660400-1667664000@moreheadplanetarium.org
SUMMARY:From Earth to the Universe
DESCRIPTION:
URL:https://moreheadplanetarium.org/calendar/from-earth-to-the-universe-62/
LOCATION:GSK Fulldome Theater
CATEGORIES:Planetarium Shows
END:VEVENT
BEGIN:VEVENT
DTSTART;TZID=America/New_York:20221112T150000
DTEND;TZID=America/New_York:20221112T160000
DTSTAMP:20260419T133655
CREATED:20220831T163923Z
LAST-MODIFIED:20221108T194323Z
UID:24474-1668265200-1668268800@moreheadplanetarium.org
SUMMARY:From Earth to the Universe
DESCRIPTION:
URL:https://moreheadplanetarium.org/calendar/from-earth-to-the-universe-61/
LOCATION:GSK Fulldome Theater
CATEGORIES:Planetarium Shows
END:VEVENT
BEGIN:VEVENT
DTSTART;TZID=America/New_York:20221119T150000
DTEND;TZID=America/New_York:20221119T160000
DTSTAMP:20260419T133655
CREATED:20220831T163921Z
LAST-MODIFIED:20221108T194326Z
UID:24484-1668870000-1668873600@moreheadplanetarium.org
SUMMARY:From Earth to the Universe
DESCRIPTION:
URL:https://moreheadplanetarium.org/calendar/from-earth-to-the-universe-60/
LOCATION:GSK Fulldome Theater
CATEGORIES:Planetarium Shows
END:VEVENT
BEGIN:VEVENT
DTSTART;TZID=America/New_York:20230311T120000
DTEND;TZID=America/New_York:20230311T130000
DTSTAMP:20260419T133655
CREATED:20230125T162028Z
LAST-MODIFIED:20230215T213104Z
UID:26934-1678536000-1678539600@moreheadplanetarium.org
SUMMARY:From Earth to the Universe
DESCRIPTION:
URL:https://moreheadplanetarium.org/calendar/from-earth-to-the-universe-71/
LOCATION:GSK Fulldome Theater
CATEGORIES:Planetarium Shows
END:VEVENT
BEGIN:VEVENT
DTSTART;TZID=America/New_York:20230325T120000
DTEND;TZID=America/New_York:20230325T130000
DTSTAMP:20260419T133655
CREATED:20230125T161957Z
LAST-MODIFIED:20230314T145127Z
UID:26954-1679745600-1679749200@moreheadplanetarium.org
SUMMARY:From Earth to the Universe
DESCRIPTION:
URL:https://moreheadplanetarium.org/calendar/from-earth-to-the-universe-70/
LOCATION:GSK Fulldome Theater
CATEGORIES:Planetarium Shows
END:VEVENT
BEGIN:VEVENT
DTSTART;TZID=America/New_York:20230408T120000
DTEND;TZID=America/New_York:20230408T130000
DTSTAMP:20260419T133655
CREATED:20230125T161932Z
LAST-MODIFIED:20230314T150049Z
UID:26972-1680955200-1680958800@moreheadplanetarium.org
SUMMARY:From Earth to the Universe
DESCRIPTION:
URL:https://moreheadplanetarium.org/calendar/from-earth-to-the-universe-69/
LOCATION:GSK Fulldome Theater
CATEGORIES:Planetarium Shows
END:VEVENT
BEGIN:VEVENT
DTSTART;TZID=America/New_York:20230422T120000
DTEND;TZID=America/New_York:20230422T130000
DTSTAMP:20260419T133655
CREATED:20230125T161857Z
LAST-MODIFIED:20230420T134435Z
UID:26992-1682164800-1682168400@moreheadplanetarium.org
SUMMARY:From Earth to the Universe
DESCRIPTION:
URL:https://moreheadplanetarium.org/calendar/from-earth-to-the-universe-36/
LOCATION:GSK Fulldome Theater
CATEGORIES:Planetarium Shows
END:VEVENT
BEGIN:VEVENT
DTSTART;TZID=America/New_York:20230506T120000
DTEND;TZID=America/New_York:20230506T130000
DTSTAMP:20260419T133655
CREATED:20230215T213626Z
LAST-MODIFIED:20230420T134525Z
UID:27424-1683374400-1683378000@moreheadplanetarium.org
SUMMARY:From Earth to the Universe
DESCRIPTION:
URL:https://moreheadplanetarium.org/calendar/from-earth-to-the-universe-72/
LOCATION:GSK Fulldome Theater
CATEGORIES:Planetarium Shows
END:VEVENT
BEGIN:VEVENT
DTSTART;TZID=America/New_York:20230520T120000
DTEND;TZID=America/New_York:20230520T130000
DTSTAMP:20260419T133655
CREATED:20230420T142603Z
LAST-MODIFIED:20230519T214239Z
UID:27659-1684584000-1684587600@moreheadplanetarium.org
SUMMARY:From Earth to the Universe
DESCRIPTION:
URL:https://moreheadplanetarium.org/calendar/from-earth-to-the-universe-73/
LOCATION:GSK Fulldome Theater
CATEGORIES:Planetarium Shows
END:VEVENT
BEGIN:VEVENT
DTSTART;TZID=America/New_York:20230603T120000
DTEND;TZID=America/New_York:20230603T130000
DTSTAMP:20260419T133655
CREATED:20230420T142646Z
LAST-MODIFIED:20230602T015207Z
UID:28063-1685793600-1685797200@moreheadplanetarium.org
SUMMARY:From Earth to the Universe
DESCRIPTION:
URL:https://moreheadplanetarium.org/calendar/from-earth-to-the-universe-74/
LOCATION:GSK Fulldome Theater
CATEGORIES:Planetarium Shows
END:VEVENT
BEGIN:VEVENT
DTSTART;TZID=America/New_York:20230902T120000
DTEND;TZID=America/New_York:20230902T130000
DTSTAMP:20260419T133655
CREATED:20230816T132332Z
LAST-MODIFIED:20230816T132332Z
UID:29399-1693656000-1693659600@moreheadplanetarium.org
SUMMARY:From Earth to the Universe
DESCRIPTION:
URL:https://moreheadplanetarium.org/calendar/from-earth-to-the-universe-80/
CATEGORIES:Planetarium Shows
END:VEVENT
BEGIN:VEVENT
DTSTART;TZID=America/New_York:20230930T120000
DTEND;TZID=America/New_York:20230930T130000
DTSTAMP:20260419T133655
CREATED:20230816T132223Z
LAST-MODIFIED:20230816T132223Z
UID:29439-1696075200-1696078800@moreheadplanetarium.org
SUMMARY:From Earth to the Universe
DESCRIPTION:
URL:https://moreheadplanetarium.org/calendar/from-earth-to-the-universe-78/
CATEGORIES:Planetarium Shows
END:VEVENT
BEGIN:VEVENT
DTSTART;TZID=America/New_York:20231014T120000
DTEND;TZID=America/New_York:20231014T130000
DTSTAMP:20260419T133655
CREATED:20230816T132139Z
LAST-MODIFIED:20230816T132139Z
UID:29459-1697284800-1697288400@moreheadplanetarium.org
SUMMARY:From Earth to the Universe
DESCRIPTION:
URL:https://moreheadplanetarium.org/calendar/from-earth-to-the-universe-77/
CATEGORIES:Planetarium Shows
END:VEVENT
BEGIN:VEVENT
DTSTART;TZID=America/New_York:20231020T173000
DTEND;TZID=America/New_York:20231020T190000
DTSTAMP:20260419T133655
CREATED:20231011T161820Z
LAST-MODIFIED:20250829T123318Z
UID:30462-1697823000-1697828400@moreheadplanetarium.org
SUMMARY:October Teen Science Cafe | Exploring the Future of Moon Travel
DESCRIPTION:Join us for our October Teen Science Cafe! \n\n\n\nPlease join us at Morehead Planetarium on Friday\, October 20th for a very exciting Teen Science Cafe! We will be exploring astronomy and future of future of space travel to and from the moon with Morehead Planetarium’s Full Dome Show “Forward! To the Moon.” The right doors up the big stairs will open at 5:30 for pizza and conversation. The cafe will start at 6:00 and wrap up around 7:00. \n\n\n\n\nLearn about NASA’s Artemis program and plans for the next trip to the Moon.\n\n\n\nKari Byron from Crash Test World and MythBusters launches us on a journey beyond the Earth towards a sustainable future in space. NASA’s 21st century Artemis program\, named after the Greek moon Goddess and twin of Apollo\, is the next step in our mission to explore the universe and land the first woman and person of color on the surface of the Moon. \n\n\n\nProduced by Fiske Planetarium in collaboration with TEND Studio with funding from NASA SSERVI and Lockheed Martin. \n\n\n\n\nProgram Schedule\n\n\n\n5:30 pm – Arrive and check in. We will gather inside the west\, main entrance of Morehead. \n\n\n\n5:30 pm – 6:00 pm: Pizza social. Pizza social will take place in our classrooms\, located on the 2nd floor. \n\n\n\n6:00 pm – 7:00 pm: Discussion & activities. Presentations will take place at the Full Dome Theater. \n\n\n\n*Please Note: Depending on scheduled activities\, the program may end between 7:00 p.m. and 7:30 p.m.
URL:https://moreheadplanetarium.org/calendar/october-teen-science-cafe-exploring-the-future-of-moon-travel/
LOCATION:Morehead Planetarium Fulldome Theater\, 250 E Franklin St\, Chapel Hill\, North Carolina\, 27514\, United States
CATEGORIES:Teen And Adult Programs
ATTACH;FMTTYPE=image/png:https://moreheadplanetarium.org/wp-content/uploads/2023/04/FB_TSC.png
END:VEVENT
BEGIN:VEVENT
DTSTART;TZID=America/New_York:20231028T120000
DTEND;TZID=America/New_York:20231028T130000
DTSTAMP:20260419T133655
CREATED:20230816T132052Z
LAST-MODIFIED:20230816T132052Z
UID:29479-1698494400-1698498000@moreheadplanetarium.org
SUMMARY:From Earth to the Universe
DESCRIPTION:
URL:https://moreheadplanetarium.org/calendar/from-earth-to-the-universe-76/
CATEGORIES:Planetarium Shows
END:VEVENT
END:VCALENDAR