BEGIN:VCALENDAR
VERSION:2.0
PRODID:-//Morehead Planetarium and Science Center - ECPv6.13.2.1//NONSGML v1.0//EN
CALSCALE:GREGORIAN
METHOD:PUBLISH
X-WR-CALNAME:Morehead Planetarium and Science Center
X-ORIGINAL-URL:https://moreheadplanetarium.org
X-WR-CALDESC:Events for Morehead Planetarium and Science Center
REFRESH-INTERVAL;VALUE=DURATION:PT1H
X-Robots-Tag:noindex
X-PUBLISHED-TTL:PT1H
BEGIN:VTIMEZONE
TZID:America/New_York
BEGIN:DAYLIGHT
TZOFFSETFROM:-0500
TZOFFSETTO:-0400
TZNAME:EDT
DTSTART:20240310T070000
END:DAYLIGHT
BEGIN:STANDARD
TZOFFSETFROM:-0400
TZOFFSETTO:-0500
TZNAME:EST
DTSTART:20241103T060000
END:STANDARD
BEGIN:DAYLIGHT
TZOFFSETFROM:-0500
TZOFFSETTO:-0400
TZNAME:EDT
DTSTART:20250309T070000
END:DAYLIGHT
BEGIN:STANDARD
TZOFFSETFROM:-0400
TZOFFSETTO:-0500
TZNAME:EST
DTSTART:20251102T060000
END:STANDARD
BEGIN:DAYLIGHT
TZOFFSETFROM:-0500
TZOFFSETTO:-0400
TZNAME:EDT
DTSTART:20260308T070000
END:DAYLIGHT
BEGIN:STANDARD
TZOFFSETFROM:-0400
TZOFFSETTO:-0500
TZNAME:EST
DTSTART:20261101T060000
END:STANDARD
END:VTIMEZONE
BEGIN:VEVENT
DTSTART;TZID=America/New_York:20260301T133000
DTEND;TZID=America/New_York:20260301T143000
DTSTAMP:20260419T135906
CREATED:20251217T234126Z
LAST-MODIFIED:20251217T234126Z
UID:38065-1772371800-1772375400@moreheadplanetarium.org
SUMMARY:Solar System Odyssey
DESCRIPTION:
URL:https://moreheadplanetarium.org/calendar/solar-system-odyssey-91/
CATEGORIES:Planetarium Shows
END:VEVENT
BEGIN:VEVENT
DTSTART;TZID=America/New_York:20260222T133000
DTEND;TZID=America/New_York:20260222T143000
DTSTAMP:20260419T135906
CREATED:20251217T234042Z
LAST-MODIFIED:20251217T234042Z
UID:38054-1771767000-1771770600@moreheadplanetarium.org
SUMMARY:Solar System Odyssey
DESCRIPTION:
URL:https://moreheadplanetarium.org/calendar/solar-system-odyssey-90/
CATEGORIES:Planetarium Shows
END:VEVENT
BEGIN:VEVENT
DTSTART;TZID=America/New_York:20260215T133000
DTEND;TZID=America/New_York:20260215T143000
DTSTAMP:20260419T135906
CREATED:20251217T234011Z
LAST-MODIFIED:20251217T234011Z
UID:38043-1771162200-1771165800@moreheadplanetarium.org
SUMMARY:Solar System Odyssey
DESCRIPTION:
URL:https://moreheadplanetarium.org/calendar/solar-system-odyssey-89/
CATEGORIES:Planetarium Shows
END:VEVENT
BEGIN:VEVENT
DTSTART;TZID=America/New_York:20260208T133000
DTEND;TZID=America/New_York:20260208T143000
DTSTAMP:20260419T135906
CREATED:20251217T233927Z
LAST-MODIFIED:20251217T233927Z
UID:38028-1770557400-1770561000@moreheadplanetarium.org
SUMMARY:Solar System Odyssey
DESCRIPTION:
URL:https://moreheadplanetarium.org/calendar/solar-system-odyssey-88/
CATEGORIES:Planetarium Shows
END:VEVENT
BEGIN:VEVENT
DTSTART;TZID=America/New_York:20260201T133000
DTEND;TZID=America/New_York:20260201T143000
DTSTAMP:20260419T135906
CREATED:20251217T233855Z
LAST-MODIFIED:20260130T234732Z
UID:38017-1769952600-1769956200@moreheadplanetarium.org
SUMMARY:[CANCELLED] Solar System Odyssey
DESCRIPTION:
URL:https://moreheadplanetarium.org/calendar/solar-system-odyssey-87/
CATEGORIES:Planetarium Shows
END:VEVENT
BEGIN:VEVENT
DTSTART;TZID=America/New_York:20260125T133000
DTEND;TZID=America/New_York:20260125T143000
DTSTAMP:20260419T135906
CREATED:20251030T151629Z
LAST-MODIFIED:20260123T161428Z
UID:37499-1769347800-1769351400@moreheadplanetarium.org
SUMMARY:[CANCELLED] Solar System Odyssey
DESCRIPTION:
URL:https://moreheadplanetarium.org/calendar/solar-system-odyssey-86/
CATEGORIES:Planetarium Shows
END:VEVENT
BEGIN:VEVENT
DTSTART;TZID=America/New_York:20260118T133000
DTEND;TZID=America/New_York:20260118T143000
DTSTAMP:20260419T135906
CREATED:20251030T151227Z
LAST-MODIFIED:20251030T151227Z
UID:37489-1768743000-1768746600@moreheadplanetarium.org
SUMMARY:Solar System Odyssey
DESCRIPTION:
URL:https://moreheadplanetarium.org/calendar/solar-system-odyssey-85/
CATEGORIES:Planetarium Shows
END:VEVENT
BEGIN:VEVENT
DTSTART;TZID=America/New_York:20260111T133000
DTEND;TZID=America/New_York:20260111T143000
DTSTAMP:20260419T135906
CREATED:20251030T150825Z
LAST-MODIFIED:20251030T150825Z
UID:37479-1768138200-1768141800@moreheadplanetarium.org
SUMMARY:Solar System Odyssey
DESCRIPTION:
URL:https://moreheadplanetarium.org/calendar/solar-system-odyssey-84/
CATEGORIES:Planetarium Shows
END:VEVENT
BEGIN:VEVENT
DTSTART;TZID=America/New_York:20260104T133000
DTEND;TZID=America/New_York:20260104T143000
DTSTAMP:20260419T135906
CREATED:20251030T142805Z
LAST-MODIFIED:20251030T142805Z
UID:37469-1767533400-1767537000@moreheadplanetarium.org
SUMMARY:Solar System Odyssey
DESCRIPTION:
URL:https://moreheadplanetarium.org/calendar/solar-system-odyssey-83/
CATEGORIES:Planetarium Shows
END:VEVENT
BEGIN:VEVENT
DTSTART;TZID=America/New_York:20251221T133000
DTEND;TZID=America/New_York:20251221T143000
DTSTAMP:20260419T135906
CREATED:20251030T142403Z
LAST-MODIFIED:20251030T142403Z
UID:37459-1766323800-1766327400@moreheadplanetarium.org
SUMMARY:Solar System Odyssey
DESCRIPTION:
URL:https://moreheadplanetarium.org/calendar/solar-system-odyssey-82/
CATEGORIES:Planetarium Shows
END:VEVENT
BEGIN:VEVENT
DTSTART;TZID=America/New_York:20251214T133000
DTEND;TZID=America/New_York:20251214T143000
DTSTAMP:20260419T135906
CREATED:20251030T142001Z
LAST-MODIFIED:20251030T142001Z
UID:37449-1765719000-1765722600@moreheadplanetarium.org
SUMMARY:Solar System Odyssey
DESCRIPTION:
URL:https://moreheadplanetarium.org/calendar/solar-system-odyssey-81/
CATEGORIES:Planetarium Shows
END:VEVENT
BEGIN:VEVENT
DTSTART;TZID=America/New_York:20251207T133000
DTEND;TZID=America/New_York:20251207T143000
DTSTAMP:20260419T135906
CREATED:20251030T141614Z
LAST-MODIFIED:20251030T141614Z
UID:37439-1765114200-1765117800@moreheadplanetarium.org
SUMMARY:Solar System Odyssey
DESCRIPTION:
URL:https://moreheadplanetarium.org/calendar/solar-system-odyssey-80/
CATEGORIES:Planetarium Shows
END:VEVENT
BEGIN:VEVENT
DTSTART;TZID=America/New_York:20251130T133000
DTEND;TZID=America/New_York:20251130T143000
DTSTAMP:20260419T135906
CREATED:20251030T141357Z
LAST-MODIFIED:20251030T141357Z
UID:37428-1764509400-1764513000@moreheadplanetarium.org
SUMMARY:Solar System Odyssey
DESCRIPTION:
URL:https://moreheadplanetarium.org/calendar/solar-system-odyssey-79/
CATEGORIES:Planetarium Shows
END:VEVENT
BEGIN:VEVENT
DTSTART;TZID=America/New_York:20250524T120000
DTEND;TZID=America/New_York:20250524T130000
DTSTAMP:20260419T135906
CREATED:20250312T162158Z
LAST-MODIFIED:20250312T162158Z
UID:35677-1748088000-1748091600@moreheadplanetarium.org
SUMMARY:Solar System Odyssey
DESCRIPTION:
URL:https://moreheadplanetarium.org/calendar/solar-system-odyssey-78/
CATEGORIES:Planetarium Shows
END:VEVENT
BEGIN:VEVENT
DTSTART;TZID=America/New_York:20250426T120000
DTEND;TZID=America/New_York:20250426T130000
DTSTAMP:20260419T135906
CREATED:20250312T161339Z
LAST-MODIFIED:20250312T161339Z
UID:35645-1745668800-1745672400@moreheadplanetarium.org
SUMMARY:Solar System Odyssey
DESCRIPTION:
URL:https://moreheadplanetarium.org/calendar/solar-system-odyssey-77/
CATEGORIES:Planetarium Shows
END:VEVENT
BEGIN:VEVENT
DTSTART;TZID=America/New_York:20250329T120000
DTEND;TZID=America/New_York:20250329T130000
DTSTAMP:20260419T135906
CREATED:20250122T150301Z
LAST-MODIFIED:20250122T150301Z
UID:35298-1743249600-1743253200@moreheadplanetarium.org
SUMMARY:Solar System Odyssey
DESCRIPTION:
URL:https://moreheadplanetarium.org/calendar/solar-system-odyssey-76/
CATEGORIES:Planetarium Shows
END:VEVENT
BEGIN:VEVENT
DTSTART;TZID=America/New_York:20250315T120000
DTEND;TZID=America/New_York:20250315T130000
DTSTAMP:20260419T135906
CREATED:20250122T145748Z
LAST-MODIFIED:20250122T145748Z
UID:35280-1742040000-1742043600@moreheadplanetarium.org
SUMMARY:Solar System Odyssey
DESCRIPTION:
URL:https://moreheadplanetarium.org/calendar/solar-system-odyssey-75/
CATEGORIES:Planetarium Shows
END:VEVENT
BEGIN:VEVENT
DTSTART;TZID=America/New_York:20250305T170000
DTEND;TZID=America/New_York:20250305T190000
DTSTAMP:20260419T135906
CREATED:20250207T225305Z
LAST-MODIFIED:20250303T132018Z
UID:35385-1741194000-1741201200@moreheadplanetarium.org
SUMMARY:I AM: The Student Experience
DESCRIPTION:Join us for an evening of enchanting music and stellar wellness at Morehead Planetarium and Science Center! We are thrilled to welcome Grammy® -nominated Artist and Composer Radhika Vekaria and astrophysicist Nick Siegler to Morehead. The event includes a live performance by Radhika\, a screening of the short film I AM\, a short\, guided meditation to embrace mindfulness\, and a Q&A session with the artist. UNC Student Affairs will be on-hand with resources promoting healthy wellbeing and fun giveaways. Enjoy snacks and hands-on activities in Morehead’s exhibit galleries; did we mention puppies on the portico? \n\n\n\nThis event free and open to the UNC community; registration is encouraged. This event is brought to you in partnership by Student Wellness and Morehead Planetarium and Science Center in support of UNC community wellness. \n\n\n\nClick here to register \n\n\n\n\n\n\n\n\nThe Artist and The Scientist: A Collaboration of WonderWhat happens when a Grammy®-nominated instrumentalist\, composer\, and vocalist connects with a highly regarded astrophysicist? Together\, they create I AM\, a one-of-a-kind show—an immersion excursion for the body and mind\, exploring the distant Universe and our Solar System through awe-inspiring imagery and sound. \n\n\n\n\n \n\n\n\nMusician Radhika Vekaria describes the short film\, I AM\, as “an open invitation to (our) hearts for an immersive odyssey.” Radhika’s voice blends ancient Vedic sounds with captivating imagery of the cosmos curated by astrophysicist Nick Siegler. Inside Morehead’s fulldome theater\, I AM takes you on a voyage of curiosity\, reflection\, and wonder. Sit back\, breathe deeply\, and enjoy the experience. \n\n\n\nEverything you’re about to see and feel… is real. \n\n\n\nImagined and produced by Grammy®-nominated Artist and Composer\, Radhika Vekaria\, Terry Torok\, Co-founder of the Creative Intelligence Agency and astrophysicist Nick Siegler.Digital production by Ben Fox and Eric Ho\, Morehead Planetarium and Science Center.
URL:https://moreheadplanetarium.org/calendar/i-am-the-experience/
LOCATION:Morehead Planetarium Fulldome Theater\, 250 E Franklin St\, Chapel Hill\, North Carolina\, 27514\, United States
END:VEVENT
BEGIN:VEVENT
DTSTART;TZID=America/New_York:20250301T120000
DTEND;TZID=America/New_York:20250301T130000
DTSTAMP:20260419T135906
CREATED:20250122T145328Z
LAST-MODIFIED:20250122T145328Z
UID:35260-1740830400-1740834000@moreheadplanetarium.org
SUMMARY:Solar System Odyssey
DESCRIPTION:
URL:https://moreheadplanetarium.org/calendar/solar-system-odyssey-74/
CATEGORIES:Planetarium Shows
END:VEVENT
BEGIN:VEVENT
DTSTART;TZID=America/New_York:20240816T120000
DTEND;TZID=America/New_York:20240816T130000
DTSTAMP:20260419T135906
CREATED:20240514T214209Z
LAST-MODIFIED:20240514T214209Z
UID:33507-1723809600-1723813200@moreheadplanetarium.org
SUMMARY:Solar System Odyssey
DESCRIPTION:
URL:https://moreheadplanetarium.org/calendar/solar-system-odyssey-73/
END:VEVENT
BEGIN:VEVENT
DTSTART;TZID=America/New_York:20240814T120000
DTEND;TZID=America/New_York:20240814T130000
DTSTAMP:20260419T135906
CREATED:20240514T213111Z
LAST-MODIFIED:20240514T213111Z
UID:33499-1723636800-1723640400@moreheadplanetarium.org
SUMMARY:Solar System Odyssey
DESCRIPTION:
URL:https://moreheadplanetarium.org/calendar/solar-system-odyssey-72/
END:VEVENT
BEGIN:VEVENT
DTSTART;TZID=America/New_York:20240809T120000
DTEND;TZID=America/New_York:20240809T130000
DTSTAMP:20260419T135906
CREATED:20240514T203139Z
LAST-MODIFIED:20240514T203139Z
UID:33483-1723204800-1723208400@moreheadplanetarium.org
SUMMARY:Solar System Odyssey
DESCRIPTION:
URL:https://moreheadplanetarium.org/calendar/solar-system-odyssey-71/
END:VEVENT
BEGIN:VEVENT
DTSTART;TZID=America/New_York:20240807T120000
DTEND;TZID=America/New_York:20240807T130000
DTSTAMP:20260419T135906
CREATED:20240514T200151Z
LAST-MODIFIED:20240514T200151Z
UID:33475-1723032000-1723035600@moreheadplanetarium.org
SUMMARY:Solar System Odyssey
DESCRIPTION:
URL:https://moreheadplanetarium.org/calendar/solar-system-odyssey-70/
CATEGORIES:Planetarium Shows
END:VEVENT
BEGIN:VEVENT
DTSTART;TZID=America/New_York:20240802T120000
DTEND;TZID=America/New_York:20240802T130000
DTSTAMP:20260419T135906
CREATED:20240514T195548Z
LAST-MODIFIED:20240514T195548Z
UID:33459-1722600000-1722603600@moreheadplanetarium.org
SUMMARY:Solar System Odyssey
DESCRIPTION:
URL:https://moreheadplanetarium.org/calendar/solar-system-odyssey-69/
CATEGORIES:Planetarium Shows
END:VEVENT
BEGIN:VEVENT
DTSTART;TZID=America/New_York:20240731T120000
DTEND;TZID=America/New_York:20240731T130000
DTSTAMP:20260419T135906
CREATED:20240514T195346Z
LAST-MODIFIED:20240514T195346Z
UID:33451-1722427200-1722430800@moreheadplanetarium.org
SUMMARY:Solar System Odyssey
DESCRIPTION:
URL:https://moreheadplanetarium.org/calendar/solar-system-odyssey-68/
CATEGORIES:Planetarium Shows
END:VEVENT
BEGIN:VEVENT
DTSTART;TZID=America/New_York:20240726T120000
DTEND;TZID=America/New_York:20240726T130000
DTSTAMP:20260419T135906
CREATED:20240514T195246Z
LAST-MODIFIED:20240514T195246Z
UID:33435-1721995200-1721998800@moreheadplanetarium.org
SUMMARY:Solar System Odyssey
DESCRIPTION:
URL:https://moreheadplanetarium.org/calendar/solar-system-odyssey-67/
CATEGORIES:Planetarium Shows
END:VEVENT
BEGIN:VEVENT
DTSTART;TZID=America/New_York:20240724T120000
DTEND;TZID=America/New_York:20240724T130000
DTSTAMP:20260419T135906
CREATED:20240514T195230Z
LAST-MODIFIED:20240514T195230Z
UID:33427-1721822400-1721826000@moreheadplanetarium.org
SUMMARY:Solar System Odyssey
DESCRIPTION:
URL:https://moreheadplanetarium.org/calendar/solar-system-odyssey-66/
CATEGORIES:Planetarium Shows
END:VEVENT
BEGIN:VEVENT
DTSTART;TZID=America/New_York:20240719T120000
DTEND;TZID=America/New_York:20240719T130000
DTSTAMP:20260419T135906
CREATED:20240514T195145Z
LAST-MODIFIED:20240514T195145Z
UID:33411-1721390400-1721394000@moreheadplanetarium.org
SUMMARY:Solar System Odyssey
DESCRIPTION:
URL:https://moreheadplanetarium.org/calendar/solar-system-odyssey-65/
CATEGORIES:Planetarium Shows
END:VEVENT
BEGIN:VEVENT
DTSTART;TZID=America/New_York:20240717T120000
DTEND;TZID=America/New_York:20240717T130000
DTSTAMP:20260419T135906
CREATED:20240514T193850Z
LAST-MODIFIED:20240514T193850Z
UID:33403-1721217600-1721221200@moreheadplanetarium.org
SUMMARY:Solar System Odyssey
DESCRIPTION:
URL:https://moreheadplanetarium.org/calendar/solar-system-odyssey-64/
END:VEVENT
BEGIN:VEVENT
DTSTART;TZID=America/New_York:20240712T120000
DTEND;TZID=America/New_York:20240712T130000
DTSTAMP:20260419T135906
CREATED:20240514T183409Z
LAST-MODIFIED:20240514T183409Z
UID:33383-1720785600-1720789200@moreheadplanetarium.org
SUMMARY:Solar System Odyssey
DESCRIPTION:
URL:https://moreheadplanetarium.org/calendar/solar-system-odyssey-63/
END:VEVENT
END:VCALENDAR