BEGIN:VCALENDAR
VERSION:2.0
PRODID:-//Morehead Planetarium and Science Center - ECPv6.13.2.1//NONSGML v1.0//EN
CALSCALE:GREGORIAN
METHOD:PUBLISH
X-ORIGINAL-URL:https://moreheadplanetarium.org
X-WR-CALDESC:Events for Morehead Planetarium and Science Center
REFRESH-INTERVAL;VALUE=DURATION:PT1H
X-Robots-Tag:noindex
X-PUBLISHED-TTL:PT1H
BEGIN:VTIMEZONE
TZID:America/New_York
BEGIN:DAYLIGHT
TZOFFSETFROM:-0500
TZOFFSETTO:-0400
TZNAME:EDT
DTSTART:20250309T070000
END:DAYLIGHT
BEGIN:STANDARD
TZOFFSETFROM:-0400
TZOFFSETTO:-0500
TZNAME:EST
DTSTART:20251102T060000
END:STANDARD
BEGIN:DAYLIGHT
TZOFFSETFROM:-0500
TZOFFSETTO:-0400
TZNAME:EDT
DTSTART:20260308T070000
END:DAYLIGHT
BEGIN:STANDARD
TZOFFSETFROM:-0400
TZOFFSETTO:-0500
TZNAME:EST
DTSTART:20261101T060000
END:STANDARD
END:VTIMEZONE
BEGIN:VEVENT
DTSTART;TZID=America/New_York:20251123T174500
DTEND;TZID=America/New_York:20251123T184500
DTSTAMP:20260419T232632
CREATED:20251121T181051Z
LAST-MODIFIED:20251121T181052Z
UID:37693-1763919900-1763923500@moreheadplanetarium.org
SUMMARY:Skywatching at the Morehead Sundial
DESCRIPTION:Join Morehead Planetarium and Science Center for free pop-up skywatching at the Morehead Sundial! On this night\, we’ll be focusing on Saturn’s nearly edge-on rings. \n\n\n\nThis is an informal session\, so you can arrive and leave at any time during the program. We ask that you leave all pets at home\, even those on a leash. Darkness\, lots of people\, expensive telescopes\, and pets are a bad combination. Pets will not be permitted near the telescopes. \n\n\n\nPlease note that this event is weather-dependent. In the event of a cancellation\, we will provide updates on our website and social media. \n\n\n\n\n\n\n\n\n\nHave more questions about skywatching? Visit our FAQs page! \n\n\n\n\nSkywatching FAQs
URL:https://moreheadplanetarium.org/calendar/skywatching-at-the-morehead-sundial/
LOCATION:Morehead Planetarium Sundial\, 220 E Franklin Street\, Chapel Hill\, North Carolina\, 27514\, United States
CATEGORIES:Teen And Adult Programs,Youth Programs
ATTACH;FMTTYPE=image/jpeg:https://moreheadplanetarium.org/wp-content/uploads/2023/08/007316_skywatching_morehead031-scaled.jpg
END:VEVENT
BEGIN:VEVENT
DTSTART;TZID=America/New_York:20251213T200000
DTEND;TZID=America/New_York:20251213T220000
DTSTAMP:20260419T232632
CREATED:20251121T160513Z
LAST-MODIFIED:20251121T160514Z
UID:37681-1765656000-1765663200@moreheadplanetarium.org
SUMMARY:Skywatching at Stagville — Geminid Meteor Shower
DESCRIPTION:Join staff and volunteers from Morehead Planetarium and Science Center\, Chapel Hill Astronomical and Observational Society (CHAOS)\, and Historic Stagville for the peak night of the Geminid meteor shower! \n\n\n\nTo view meteors\, all you need are your eyes. However\, we’ll offer telescopes for you to catch Saturn\, Jupiter\, and other celestial sights. Please note that this event is weather-dependent. In the event of a cancellation\, we will provide updates on our website and social media. \n\n\n\nTo attend and receive updates about this free event\, please register using the link below. We hope to see you there! \n\n\n\n\nRegister\n\n\n\n\n\n\n\n\n\n\nKnow Before You Go\n\n\n\n\nThis outdoor event will take place in the open field at the Horton Grove entrance of Historic Stagville State Historic Site. Due to the high volume of people and limited parking\, please carpool if possible.\n\n\n\nThis is an informal session\, so you can arrive and leave at any time during the program. However\, if you plan to attend\, we suggest bringing a blanket or chairs and some snacks so you can relax under the stars.\n\n\n\nWe ask that you leave all pets at home\, even those on a leash. Darkness\, lots of people\, expensive telescopes\, and pets are a bad combination. Pets will not be permitted near the telescopes.\n\n\n\n\nHave more questions about skywatching? Visit our FAQs page! \n\n\n\n\nSkywatching FAQs
URL:https://moreheadplanetarium.org/calendar/skywatching-at-stagville-geminid-meteor-shower/
LOCATION:Horton Grove – Historic Stagville State Historic Site\, 5925 Jock Road\, Bahama\, North Carolina\, 27503\, United States
CATEGORIES:Teen And Adult Programs,Youth Programs
ATTACH;FMTTYPE=image/jpeg:https://moreheadplanetarium.org/wp-content/uploads/2023/08/007316_skywatching_morehead031-scaled.jpg
END:VEVENT
BEGIN:VEVENT
DTSTART;TZID=America/New_York:20260306T180000
DTEND;TZID=America/New_York:20260306T210000
DTSTAMP:20260419T232632
CREATED:20251203T221802Z
LAST-MODIFIED:20260305T152848Z
UID:37888-1772820000-1772830800@moreheadplanetarium.org
SUMMARY:[CANCELLED] Astronomy Workshop - Advanced Training
DESCRIPTION:
URL:https://moreheadplanetarium.org/calendar/astronomy-workshop-advanced-training-4/
CATEGORIES:Youth Programs
END:VEVENT
BEGIN:VEVENT
DTSTART;TZID=America/New_York:20260307T090000
DTEND;TZID=America/New_York:20260307T123000
DTSTAMP:20260419T232632
CREATED:20260224T205634Z
LAST-MODIFIED:20260224T205704Z
UID:38762-1772874000-1772886600@moreheadplanetarium.org
SUMMARY:Science for All Youth Summit
DESCRIPTION:Explore STEM in new and exciting ways!\n\n\n\nSaturday\, March 7\, 2026 | 9 AM – 12:30 PM\n\n\n\nRegistration closes on March 1 \n\n\n\n\n\n\n\n\n\n\n\nJoin us for a fun-filled day of STEM exploration! Designed for students in grades 4–7 from underserved and underrepresented backgrounds\, the Science for All Youth Summit offers hands-on activities led by college students from UNC‑Chapel Hill\, NC State\, and Duke. Past favorites include microscope discoveries\, lemon-powered circuits\, and biomechanics challenges. \n\n\n\nRegistration includes lunch\, swag\, and an event t‑shirt. \n\n\n\nThanks to the generous support of Gilead Sciences\, this program remains accessible for families. \n\n\n\nCome experiment\, create\, and discover something new!  \n\n\n\n\n\n\n\n\n\nRegister for the Youth Summit today! Registration is open until March 1. \n\n\n\n\nLearn more about the Youth Summit
URL:https://moreheadplanetarium.org/calendar/science-for-all-youth-summit/
LOCATION:Morehead Planetarium and Science Center\, 250 E Franklin St\, Chapel Hill\, North Carolina\, 27516\, United States
CATEGORIES:Special Programs,Youth Programs
ATTACH;FMTTYPE=image/png:https://moreheadplanetarium.org/wp-content/uploads/2019/11/2026_SFAYS_logo_fullcolor-1.png
END:VEVENT
END:VCALENDAR