BEGIN:VCALENDAR
VERSION:2.0
PRODID:-//Morehead Planetarium and Science Center - ECPv6.13.2.1//NONSGML v1.0//EN
CALSCALE:GREGORIAN
METHOD:PUBLISH
X-ORIGINAL-URL:https://moreheadplanetarium.org
X-WR-CALDESC:Events for Morehead Planetarium and Science Center
REFRESH-INTERVAL;VALUE=DURATION:PT1H
X-Robots-Tag:noindex
X-PUBLISHED-TTL:PT1H
BEGIN:VTIMEZONE
TZID:America/New_York
BEGIN:DAYLIGHT
TZOFFSETFROM:-0500
TZOFFSETTO:-0400
TZNAME:EDT
DTSTART:20200308T070000
END:DAYLIGHT
BEGIN:STANDARD
TZOFFSETFROM:-0400
TZOFFSETTO:-0500
TZNAME:EST
DTSTART:20201101T060000
END:STANDARD
END:VTIMEZONE
BEGIN:VEVENT
DTSTART;TZID=America/New_York:20200514T100000
DTEND;TZID=America/New_York:20200514T103000
DTSTAMP:20260421T102703
CREATED:20200430T193522Z
LAST-MODIFIED:20200430T193523Z
UID:16041-1589450400-1589452200@moreheadplanetarium.org
SUMMARY:MAH | Skywatching: See the International Space Station
DESCRIPTION:Find out what the International Space Station is\, who’s currently living on it\, and how YOU can see the space station fly over tonight (May 14).  \n\n\n\n*Please Note: Registration is not required. The Zoom link will not be live until 10:00 a.m. If you’re having trouble accessing it\, please reload the page at 10:00 a.m. and try again.
URL:https://moreheadplanetarium.org/calendar/mah-skywatching-see-the-international-space-station/
CATEGORIES:Special Activities
END:VEVENT
END:VCALENDAR