BEGIN:VCALENDAR
VERSION:2.0
PRODID:-//Morehead Planetarium and Science Center - ECPv6.13.2.1//NONSGML v1.0//EN
CALSCALE:GREGORIAN
METHOD:PUBLISH
X-WR-CALNAME:Morehead Planetarium and Science Center
X-ORIGINAL-URL:https://moreheadplanetarium.org
X-WR-CALDESC:Events for Morehead Planetarium and Science Center
REFRESH-INTERVAL;VALUE=DURATION:PT1H
X-Robots-Tag:noindex
X-PUBLISHED-TTL:PT1H
BEGIN:VTIMEZONE
TZID:America/New_York
BEGIN:DAYLIGHT
TZOFFSETFROM:-0500
TZOFFSETTO:-0400
TZNAME:EDT
DTSTART:20200308T070000
END:DAYLIGHT
BEGIN:STANDARD
TZOFFSETFROM:-0400
TZOFFSETTO:-0500
TZNAME:EST
DTSTART:20201101T060000
END:STANDARD
END:VTIMEZONE
BEGIN:VEVENT
DTSTART;TZID=America/New_York:20200507T100000
DTEND;TZID=America/New_York:20200507T103000
DTSTAMP:20260421T102634
CREATED:20200430T192031Z
LAST-MODIFIED:20200430T192031Z
UID:16036-1588845600-1588847400@moreheadplanetarium.org
SUMMARY:MAH | Skywatching: Anyone Out There?
DESCRIPTION:Have you ever wondered if there is life anywhere besides Earth? We want to explore this question with you during this Morehead At Home session. We’ll use a planetarium view of our night sky as a backdrop\, and discuss the prospects for life elsewhere in our own solar system\, as well as how we find other solar systems.  \n\n\n\n*Please Note: Registration is not required. The Zoom link will not be live until 10:00 a.m. If you’re having trouble accessing it\, please reload the page at 10:00 a.m. and try again.
URL:https://moreheadplanetarium.org/calendar/mah-skywatching-anyone-out-there/
CATEGORIES:Special Activities
END:VEVENT
END:VCALENDAR