BEGIN:VCALENDAR
VERSION:2.0
PRODID:-//Morehead Planetarium and Science Center - ECPv6.13.2.1//NONSGML v1.0//EN
CALSCALE:GREGORIAN
METHOD:PUBLISH
X-WR-CALNAME:Morehead Planetarium and Science Center
X-ORIGINAL-URL:https://moreheadplanetarium.org
X-WR-CALDESC:Events for Morehead Planetarium and Science Center
REFRESH-INTERVAL;VALUE=DURATION:PT1H
X-Robots-Tag:noindex
X-PUBLISHED-TTL:PT1H
BEGIN:VTIMEZONE
TZID:America/New_York
BEGIN:DAYLIGHT
TZOFFSETFROM:-0500
TZOFFSETTO:-0400
TZNAME:EDT
DTSTART:20200308T070000
END:DAYLIGHT
BEGIN:STANDARD
TZOFFSETFROM:-0400
TZOFFSETTO:-0500
TZNAME:EST
DTSTART:20201101T060000
END:STANDARD
END:VTIMEZONE
BEGIN:VEVENT
DTSTART;TZID=America/New_York:20200423T100000
DTEND;TZID=America/New_York:20200423T103000
DTSTAMP:20260421T132856
CREATED:20200416T205650Z
LAST-MODIFIED:20200417T163956Z
UID:15807-1587636000-1587637800@moreheadplanetarium.org
SUMMARY:MAH | Skywatching: How Dark is Your Sky?
DESCRIPTION:How\nDark is Your Sky? Leo Knows.\n\n\n\nMore than 99% of us in the United States live under light-polluted skies. We’ll explore how our use of outdoor lighting affects what you can\, and can’t\, see in your nighttime sky\, and we’ll take a look at the breathtaking sights a truly dark sky has to offer. Find out how you can contribute to a worldwide project to measure sky brightness by observing the constellation Leo the Lion from your own neighborhood. \n\n\n\n *Please Note: Registration is not required. The Zoom link will not be live until 10:00 a.m. If you’re having trouble accessing it\, please reload the page at 10:00 a.m. and try again.
URL:https://moreheadplanetarium.org/calendar/mah-skywatching-how-dark-is-your-sky/
CATEGORIES:Special Activities
END:VEVENT
END:VCALENDAR