BEGIN:VCALENDAR
VERSION:2.0
PRODID:-//Morehead Planetarium and Science Center - ECPv6.13.2.1//NONSGML v1.0//EN
CALSCALE:GREGORIAN
METHOD:PUBLISH
X-ORIGINAL-URL:https://moreheadplanetarium.org
X-WR-CALDESC:Events for Morehead Planetarium and Science Center
REFRESH-INTERVAL;VALUE=DURATION:PT1H
X-Robots-Tag:noindex
X-PUBLISHED-TTL:PT1H
BEGIN:VTIMEZONE
TZID:America/New_York
BEGIN:DAYLIGHT
TZOFFSETFROM:-0500
TZOFFSETTO:-0400
TZNAME:EDT
DTSTART:20200308T070000
END:DAYLIGHT
BEGIN:STANDARD
TZOFFSETFROM:-0400
TZOFFSETTO:-0500
TZNAME:EST
DTSTART:20201101T060000
END:STANDARD
END:VTIMEZONE
BEGIN:VEVENT
DTSTART;TZID=America/New_York:20200505T100000
DTEND;TZID=America/New_York:20200505T103000
DTSTAMP:20260421T070724
CREATED:20200430T190957Z
LAST-MODIFIED:20200430T191256Z
UID:16030-1588672800-1588674600@moreheadplanetarium.org
SUMMARY:MAH | Skywatching: Your Guide to the Moon
DESCRIPTION:When can you see the Moon in the sky? What does it look like close up? How does its appearance change from day to day? Has anyone ever been to the Moon?  \n\n\n\nWe’ll discuss these questions\, and share a Lithuanian story about the Sun and Moon during this Morehead At Home session! \n\n\n\n *Please Note: Registration is not required. The Zoom link will not be live until 10:00 a.m. If you’re having trouble accessing it\, please reload the page at 10:00 a.m. and try again.
URL:https://moreheadplanetarium.org/calendar/mah-skywatching-your-guide-to-the-moon/
CATEGORIES:Special Activities
END:VEVENT
BEGIN:VEVENT
DTSTART;TZID=America/New_York:20200507T100000
DTEND;TZID=America/New_York:20200507T103000
DTSTAMP:20260421T070724
CREATED:20200430T192031Z
LAST-MODIFIED:20200430T192031Z
UID:16036-1588845600-1588847400@moreheadplanetarium.org
SUMMARY:MAH | Skywatching: Anyone Out There?
DESCRIPTION:Have you ever wondered if there is life anywhere besides Earth? We want to explore this question with you during this Morehead At Home session. We’ll use a planetarium view of our night sky as a backdrop\, and discuss the prospects for life elsewhere in our own solar system\, as well as how we find other solar systems.  \n\n\n\n*Please Note: Registration is not required. The Zoom link will not be live until 10:00 a.m. If you’re having trouble accessing it\, please reload the page at 10:00 a.m. and try again.
URL:https://moreheadplanetarium.org/calendar/mah-skywatching-anyone-out-there/
CATEGORIES:Special Activities
END:VEVENT
BEGIN:VEVENT
DTSTART;TZID=America/New_York:20200512T100000
DTEND;TZID=America/New_York:20200512T103000
DTSTAMP:20260421T070724
CREATED:20200430T192755Z
LAST-MODIFIED:20200511T165117Z
UID:16039-1589277600-1589279400@moreheadplanetarium.org
SUMMARY:MAH | Skywatching: May Carolina Skies
DESCRIPTION:We’ll tour the May sky as it appears from North Carolina and show you how to identify planets and stars that you can see from outside your own home on the next clear night. Make sure you check out the star chart for this month.  \n\n\n\nPlease Note: Registration is not required. The Zoom link will not be live until 10:00 a.m. If you’re having trouble accessing it\, please reload the page at 10:00 a.m. and try again.
URL:https://moreheadplanetarium.org/calendar/mah-skywatching-may-carolina-skies/
CATEGORIES:Special Activities
END:VEVENT
BEGIN:VEVENT
DTSTART;TZID=America/New_York:20200514T100000
DTEND;TZID=America/New_York:20200514T103000
DTSTAMP:20260421T070724
CREATED:20200430T193522Z
LAST-MODIFIED:20200430T193523Z
UID:16041-1589450400-1589452200@moreheadplanetarium.org
SUMMARY:MAH | Skywatching: See the International Space Station
DESCRIPTION:Find out what the International Space Station is\, who’s currently living on it\, and how YOU can see the space station fly over tonight (May 14).  \n\n\n\n*Please Note: Registration is not required. The Zoom link will not be live until 10:00 a.m. If you’re having trouble accessing it\, please reload the page at 10:00 a.m. and try again.
URL:https://moreheadplanetarium.org/calendar/mah-skywatching-see-the-international-space-station/
CATEGORIES:Special Activities
END:VEVENT
BEGIN:VEVENT
DTSTART;TZID=America/New_York:20200519T100000
DTEND;TZID=America/New_York:20200519T103000
DTSTAMP:20260421T070724
CREATED:20200515T200709Z
LAST-MODIFIED:20200515T201124Z
UID:16244-1589882400-1589884200@moreheadplanetarium.org
SUMMARY:MAH | Skywatching: Pluto
DESCRIPTION:Where is Pluto in our sky? How was Pluto discovered? Why did it get booted from the planet club? We’ll hitch a virtual ride on NASA’s New Horizons spacecraft to visit and learn about everyone’s favorite former planet. \n\n\n\n*Please Note: Registration is not required. The Zoom link will not be live until 10:00 a.m. If you’re having trouble accessing it\, please reload the page at 10:00 a.m. and try again.
URL:https://moreheadplanetarium.org/calendar/mah-pluto/
CATEGORIES:Special Activities
END:VEVENT
BEGIN:VEVENT
DTSTART;TZID=America/New_York:20200521T100000
DTEND;TZID=America/New_York:20200521T103000
DTSTAMP:20260421T070724
CREATED:20200515T201227Z
LAST-MODIFIED:20200515T201240Z
UID:16248-1590055200-1590057000@moreheadplanetarium.org
SUMMARY:MAH | Skywatching: The Sky is a Time Machine
DESCRIPTION:The sky is a time machine! The deeper you look into space\, the farther back in time you see. Explore the scale of our universe\, and find out just how far (and how far back in time) you can see.  \n\n\n\n*Please Note: Registration is not required. The Zoom link will not be live until 10:00 a.m. If you’re having trouble accessing it\, please reload the page at 10:00 a.m. and try again.
URL:https://moreheadplanetarium.org/calendar/mah-skywatching-the-sky-is-a-time-machine/
CATEGORIES:Special Activities
END:VEVENT
BEGIN:VEVENT
DTSTART;TZID=America/New_York:20200526T100000
DTEND;TZID=America/New_York:20200526T103000
DTSTAMP:20260421T070724
CREATED:20200515T201752Z
LAST-MODIFIED:20200515T201753Z
UID:16251-1590487200-1590489000@moreheadplanetarium.org
SUMMARY:MAH | Skywatching: Greek Myths & the Spring Sky
DESCRIPTION:We’ll combine science and storytelling and learn to find some of the constellations in the current night sky that are associated with Greek myths. You’ll hear how the bears Ursa Major and Ursa Minor got their really long tails\, why Corvus the Crow will eternally regret telling a lie about a water snake\, and why Hercules is the reason the stars of Cancer the Crab are so dim. \n\n\n\n*Please Note: Registration is not required. The Zoom link will not be live until 10:00 a.m. If you’re having trouble accessing it\, please reload the page at 10:00 a.m. and try again.
URL:https://moreheadplanetarium.org/calendar/mah-skywatching-greek-myths-the-spring-sky/
CATEGORIES:Special Activities
END:VEVENT
BEGIN:VEVENT
DTSTART;TZID=America/New_York:20200528T100000
DTEND;TZID=America/New_York:20200528T103000
DTSTAMP:20260421T070724
CREATED:20200515T202619Z
LAST-MODIFIED:20200526T154433Z
UID:16253-1590660000-1590661800@moreheadplanetarium.org
SUMMARY:MAH | Skywatching: Training astronauts in North Carolina
DESCRIPTION:NASA astronauts are headed to the International Space Station today in the first launch of humans from U.S. soil in nearly a decade. Michael Neece (aka Meteor Mike) will explain how Morehead Planetarium trained many of the early NASA astronauts\, including Neil Armstrong\, the first human to walk on the Moon.  \n\n\n\n*Please Note: Registration is not required. The Zoom link will not be live until 10:00 a.m. If you’re having trouble accessing it\, please reload the page at 10:00 a.m. and try again.
URL:https://moreheadplanetarium.org/calendar/mah-skywatching-humans-in-space/
CATEGORIES:Special Activities
END:VEVENT
END:VCALENDAR