BEGIN:VCALENDAR
VERSION:2.0
PRODID:-//Morehead Planetarium and Science Center - ECPv6.13.2.1//NONSGML v1.0//EN
CALSCALE:GREGORIAN
METHOD:PUBLISH
X-ORIGINAL-URL:https://moreheadplanetarium.org
X-WR-CALDESC:Events for Morehead Planetarium and Science Center
REFRESH-INTERVAL;VALUE=DURATION:PT1H
X-Robots-Tag:noindex
X-PUBLISHED-TTL:PT1H
BEGIN:VTIMEZONE
TZID:America/New_York
BEGIN:DAYLIGHT
TZOFFSETFROM:-0500
TZOFFSETTO:-0400
TZNAME:EDT
DTSTART:20230312T070000
END:DAYLIGHT
BEGIN:STANDARD
TZOFFSETFROM:-0400
TZOFFSETTO:-0500
TZNAME:EST
DTSTART:20231105T060000
END:STANDARD
END:VTIMEZONE
BEGIN:VEVENT
DTSTART;TZID=America/New_York:20230312T150000
DTEND;TZID=America/New_York:20230312T160000
DTSTAMP:20260420T104920
CREATED:20230125T161953Z
LAST-MODIFIED:20230215T213119Z
UID:26939-1678633200-1678636800@moreheadplanetarium.org
SUMMARY:Mars: The Ultimate Voyage
DESCRIPTION:
URL:https://moreheadplanetarium.org/calendar/mars-the-ultimate-voyage-10/
LOCATION:GSK Fulldome Theater
CATEGORIES:Planetarium Shows
END:VEVENT
BEGIN:VEVENT
DTSTART;TZID=America/New_York:20230312T163000
DTEND;TZID=America/New_York:20230312T173000
DTSTAMP:20260420T104920
CREATED:20230125T161953Z
LAST-MODIFIED:20230215T213119Z
UID:26940-1678638600-1678642200@moreheadplanetarium.org
SUMMARY:Carolina Skies
DESCRIPTION:
URL:https://moreheadplanetarium.org/calendar/carolina-skies-261/
LOCATION:GSK Fulldome Theater
CATEGORIES:Planetarium Shows
END:VEVENT
BEGIN:VEVENT
DTSTART;TZID=America/New_York:20230317T150000
DTEND;TZID=America/New_York:20230317T160000
DTSTAMP:20260420T104920
CREATED:20230125T161954Z
LAST-MODIFIED:20230314T144926Z
UID:26941-1679065200-1679068800@moreheadplanetarium.org
SUMMARY:Solar System Odyssey
DESCRIPTION:
URL:https://moreheadplanetarium.org/calendar/solar-system-odyssey-34/
LOCATION:GSK Fulldome Theater
CATEGORIES:Planetarium Shows
END:VEVENT
BEGIN:VEVENT
DTSTART;TZID=America/New_York:20230317T163000
DTEND;TZID=America/New_York:20230317T173000
DTSTAMP:20260420T104920
CREATED:20230125T161954Z
LAST-MODIFIED:20230314T144926Z
UID:26942-1679070600-1679074200@moreheadplanetarium.org
SUMMARY:Carolina Skies
DESCRIPTION:
URL:https://moreheadplanetarium.org/calendar/carolina-skies-262/
LOCATION:GSK Fulldome Theater
CATEGORIES:Planetarium Shows
END:VEVENT
BEGIN:VEVENT
DTSTART;TZID=America/New_York:20230318T103000
DTEND;TZID=America/New_York:20230318T113000
DTSTAMP:20260420T104920
CREATED:20230125T161954Z
LAST-MODIFIED:20230314T144926Z
UID:26943-1679135400-1679139000@moreheadplanetarium.org
SUMMARY:Magic Tree House Space Mission
DESCRIPTION:
URL:https://moreheadplanetarium.org/calendar/magic-tree-house-space-mission-87/
LOCATION:GSK Fulldome Theater
CATEGORIES:Planetarium Shows
END:VEVENT
BEGIN:VEVENT
DTSTART;TZID=America/New_York:20230318T133000
DTEND;TZID=America/New_York:20230318T143000
DTSTAMP:20260420T104920
CREATED:20230125T161955Z
LAST-MODIFIED:20230314T144926Z
UID:26945-1679146200-1679149800@moreheadplanetarium.org
SUMMARY:Mysteries of Your Brain
DESCRIPTION:
URL:https://moreheadplanetarium.org/calendar/mysteries-of-your-brain-33/
LOCATION:GSK Fulldome Theater
CATEGORIES:Planetarium Shows
END:VEVENT
BEGIN:VEVENT
DTSTART;TZID=America/New_York:20230318T150000
DTEND;TZID=America/New_York:20230318T160000
DTSTAMP:20260420T104920
CREATED:20230125T161955Z
LAST-MODIFIED:20230314T145100Z
UID:26946-1679151600-1679155200@moreheadplanetarium.org
SUMMARY:Mars: The Ultimate Voyage
DESCRIPTION:
URL:https://moreheadplanetarium.org/calendar/mars-the-ultimate-voyage-11/
LOCATION:GSK Fulldome Theater
CATEGORIES:Planetarium Shows
END:VEVENT
BEGIN:VEVENT
DTSTART;TZID=America/New_York:20230318T163000
DTEND;TZID=America/New_York:20230318T173000
DTSTAMP:20260420T104920
CREATED:20230125T161955Z
LAST-MODIFIED:20230314T145101Z
UID:26947-1679157000-1679160600@moreheadplanetarium.org
SUMMARY:Carolina Skies
DESCRIPTION:
URL:https://moreheadplanetarium.org/calendar/carolina-skies-263/
LOCATION:GSK Fulldome Theater
CATEGORIES:Planetarium Shows
END:VEVENT
BEGIN:VEVENT
DTSTART;TZID=America/New_York:20230319T133000
DTEND;TZID=America/New_York:20230319T143000
DTSTAMP:20260420T104920
CREATED:20230125T161955Z
LAST-MODIFIED:20230314T145101Z
UID:26948-1679232600-1679236200@moreheadplanetarium.org
SUMMARY:Astronaut
DESCRIPTION:
URL:https://moreheadplanetarium.org/calendar/astronaut-82/
LOCATION:GSK Fulldome Theater
CATEGORIES:Planetarium Shows
END:VEVENT
BEGIN:VEVENT
DTSTART;TZID=America/New_York:20230319T150000
DTEND;TZID=America/New_York:20230319T160000
DTSTAMP:20260420T104920
CREATED:20230125T161955Z
LAST-MODIFIED:20230314T145101Z
UID:26949-1679238000-1679241600@moreheadplanetarium.org
SUMMARY:Mars: The Ultimate Voyage
DESCRIPTION:
URL:https://moreheadplanetarium.org/calendar/mars-the-ultimate-voyage-12/
LOCATION:GSK Fulldome Theater
CATEGORIES:Planetarium Shows
END:VEVENT
BEGIN:VEVENT
DTSTART;TZID=America/New_York:20230319T163000
DTEND;TZID=America/New_York:20230319T173000
DTSTAMP:20260420T104920
CREATED:20230125T161955Z
LAST-MODIFIED:20230314T145101Z
UID:26950-1679243400-1679247000@moreheadplanetarium.org
SUMMARY:Carolina Skies
DESCRIPTION:
URL:https://moreheadplanetarium.org/calendar/carolina-skies-264/
LOCATION:GSK Fulldome Theater
CATEGORIES:Planetarium Shows
END:VEVENT
BEGIN:VEVENT
DTSTART;TZID=America/New_York:20230324T150000
DTEND;TZID=America/New_York:20230324T160000
DTSTAMP:20260420T104920
CREATED:20230125T161956Z
LAST-MODIFIED:20230314T145127Z
UID:26951-1679670000-1679673600@moreheadplanetarium.org
SUMMARY:Solar System Odyssey
DESCRIPTION:
URL:https://moreheadplanetarium.org/calendar/solar-system-odyssey-35/
LOCATION:GSK Fulldome Theater
CATEGORIES:Planetarium Shows
END:VEVENT
BEGIN:VEVENT
DTSTART;TZID=America/New_York:20230324T163000
DTEND;TZID=America/New_York:20230324T173000
DTSTAMP:20260420T104920
CREATED:20230125T161956Z
LAST-MODIFIED:20230314T145127Z
UID:26952-1679675400-1679679000@moreheadplanetarium.org
SUMMARY:Carolina Skies
DESCRIPTION:
URL:https://moreheadplanetarium.org/calendar/carolina-skies-265/
LOCATION:GSK Fulldome Theater
CATEGORIES:Planetarium Shows
END:VEVENT
BEGIN:VEVENT
DTSTART;TZID=America/New_York:20230325T103000
DTEND;TZID=America/New_York:20230325T113000
DTSTAMP:20260420T104920
CREATED:20230125T161956Z
LAST-MODIFIED:20230314T145127Z
UID:26953-1679740200-1679743800@moreheadplanetarium.org
SUMMARY:Magic Tree House Space Mission
DESCRIPTION:
URL:https://moreheadplanetarium.org/calendar/magic-tree-house-space-mission-88/
LOCATION:GSK Fulldome Theater
CATEGORIES:Planetarium Shows
END:VEVENT
BEGIN:VEVENT
DTSTART;TZID=America/New_York:20230325T120000
DTEND;TZID=America/New_York:20230325T130000
DTSTAMP:20260420T104920
CREATED:20230125T161957Z
LAST-MODIFIED:20230314T145127Z
UID:26954-1679745600-1679749200@moreheadplanetarium.org
SUMMARY:From Earth to the Universe
DESCRIPTION:
URL:https://moreheadplanetarium.org/calendar/from-earth-to-the-universe-70/
LOCATION:GSK Fulldome Theater
CATEGORIES:Planetarium Shows
END:VEVENT
BEGIN:VEVENT
DTSTART;TZID=America/New_York:20230325T133000
DTEND;TZID=America/New_York:20230325T143000
DTSTAMP:20260420T104920
CREATED:20230125T161957Z
LAST-MODIFIED:20230314T150029Z
UID:26955-1679751000-1679754600@moreheadplanetarium.org
SUMMARY:Mysteries of Your Brain
DESCRIPTION:
URL:https://moreheadplanetarium.org/calendar/mysteries-of-your-brain-34/
LOCATION:GSK Fulldome Theater
CATEGORIES:Planetarium Shows
END:VEVENT
BEGIN:VEVENT
DTSTART;TZID=America/New_York:20230325T150000
DTEND;TZID=America/New_York:20230325T160000
DTSTAMP:20260420T104920
CREATED:20230125T161957Z
LAST-MODIFIED:20230314T150029Z
UID:26956-1679756400-1679760000@moreheadplanetarium.org
SUMMARY:Mars: The Ultimate Voyage
DESCRIPTION:
URL:https://moreheadplanetarium.org/calendar/mars-the-ultimate-voyage-13/
LOCATION:GSK Fulldome Theater
CATEGORIES:Planetarium Shows
END:VEVENT
BEGIN:VEVENT
DTSTART;TZID=America/New_York:20230325T163000
DTEND;TZID=America/New_York:20230325T173000
DTSTAMP:20260420T104920
CREATED:20230125T161957Z
LAST-MODIFIED:20230314T150029Z
UID:26957-1679761800-1679765400@moreheadplanetarium.org
SUMMARY:Carolina Skies
DESCRIPTION:
URL:https://moreheadplanetarium.org/calendar/carolina-skies-266/
LOCATION:GSK Fulldome Theater
CATEGORIES:Planetarium Shows
END:VEVENT
BEGIN:VEVENT
DTSTART;TZID=America/New_York:20230326T133000
DTEND;TZID=America/New_York:20230326T143000
DTSTAMP:20260420T104920
CREATED:20230125T161957Z
LAST-MODIFIED:20230314T150029Z
UID:26958-1679837400-1679841000@moreheadplanetarium.org
SUMMARY:Astronaut
DESCRIPTION:
URL:https://moreheadplanetarium.org/calendar/astronaut-83/
LOCATION:GSK Fulldome Theater
CATEGORIES:Planetarium Shows
END:VEVENT
BEGIN:VEVENT
DTSTART;TZID=America/New_York:20230326T150000
DTEND;TZID=America/New_York:20230326T160000
DTSTAMP:20260420T104920
CREATED:20230125T161928Z
LAST-MODIFIED:20230314T150030Z
UID:26959-1679842800-1679846400@moreheadplanetarium.org
SUMMARY:Mars: The Ultimate Voyage
DESCRIPTION:
URL:https://moreheadplanetarium.org/calendar/mars-the-ultimate-voyage-5/
LOCATION:GSK Fulldome Theater
CATEGORIES:Planetarium Shows
END:VEVENT
BEGIN:VEVENT
DTSTART;TZID=America/New_York:20230326T163000
DTEND;TZID=America/New_York:20230326T173000
DTSTAMP:20260420T104920
CREATED:20230125T161928Z
LAST-MODIFIED:20230314T150033Z
UID:26960-1679848200-1679851800@moreheadplanetarium.org
SUMMARY:Carolina Skies
DESCRIPTION:
URL:https://moreheadplanetarium.org/calendar/carolina-skies-255/
LOCATION:GSK Fulldome Theater
CATEGORIES:Planetarium Shows
END:VEVENT
BEGIN:VEVENT
DTSTART;TZID=America/New_York:20230331T150000
DTEND;TZID=America/New_York:20230331T160000
DTSTAMP:20260420T104920
CREATED:20230125T161928Z
LAST-MODIFIED:20230314T150033Z
UID:26961-1680274800-1680278400@moreheadplanetarium.org
SUMMARY:Solar System Odyssey
DESCRIPTION:
URL:https://moreheadplanetarium.org/calendar/solar-system-odyssey-33/
LOCATION:GSK Fulldome Theater
CATEGORIES:Planetarium Shows
END:VEVENT
BEGIN:VEVENT
DTSTART;TZID=America/New_York:20230331T163000
DTEND;TZID=America/New_York:20230331T173000
DTSTAMP:20260420T104920
CREATED:20230125T161929Z
LAST-MODIFIED:20230314T150033Z
UID:26962-1680280200-1680283800@moreheadplanetarium.org
SUMMARY:Carolina Skies
DESCRIPTION:
URL:https://moreheadplanetarium.org/calendar/carolina-skies-256/
LOCATION:GSK Fulldome Theater
CATEGORIES:Planetarium Shows
END:VEVENT
BEGIN:VEVENT
DTSTART;TZID=America/New_York:20230401T103000
DTEND;TZID=America/New_York:20230401T113000
DTSTAMP:20260420T104920
CREATED:20230125T161929Z
LAST-MODIFIED:20230314T150033Z
UID:26963-1680345000-1680348600@moreheadplanetarium.org
SUMMARY:Magic Tree House Space Mission
DESCRIPTION:
URL:https://moreheadplanetarium.org/calendar/magic-tree-house-space-mission-85/
LOCATION:GSK Fulldome Theater
CATEGORIES:Planetarium Shows
END:VEVENT
BEGIN:VEVENT
DTSTART;TZID=America/New_York:20230401T120000
DTEND;TZID=America/New_York:20230401T130000
DTSTAMP:20260420T104920
CREATED:20230125T161929Z
LAST-MODIFIED:20230314T150033Z
UID:26964-1680350400-1680354000@moreheadplanetarium.org
SUMMARY:We Are Stars
DESCRIPTION:
URL:https://moreheadplanetarium.org/calendar/we-are-stars-82/
LOCATION:GSK Fulldome Theater
CATEGORIES:Planetarium Shows
END:VEVENT
BEGIN:VEVENT
DTSTART;TZID=America/New_York:20230401T133000
DTEND;TZID=America/New_York:20230401T143000
DTSTAMP:20260420T104920
CREATED:20230125T161930Z
LAST-MODIFIED:20230314T150034Z
UID:26965-1680355800-1680359400@moreheadplanetarium.org
SUMMARY:Mysteries of Your Brain
DESCRIPTION:
URL:https://moreheadplanetarium.org/calendar/mysteries-of-your-brain-31/
LOCATION:GSK Fulldome Theater
CATEGORIES:Planetarium Shows
END:VEVENT
BEGIN:VEVENT
DTSTART;TZID=America/New_York:20230401T150000
DTEND;TZID=America/New_York:20230401T160000
DTSTAMP:20260420T104920
CREATED:20230125T161930Z
LAST-MODIFIED:20230314T150034Z
UID:26966-1680361200-1680364800@moreheadplanetarium.org
SUMMARY:Mars: The Ultimate Voyage
DESCRIPTION:
URL:https://moreheadplanetarium.org/calendar/mars-the-ultimate-voyage-6/
LOCATION:GSK Fulldome Theater
CATEGORIES:Planetarium Shows
END:VEVENT
BEGIN:VEVENT
DTSTART;TZID=America/New_York:20230401T163000
DTEND;TZID=America/New_York:20230401T173000
DTSTAMP:20260420T104920
CREATED:20230125T161930Z
LAST-MODIFIED:20230314T150034Z
UID:26967-1680366600-1680370200@moreheadplanetarium.org
SUMMARY:Carolina Skies
DESCRIPTION:
URL:https://moreheadplanetarium.org/calendar/carolina-skies-257/
LOCATION:GSK Fulldome Theater
CATEGORIES:Planetarium Shows
END:VEVENT
BEGIN:VEVENT
DTSTART;TZID=America/New_York:20230402T133000
DTEND;TZID=America/New_York:20230402T143000
DTSTAMP:20260420T104920
CREATED:20230125T161930Z
LAST-MODIFIED:20230314T150034Z
UID:26968-1680442200-1680445800@moreheadplanetarium.org
SUMMARY:Astronaut
DESCRIPTION:
URL:https://moreheadplanetarium.org/calendar/astronaut-80/
LOCATION:GSK Fulldome Theater
CATEGORIES:Planetarium Shows
END:VEVENT
BEGIN:VEVENT
DTSTART;TZID=America/New_York:20230402T150000
DTEND;TZID=America/New_York:20230402T160000
DTSTAMP:20260420T104920
CREATED:20230125T161931Z
LAST-MODIFIED:20230314T150034Z
UID:26969-1680447600-1680451200@moreheadplanetarium.org
SUMMARY:Mars: The Ultimate Voyage
DESCRIPTION:
URL:https://moreheadplanetarium.org/calendar/mars-the-ultimate-voyage-7/
LOCATION:GSK Fulldome Theater
CATEGORIES:Planetarium Shows
END:VEVENT
END:VCALENDAR