BEGIN:VCALENDAR
VERSION:2.0
PRODID:-//Morehead Planetarium and Science Center - ECPv6.13.2.1//NONSGML v1.0//EN
CALSCALE:GREGORIAN
METHOD:PUBLISH
X-WR-CALNAME:Morehead Planetarium and Science Center
X-ORIGINAL-URL:https://moreheadplanetarium.org
X-WR-CALDESC:Events for Morehead Planetarium and Science Center
REFRESH-INTERVAL;VALUE=DURATION:PT1H
X-Robots-Tag:noindex
X-PUBLISHED-TTL:PT1H
BEGIN:VTIMEZONE
TZID:America/New_York
BEGIN:DAYLIGHT
TZOFFSETFROM:-0500
TZOFFSETTO:-0400
TZNAME:EDT
DTSTART:20240310T070000
END:DAYLIGHT
BEGIN:STANDARD
TZOFFSETFROM:-0400
TZOFFSETTO:-0500
TZNAME:EST
DTSTART:20241103T060000
END:STANDARD
END:VTIMEZONE
BEGIN:VEVENT
DTSTART;TZID=America/New_York:20240504T103000
DTEND;TZID=America/New_York:20240504T113000
DTSTAMP:20260419T173126
CREATED:20240125T223919Z
LAST-MODIFIED:20240125T223919Z
UID:32073-1714818600-1714822200@moreheadplanetarium.org
SUMMARY:Magic Tree House Space Mission
DESCRIPTION:
URL:https://moreheadplanetarium.org/calendar/magic-tree-house-space-mission-150/
CATEGORIES:Planetarium Shows
END:VEVENT
BEGIN:VEVENT
DTSTART;TZID=America/New_York:20240504T120000
DTEND;TZID=America/New_York:20240504T130000
DTSTAMP:20260419T173126
CREATED:20240125T223919Z
LAST-MODIFIED:20240125T223919Z
UID:32074-1714824000-1714827600@moreheadplanetarium.org
SUMMARY:Cosmic Colors
DESCRIPTION:
URL:https://moreheadplanetarium.org/calendar/cosmic-colors-45/
CATEGORIES:Planetarium Shows
END:VEVENT
BEGIN:VEVENT
DTSTART;TZID=America/New_York:20240504T133000
DTEND;TZID=America/New_York:20240504T143000
DTSTAMP:20260419T173126
CREATED:20240125T223919Z
LAST-MODIFIED:20240125T223919Z
UID:32075-1714829400-1714833000@moreheadplanetarium.org
SUMMARY:Earth\, Moon and Sun
DESCRIPTION:
URL:https://moreheadplanetarium.org/calendar/earth-moon-and-sun-134/
CATEGORIES:Planetarium Shows
END:VEVENT
BEGIN:VEVENT
DTSTART;TZID=America/New_York:20240504T150000
DTEND;TZID=America/New_York:20240504T160000
DTSTAMP:20260419T173126
CREATED:20240125T223933Z
LAST-MODIFIED:20240125T223933Z
UID:32076-1714834800-1714838400@moreheadplanetarium.org
SUMMARY:Earthquakes\, Volcanoes\, and Tsunamis
DESCRIPTION:
URL:https://moreheadplanetarium.org/calendar/earthquakes-volcanoes-and-tsunamis-126/
CATEGORIES:Planetarium Shows
END:VEVENT
BEGIN:VEVENT
DTSTART;TZID=America/New_York:20240504T163000
DTEND;TZID=America/New_York:20240504T173000
DTSTAMP:20260419T173126
CREATED:20240125T223934Z
LAST-MODIFIED:20240125T223934Z
UID:32077-1714840200-1714843800@moreheadplanetarium.org
SUMMARY:Carolina Skies
DESCRIPTION:
URL:https://moreheadplanetarium.org/calendar/carolina-skies-369/
CATEGORIES:Planetarium Shows
END:VEVENT
BEGIN:VEVENT
DTSTART;TZID=America/New_York:20240505T133000
DTEND;TZID=America/New_York:20240505T143000
DTSTAMP:20260419T173126
CREATED:20240125T223934Z
LAST-MODIFIED:20240125T223934Z
UID:32078-1714915800-1714919400@moreheadplanetarium.org
SUMMARY:The Sun: Our Living Star
DESCRIPTION:
URL:https://moreheadplanetarium.org/calendar/the-sun-our-living-star-40/
CATEGORIES:Planetarium Shows
END:VEVENT
BEGIN:VEVENT
DTSTART;TZID=America/New_York:20240505T150000
DTEND;TZID=America/New_York:20240505T160000
DTSTAMP:20260419T173126
CREATED:20240125T223935Z
LAST-MODIFIED:20240418T134330Z
UID:32079-1714921200-1714924800@moreheadplanetarium.org
SUMMARY:Mars: The Ultimate Voyage
DESCRIPTION:
URL:https://moreheadplanetarium.org/calendar/mars-the-ultimate-voyage-93/
CATEGORIES:Planetarium Shows
END:VEVENT
BEGIN:VEVENT
DTSTART;TZID=America/New_York:20240505T163000
DTEND;TZID=America/New_York:20240505T173000
DTSTAMP:20260419T173126
CREATED:20240125T223935Z
LAST-MODIFIED:20240125T223935Z
UID:32080-1714926600-1714930200@moreheadplanetarium.org
SUMMARY:One Sky\, Many Eyes
DESCRIPTION:
URL:https://moreheadplanetarium.org/calendar/one-sky-many-eyes-34/
CATEGORIES:Planetarium Shows
END:VEVENT
BEGIN:VEVENT
DTSTART;TZID=America/New_York:20240510T150000
DTEND;TZID=America/New_York:20240510T160000
DTSTAMP:20260419T173126
CREATED:20240125T224134Z
LAST-MODIFIED:20240125T224134Z
UID:32081-1715353200-1715356800@moreheadplanetarium.org
SUMMARY:Forward! To the Moon
DESCRIPTION:
URL:https://moreheadplanetarium.org/calendar/forward-to-the-moon-56/
CATEGORIES:Planetarium Shows
END:VEVENT
BEGIN:VEVENT
DTSTART;TZID=America/New_York:20240510T163000
DTEND;TZID=America/New_York:20240510T173000
DTSTAMP:20260419T173126
CREATED:20240125T193806Z
LAST-MODIFIED:20240125T224135Z
UID:31904-1715358600-1715362200@moreheadplanetarium.org
SUMMARY:Carolina Skies
DESCRIPTION:
URL:https://moreheadplanetarium.org/calendar/carolina-skies-366/
CATEGORIES:Planetarium Shows
END:VEVENT
BEGIN:VEVENT
DTSTART;TZID=America/New_York:20240517T150000
DTEND;TZID=America/New_York:20240517T160000
DTSTAMP:20260419T173126
CREATED:20240125T193806Z
LAST-MODIFIED:20240125T224135Z
UID:31905-1715958000-1715961600@moreheadplanetarium.org
SUMMARY:Forward! To the Moon
DESCRIPTION:
URL:https://moreheadplanetarium.org/calendar/forward-to-the-moon-55/
CATEGORIES:Planetarium Shows
END:VEVENT
BEGIN:VEVENT
DTSTART;TZID=America/New_York:20240517T163000
DTEND;TZID=America/New_York:20240517T173000
DTSTAMP:20260419T173126
CREATED:20240125T193807Z
LAST-MODIFIED:20240125T224135Z
UID:31906-1715963400-1715967000@moreheadplanetarium.org
SUMMARY:Carolina Skies
DESCRIPTION:
URL:https://moreheadplanetarium.org/calendar/carolina-skies-367/
CATEGORIES:Planetarium Shows
END:VEVENT
BEGIN:VEVENT
DTSTART;TZID=America/New_York:20240518T103000
DTEND;TZID=America/New_York:20240518T113000
DTSTAMP:20260419T173126
CREATED:20240125T193807Z
LAST-MODIFIED:20240125T224135Z
UID:31907-1716028200-1716031800@moreheadplanetarium.org
SUMMARY:Magic Tree House Space Mission
DESCRIPTION:
URL:https://moreheadplanetarium.org/calendar/magic-tree-house-space-mission-149/
CATEGORIES:Planetarium Shows
END:VEVENT
BEGIN:VEVENT
DTSTART;TZID=America/New_York:20240525T120000
DTEND;TZID=America/New_York:20240525T130000
DTSTAMP:20260419T173126
CREATED:20240125T224336Z
LAST-MODIFIED:20240125T224336Z
UID:32096-1716638400-1716642000@moreheadplanetarium.org
SUMMARY:Astronaut
DESCRIPTION:
URL:https://moreheadplanetarium.org/calendar/astronaut-119/
CATEGORIES:Planetarium Shows
END:VEVENT
BEGIN:VEVENT
DTSTART;TZID=America/New_York:20240525T133000
DTEND;TZID=America/New_York:20240525T143000
DTSTAMP:20260419T173126
CREATED:20240125T224336Z
LAST-MODIFIED:20240125T224336Z
UID:32097-1716643800-1716647400@moreheadplanetarium.org
SUMMARY:Earth\, Moon and Sun
DESCRIPTION:
URL:https://moreheadplanetarium.org/calendar/earth-moon-and-sun-136/
CATEGORIES:Planetarium Shows
END:VEVENT
BEGIN:VEVENT
DTSTART;TZID=America/New_York:20240525T150000
DTEND;TZID=America/New_York:20240525T160000
DTSTAMP:20260419T173126
CREATED:20240125T224336Z
LAST-MODIFIED:20240125T224336Z
UID:32098-1716649200-1716652800@moreheadplanetarium.org
SUMMARY:Earthquakes\, Volcanoes\, and Tsunamis
DESCRIPTION:
URL:https://moreheadplanetarium.org/calendar/earthquakes-volcanoes-and-tsunamis-128/
CATEGORIES:Planetarium Shows
END:VEVENT
BEGIN:VEVENT
DTSTART;TZID=America/New_York:20240525T163000
DTEND;TZID=America/New_York:20240525T173000
DTSTAMP:20260419T173126
CREATED:20240125T224337Z
LAST-MODIFIED:20240125T224337Z
UID:32099-1716654600-1716658200@moreheadplanetarium.org
SUMMARY:Carolina Skies
DESCRIPTION:
URL:https://moreheadplanetarium.org/calendar/carolina-skies-371/
CATEGORIES:Planetarium Shows
END:VEVENT
BEGIN:VEVENT
DTSTART;TZID=America/New_York:20240526T133000
DTEND;TZID=America/New_York:20240526T143000
DTSTAMP:20260419T173126
CREATED:20240125T224337Z
LAST-MODIFIED:20240125T224337Z
UID:32100-1716730200-1716733800@moreheadplanetarium.org
SUMMARY:The Sun: Our Living Star
DESCRIPTION:
URL:https://moreheadplanetarium.org/calendar/the-sun-our-living-star-42/
CATEGORIES:Planetarium Shows
END:VEVENT
BEGIN:VEVENT
DTSTART;TZID=America/New_York:20240526T150000
DTEND;TZID=America/New_York:20240526T160000
DTSTAMP:20260419T173126
CREATED:20240125T224536Z
LAST-MODIFIED:20240125T224536Z
UID:32101-1716735600-1716739200@moreheadplanetarium.org
SUMMARY:Mars: The Ultimate Voyage
DESCRIPTION:
URL:https://moreheadplanetarium.org/calendar/mars-the-ultimate-voyage-95/
CATEGORIES:Planetarium Shows
END:VEVENT
BEGIN:VEVENT
DTSTART;TZID=America/New_York:20240526T163000
DTEND;TZID=America/New_York:20240526T173000
DTSTAMP:20260419T173126
CREATED:20240125T224537Z
LAST-MODIFIED:20240125T224537Z
UID:32102-1716741000-1716744600@moreheadplanetarium.org
SUMMARY:One Sky\, Many Eyes
DESCRIPTION:
URL:https://moreheadplanetarium.org/calendar/one-sky-many-eyes-36/
CATEGORIES:Planetarium Shows
END:VEVENT
BEGIN:VEVENT
DTSTART;TZID=America/New_York:20240531T150000
DTEND;TZID=America/New_York:20240531T160000
DTSTAMP:20260419T173126
CREATED:20240125T224537Z
LAST-MODIFIED:20240125T224537Z
UID:32103-1717167600-1717171200@moreheadplanetarium.org
SUMMARY:Forward! To the Moon
DESCRIPTION:
URL:https://moreheadplanetarium.org/calendar/forward-to-the-moon-58/
CATEGORIES:Planetarium Shows
END:VEVENT
BEGIN:VEVENT
DTSTART;TZID=America/New_York:20240531T163000
DTEND;TZID=America/New_York:20240531T173000
DTSTAMP:20260419T173126
CREATED:20240125T224537Z
LAST-MODIFIED:20240125T224537Z
UID:32104-1717173000-1717176600@moreheadplanetarium.org
SUMMARY:Carolina Skies
DESCRIPTION:
URL:https://moreheadplanetarium.org/calendar/carolina-skies-373/
CATEGORIES:Planetarium Shows
END:VEVENT
BEGIN:VEVENT
DTSTART;TZID=America/New_York:20240601T103000
DTEND;TZID=America/New_York:20240601T113000
DTSTAMP:20260419T173126
CREATED:20240125T224538Z
LAST-MODIFIED:20240125T224538Z
UID:32105-1717237800-1717241400@moreheadplanetarium.org
SUMMARY:Magic Tree House Space Mission
DESCRIPTION:
URL:https://moreheadplanetarium.org/calendar/magic-tree-house-space-mission-152/
CATEGORIES:Planetarium Shows
END:VEVENT
BEGIN:VEVENT
DTSTART;TZID=America/New_York:20240601T120000
DTEND;TZID=America/New_York:20240601T130000
DTSTAMP:20260419T173126
CREATED:20240125T224737Z
LAST-MODIFIED:20240125T224737Z
UID:32106-1717243200-1717246800@moreheadplanetarium.org
SUMMARY:Cosmic Colors
DESCRIPTION:
URL:https://moreheadplanetarium.org/calendar/cosmic-colors-46/
CATEGORIES:Planetarium Shows
END:VEVENT
BEGIN:VEVENT
DTSTART;TZID=America/New_York:20240601T133000
DTEND;TZID=America/New_York:20240601T143000
DTSTAMP:20260419T173126
CREATED:20240125T194514Z
LAST-MODIFIED:20240125T224738Z
UID:31928-1717248600-1717252200@moreheadplanetarium.org
SUMMARY:Earth\, Moon and Sun
DESCRIPTION:
URL:https://moreheadplanetarium.org/calendar/earth-moon-and-sun-135/
CATEGORIES:Planetarium Shows
END:VEVENT
BEGIN:VEVENT
DTSTART;TZID=America/New_York:20240601T150000
DTEND;TZID=America/New_York:20240601T160000
DTSTAMP:20260419T173126
CREATED:20240125T194514Z
LAST-MODIFIED:20240125T224738Z
UID:31929-1717254000-1717257600@moreheadplanetarium.org
SUMMARY:Earthquakes\, Volcanoes\, and Tsunamis
DESCRIPTION:
URL:https://moreheadplanetarium.org/calendar/earthquakes-volcanoes-and-tsunamis-129/
CATEGORIES:Planetarium Shows
END:VEVENT
BEGIN:VEVENT
DTSTART;TZID=America/New_York:20240601T163000
DTEND;TZID=America/New_York:20240601T173000
DTSTAMP:20260419T173126
CREATED:20240125T194515Z
LAST-MODIFIED:20240125T224738Z
UID:31930-1717259400-1717263000@moreheadplanetarium.org
SUMMARY:Carolina Skies
DESCRIPTION:
URL:https://moreheadplanetarium.org/calendar/carolina-skies-372/
CATEGORIES:Planetarium Shows
END:VEVENT
BEGIN:VEVENT
DTSTART;TZID=America/New_York:20240602T133000
DTEND;TZID=America/New_York:20240602T143000
DTSTAMP:20260419T173126
CREATED:20240125T194516Z
LAST-MODIFIED:20240125T224738Z
UID:31931-1717335000-1717338600@moreheadplanetarium.org
SUMMARY:The Sun: Our Living Star
DESCRIPTION:
URL:https://moreheadplanetarium.org/calendar/the-sun-our-living-star-43/
CATEGORIES:Planetarium Shows
END:VEVENT
BEGIN:VEVENT
DTSTART;TZID=America/New_York:20240611T103000
DTEND;TZID=America/New_York:20240611T113000
DTSTAMP:20260419T173126
CREATED:20240514T174730Z
LAST-MODIFIED:20240514T174730Z
UID:33277-1718101800-1718105400@moreheadplanetarium.org
SUMMARY:Magic Tree House Space Mission
DESCRIPTION:
URL:https://moreheadplanetarium.org/calendar/magic-tree-house-space-mission-154/
CATEGORIES:Planetarium Shows
END:VEVENT
BEGIN:VEVENT
DTSTART;TZID=America/New_York:20240611T120000
DTEND;TZID=America/New_York:20240611T130000
DTSTAMP:20260419T173126
CREATED:20240514T174730Z
LAST-MODIFIED:20240514T174730Z
UID:33278-1718107200-1718110800@moreheadplanetarium.org
SUMMARY:Earthquakes\, Volcanoes\, and Tsunamis
DESCRIPTION:
URL:https://moreheadplanetarium.org/calendar/earthquakes-volcanoes-and-tsunamis-131/
CATEGORIES:Planetarium Shows
END:VEVENT
END:VCALENDAR