BEGIN:VCALENDAR
VERSION:2.0
PRODID:-//Morehead Planetarium and Science Center - ECPv6.13.2.1//NONSGML v1.0//EN
CALSCALE:GREGORIAN
METHOD:PUBLISH
X-ORIGINAL-URL:https://moreheadplanetarium.org
X-WR-CALDESC:Events for Morehead Planetarium and Science Center
REFRESH-INTERVAL;VALUE=DURATION:PT1H
X-Robots-Tag:noindex
X-PUBLISHED-TTL:PT1H
BEGIN:VTIMEZONE
TZID:America/New_York
BEGIN:DAYLIGHT
TZOFFSETFROM:-0500
TZOFFSETTO:-0400
TZNAME:EDT
DTSTART:20260308T070000
END:DAYLIGHT
BEGIN:STANDARD
TZOFFSETFROM:-0400
TZOFFSETTO:-0500
TZNAME:EST
DTSTART:20261101T060000
END:STANDARD
END:VTIMEZONE
BEGIN:VEVENT
DTSTART;TZID=America/New_York:20260425T103000
DTEND;TZID=America/New_York:20260425T113000
DTSTAMP:20260419T202352
CREATED:20260205T154136Z
LAST-MODIFIED:20260205T154136Z
UID:38575-1777113000-1777116600@moreheadplanetarium.org
SUMMARY:Magic Tree House Space Mission
DESCRIPTION:
URL:https://moreheadplanetarium.org/calendar/magic-tree-house-space-mission-271/
CATEGORIES:Planetarium Shows
END:VEVENT
BEGIN:VEVENT
DTSTART;TZID=America/New_York:20260425T120000
DTEND;TZID=America/New_York:20260425T130000
DTSTAMP:20260419T202352
CREATED:20260205T154137Z
LAST-MODIFIED:20260205T154137Z
UID:38576-1777118400-1777122000@moreheadplanetarium.org
SUMMARY:From Earth to the Universe
DESCRIPTION:
URL:https://moreheadplanetarium.org/calendar/from-earth-to-the-universe-166/
CATEGORIES:Planetarium Shows
END:VEVENT
BEGIN:VEVENT
DTSTART;TZID=America/New_York:20260425T133000
DTEND;TZID=America/New_York:20260425T143000
DTSTAMP:20260419T202352
CREATED:20260205T154137Z
LAST-MODIFIED:20260205T154137Z
UID:38577-1777123800-1777127400@moreheadplanetarium.org
SUMMARY:Astronaut
DESCRIPTION:
URL:https://moreheadplanetarium.org/calendar/astronaut-170/
CATEGORIES:Planetarium Shows
END:VEVENT
BEGIN:VEVENT
DTSTART;TZID=America/New_York:20260425T150000
DTEND;TZID=America/New_York:20260425T160000
DTSTAMP:20260419T202352
CREATED:20260205T154137Z
LAST-MODIFIED:20260205T154137Z
UID:38578-1777129200-1777132800@moreheadplanetarium.org
SUMMARY:Mars: The Ultimate Voyage
DESCRIPTION:
URL:https://moreheadplanetarium.org/calendar/mars-the-ultimate-voyage-204/
CATEGORIES:Planetarium Shows
END:VEVENT
BEGIN:VEVENT
DTSTART;TZID=America/New_York:20260425T163000
DTEND;TZID=America/New_York:20260425T173000
DTSTAMP:20260419T202352
CREATED:20260205T154337Z
LAST-MODIFIED:20260205T154337Z
UID:38579-1777134600-1777138200@moreheadplanetarium.org
SUMMARY:Carolina Skies
DESCRIPTION:
URL:https://moreheadplanetarium.org/calendar/carolina-skies-500/
CATEGORIES:Planetarium Shows
END:VEVENT
END:VCALENDAR