BEGIN:VCALENDAR
VERSION:2.0
PRODID:-//Morehead Planetarium and Science Center - ECPv6.13.2.1//NONSGML v1.0//EN
CALSCALE:GREGORIAN
METHOD:PUBLISH
X-WR-CALNAME:Morehead Planetarium and Science Center
X-ORIGINAL-URL:https://moreheadplanetarium.org
X-WR-CALDESC:Events for Morehead Planetarium and Science Center
REFRESH-INTERVAL;VALUE=DURATION:PT1H
X-Robots-Tag:noindex
X-PUBLISHED-TTL:PT1H
BEGIN:VTIMEZONE
TZID:America/New_York
BEGIN:DAYLIGHT
TZOFFSETFROM:-0500
TZOFFSETTO:-0400
TZNAME:EDT
DTSTART:20260308T070000
END:DAYLIGHT
BEGIN:STANDARD
TZOFFSETFROM:-0400
TZOFFSETTO:-0500
TZNAME:EST
DTSTART:20261101T060000
END:STANDARD
END:VTIMEZONE
BEGIN:VEVENT
DTSTART;TZID=America/New_York:20260314T103000
DTEND;TZID=America/New_York:20260314T113000
DTSTAMP:20260419T143304
CREATED:20260205T153619Z
LAST-MODIFIED:20260205T153620Z
UID:38504-1773484200-1773487800@moreheadplanetarium.org
SUMMARY:Magic Tree House Space Mission
DESCRIPTION:
URL:https://moreheadplanetarium.org/calendar/magic-tree-house-space-mission-265/
CATEGORIES:Planetarium Shows
END:VEVENT
BEGIN:VEVENT
DTSTART;TZID=America/New_York:20260314T120000
DTEND;TZID=America/New_York:20260314T130000
DTSTAMP:20260419T143304
CREATED:20260205T153619Z
LAST-MODIFIED:20260205T153620Z
UID:38505-1773489600-1773493200@moreheadplanetarium.org
SUMMARY:Cosmic Colors
DESCRIPTION:
URL:https://moreheadplanetarium.org/calendar/cosmic-colors-76/
CATEGORIES:Planetarium Shows
END:VEVENT
BEGIN:VEVENT
DTSTART;TZID=America/New_York:20260314T133000
DTEND;TZID=America/New_York:20260314T143000
DTSTAMP:20260419T143304
CREATED:20260205T153620Z
LAST-MODIFIED:20260205T153621Z
UID:38506-1773495000-1773498600@moreheadplanetarium.org
SUMMARY:Astronaut
DESCRIPTION:
URL:https://moreheadplanetarium.org/calendar/astronaut-164/
CATEGORIES:Planetarium Shows
END:VEVENT
BEGIN:VEVENT
DTSTART;TZID=America/New_York:20260314T150000
DTEND;TZID=America/New_York:20260314T160000
DTSTAMP:20260419T143304
CREATED:20260205T153621Z
LAST-MODIFIED:20260205T153621Z
UID:38512-1773500400-1773504000@moreheadplanetarium.org
SUMMARY:Mars: The Ultimate Voyage
DESCRIPTION:
URL:https://moreheadplanetarium.org/calendar/mars-the-ultimate-voyage-198/
CATEGORIES:Planetarium Shows
END:VEVENT
BEGIN:VEVENT
DTSTART;TZID=America/New_York:20260314T163000
DTEND;TZID=America/New_York:20260314T173000
DTSTAMP:20260419T143304
CREATED:20260205T153622Z
LAST-MODIFIED:20260205T153622Z
UID:38513-1773505800-1773509400@moreheadplanetarium.org
SUMMARY:Carolina Skies
DESCRIPTION:
URL:https://moreheadplanetarium.org/calendar/carolina-skies-488/
CATEGORIES:Planetarium Shows
END:VEVENT
END:VCALENDAR