BEGIN:VCALENDAR
VERSION:2.0
PRODID:-//Morehead Planetarium and Science Center - ECPv6.13.2.1//NONSGML v1.0//EN
CALSCALE:GREGORIAN
METHOD:PUBLISH
X-ORIGINAL-URL:https://moreheadplanetarium.org
X-WR-CALDESC:Events for Morehead Planetarium and Science Center
REFRESH-INTERVAL;VALUE=DURATION:PT1H
X-Robots-Tag:noindex
X-PUBLISHED-TTL:PT1H
BEGIN:VTIMEZONE
TZID:America/New_York
BEGIN:DAYLIGHT
TZOFFSETFROM:-0500
TZOFFSETTO:-0400
TZNAME:EDT
DTSTART:20250309T070000
END:DAYLIGHT
BEGIN:STANDARD
TZOFFSETFROM:-0400
TZOFFSETTO:-0500
TZNAME:EST
DTSTART:20251102T060000
END:STANDARD
END:VTIMEZONE
BEGIN:VEVENT
DTSTART;TZID=America/New_York:20250708T103000
DTEND;TZID=America/New_York:20250708T113000
DTSTAMP:20260419T084338
CREATED:20250523T155445Z
LAST-MODIFIED:20250523T155445Z
UID:36109-1751970600-1751974200@moreheadplanetarium.org
SUMMARY:Earth\, Moon and Sun
DESCRIPTION:
URL:https://moreheadplanetarium.org/calendar/earth-moon-and-sun-194/
CATEGORIES:Planetarium Shows
END:VEVENT
BEGIN:VEVENT
DTSTART;TZID=America/New_York:20250708T120000
DTEND;TZID=America/New_York:20250708T130000
DTSTAMP:20260419T084338
CREATED:20250523T155445Z
LAST-MODIFIED:20250523T155445Z
UID:36110-1751976000-1751979600@moreheadplanetarium.org
SUMMARY:Mars: The Ultimate Voyage
DESCRIPTION:
URL:https://moreheadplanetarium.org/calendar/mars-the-ultimate-voyage-175/
CATEGORIES:Planetarium Shows
END:VEVENT
BEGIN:VEVENT
DTSTART;TZID=America/New_York:20250708T133000
DTEND;TZID=America/New_York:20250708T143000
DTSTAMP:20260419T084338
CREATED:20250523T155645Z
LAST-MODIFIED:20250523T155645Z
UID:36111-1751981400-1751985000@moreheadplanetarium.org
SUMMARY:The Sun: Our Living Star
DESCRIPTION:
URL:https://moreheadplanetarium.org/calendar/the-sun-our-living-star-60/
CATEGORIES:Planetarium Shows
END:VEVENT
BEGIN:VEVENT
DTSTART;TZID=America/New_York:20250708T150000
DTEND;TZID=America/New_York:20250708T160000
DTSTAMP:20260419T084338
CREATED:20250523T155645Z
LAST-MODIFIED:20250523T155645Z
UID:36112-1751986800-1751990400@moreheadplanetarium.org
SUMMARY:From Earth to the Universe
DESCRIPTION:
URL:https://moreheadplanetarium.org/calendar/from-earth-to-the-universe-145/
CATEGORIES:Planetarium Shows
END:VEVENT
END:VCALENDAR