BEGIN:VCALENDAR
VERSION:2.0
PRODID:-//Morehead Planetarium and Science Center - ECPv6.13.2.1//NONSGML v1.0//EN
CALSCALE:GREGORIAN
METHOD:PUBLISH
X-WR-CALNAME:Morehead Planetarium and Science Center
X-ORIGINAL-URL:https://moreheadplanetarium.org
X-WR-CALDESC:Events for Morehead Planetarium and Science Center
REFRESH-INTERVAL;VALUE=DURATION:PT1H
X-Robots-Tag:noindex
X-PUBLISHED-TTL:PT1H
BEGIN:VTIMEZONE
TZID:America/New_York
BEGIN:DAYLIGHT
TZOFFSETFROM:-0500
TZOFFSETTO:-0400
TZNAME:EDT
DTSTART:20250309T070000
END:DAYLIGHT
BEGIN:STANDARD
TZOFFSETFROM:-0400
TZOFFSETTO:-0500
TZNAME:EST
DTSTART:20251102T060000
END:STANDARD
END:VTIMEZONE
BEGIN:VEVENT
DTSTART;TZID=America/New_York:20250612T103000
DTEND;TZID=America/New_York:20250612T113000
DTSTAMP:20260419T101752
CREATED:20250423T164629Z
LAST-MODIFIED:20250423T164629Z
UID:35862-1749724200-1749727800@moreheadplanetarium.org
SUMMARY:Earth\, Moon and Sun
DESCRIPTION:
URL:https://moreheadplanetarium.org/calendar/earth-moon-and-sun-179/
CATEGORIES:Planetarium Shows
END:VEVENT
BEGIN:VEVENT
DTSTART;TZID=America/New_York:20250612T120000
DTEND;TZID=America/New_York:20250612T130000
DTSTAMP:20260419T101752
CREATED:20250423T164644Z
LAST-MODIFIED:20250423T164644Z
UID:35863-1749729600-1749733200@moreheadplanetarium.org
SUMMARY:Mars: The Ultimate Voyage
DESCRIPTION:
URL:https://moreheadplanetarium.org/calendar/mars-the-ultimate-voyage-160/
CATEGORIES:Planetarium Shows
END:VEVENT
BEGIN:VEVENT
DTSTART;TZID=America/New_York:20250612T133000
DTEND;TZID=America/New_York:20250612T143000
DTSTAMP:20260419T101752
CREATED:20250423T164644Z
LAST-MODIFIED:20250423T164644Z
UID:35864-1749735000-1749738600@moreheadplanetarium.org
SUMMARY:The Sun: Our Living Star
DESCRIPTION:
URL:https://moreheadplanetarium.org/calendar/the-sun-our-living-star-45/
CATEGORIES:Planetarium Shows
END:VEVENT
BEGIN:VEVENT
DTSTART;TZID=America/New_York:20250612T150000
DTEND;TZID=America/New_York:20250612T160000
DTSTAMP:20260419T101752
CREATED:20250423T164644Z
LAST-MODIFIED:20250423T164644Z
UID:35865-1749740400-1749744000@moreheadplanetarium.org
SUMMARY:From Earth to the Universe
DESCRIPTION:
URL:https://moreheadplanetarium.org/calendar/from-earth-to-the-universe-123/
CATEGORIES:Planetarium Shows
END:VEVENT
END:VCALENDAR