BEGIN:VCALENDAR
VERSION:2.0
PRODID:-//Morehead Planetarium and Science Center - ECPv6.13.2.1//NONSGML v1.0//EN
CALSCALE:GREGORIAN
METHOD:PUBLISH
X-WR-CALNAME:Morehead Planetarium and Science Center
X-ORIGINAL-URL:https://moreheadplanetarium.org
X-WR-CALDESC:Events for Morehead Planetarium and Science Center
REFRESH-INTERVAL;VALUE=DURATION:PT1H
X-Robots-Tag:noindex
X-PUBLISHED-TTL:PT1H
BEGIN:VTIMEZONE
TZID:America/New_York
BEGIN:DAYLIGHT
TZOFFSETFROM:-0500
TZOFFSETTO:-0400
TZNAME:EDT
DTSTART:20250309T070000
END:DAYLIGHT
BEGIN:STANDARD
TZOFFSETFROM:-0400
TZOFFSETTO:-0500
TZNAME:EST
DTSTART:20251102T060000
END:STANDARD
END:VTIMEZONE
BEGIN:VEVENT
DTSTART;TZID=America/New_York:20250518T133000
DTEND;TZID=America/New_York:20250518T143000
DTSTAMP:20260419T114432
CREATED:20250312T161957Z
LAST-MODIFIED:20250312T161957Z
UID:35671-1747575000-1747578600@moreheadplanetarium.org
SUMMARY:Astronaut
DESCRIPTION:
URL:https://moreheadplanetarium.org/calendar/astronaut-145/
CATEGORIES:Planetarium Shows
END:VEVENT
BEGIN:VEVENT
DTSTART;TZID=America/New_York:20250518T150000
DTEND;TZID=America/New_York:20250518T160000
DTSTAMP:20260419T114432
CREATED:20250312T161958Z
LAST-MODIFIED:20250312T161958Z
UID:35672-1747580400-1747584000@moreheadplanetarium.org
SUMMARY:Supermassive Black Holes
DESCRIPTION:
URL:https://moreheadplanetarium.org/calendar/supermassive-black-holes-36/
CATEGORIES:Planetarium Shows
END:VEVENT
BEGIN:VEVENT
DTSTART;TZID=America/New_York:20250518T163000
DTEND;TZID=America/New_York:20250518T173000
DTSTAMP:20260419T114432
CREATED:20250312T161958Z
LAST-MODIFIED:20250312T161958Z
UID:35673-1747585800-1747589400@moreheadplanetarium.org
SUMMARY:One Sky\, Many Eyes
DESCRIPTION:
URL:https://moreheadplanetarium.org/calendar/one-sky-many-eyes-120/
CATEGORIES:Planetarium Shows
END:VEVENT
END:VCALENDAR