BEGIN:VCALENDAR
VERSION:2.0
PRODID:-//Morehead Planetarium and Science Center - ECPv6.13.2.1//NONSGML v1.0//EN
CALSCALE:GREGORIAN
METHOD:PUBLISH
X-WR-CALNAME:Morehead Planetarium and Science Center
X-ORIGINAL-URL:https://moreheadplanetarium.org
X-WR-CALDESC:Events for Morehead Planetarium and Science Center
REFRESH-INTERVAL;VALUE=DURATION:PT1H
X-Robots-Tag:noindex
X-PUBLISHED-TTL:PT1H
BEGIN:VTIMEZONE
TZID:America/New_York
BEGIN:DAYLIGHT
TZOFFSETFROM:-0500
TZOFFSETTO:-0400
TZNAME:EDT
DTSTART:20250309T070000
END:DAYLIGHT
BEGIN:STANDARD
TZOFFSETFROM:-0400
TZOFFSETTO:-0500
TZNAME:EST
DTSTART:20251102T060000
END:STANDARD
END:VTIMEZONE
BEGIN:VEVENT
DTSTART;TZID=America/New_York:20250426T103000
DTEND;TZID=America/New_York:20250426T113000
DTSTAMP:20260419T130952
CREATED:20250312T161339Z
LAST-MODIFIED:20250312T161339Z
UID:35644-1745663400-1745667000@moreheadplanetarium.org
SUMMARY:Magic Tree House Space Mission
DESCRIPTION:
URL:https://moreheadplanetarium.org/calendar/magic-tree-house-space-mission-203/
CATEGORIES:Planetarium Shows
END:VEVENT
BEGIN:VEVENT
DTSTART;TZID=America/New_York:20250426T120000
DTEND;TZID=America/New_York:20250426T130000
DTSTAMP:20260419T130952
CREATED:20250312T161339Z
LAST-MODIFIED:20250312T161339Z
UID:35645-1745668800-1745672400@moreheadplanetarium.org
SUMMARY:Solar System Odyssey
DESCRIPTION:
URL:https://moreheadplanetarium.org/calendar/solar-system-odyssey-77/
CATEGORIES:Planetarium Shows
END:VEVENT
BEGIN:VEVENT
DTSTART;TZID=America/New_York:20250426T133000
DTEND;TZID=America/New_York:20250426T143000
DTSTAMP:20260419T130952
CREATED:20250312T161353Z
LAST-MODIFIED:20250312T161353Z
UID:35646-1745674200-1745677800@moreheadplanetarium.org
SUMMARY:Earth\, Moon and Sun
DESCRIPTION:
URL:https://moreheadplanetarium.org/calendar/earth-moon-and-sun-172/
CATEGORIES:Planetarium Shows
END:VEVENT
BEGIN:VEVENT
DTSTART;TZID=America/New_York:20250426T150000
DTEND;TZID=America/New_York:20250426T160000
DTSTAMP:20260419T130952
CREATED:20250312T161353Z
LAST-MODIFIED:20250312T161353Z
UID:35647-1745679600-1745683200@moreheadplanetarium.org
SUMMARY:We Are Stars
DESCRIPTION:
URL:https://moreheadplanetarium.org/calendar/we-are-stars-152/
CATEGORIES:Planetarium Shows
END:VEVENT
BEGIN:VEVENT
DTSTART;TZID=America/New_York:20250426T163000
DTEND;TZID=America/New_York:20250426T173000
DTSTAMP:20260419T130952
CREATED:20250312T161354Z
LAST-MODIFIED:20250312T161354Z
UID:35648-1745685000-1745688600@moreheadplanetarium.org
SUMMARY:Carolina Skies
DESCRIPTION:
URL:https://moreheadplanetarium.org/calendar/carolina-skies-421/
CATEGORIES:Planetarium Shows
END:VEVENT
END:VCALENDAR