BEGIN:VCALENDAR
VERSION:2.0
PRODID:-//Morehead Planetarium and Science Center - ECPv6.13.2.1//NONSGML v1.0//EN
CALSCALE:GREGORIAN
METHOD:PUBLISH
X-ORIGINAL-URL:https://moreheadplanetarium.org
X-WR-CALDESC:Events for Morehead Planetarium and Science Center
REFRESH-INTERVAL;VALUE=DURATION:PT1H
X-Robots-Tag:noindex
X-PUBLISHED-TTL:PT1H
BEGIN:VTIMEZONE
TZID:America/New_York
BEGIN:DAYLIGHT
TZOFFSETFROM:-0500
TZOFFSETTO:-0400
TZNAME:EDT
DTSTART:20250309T070000
END:DAYLIGHT
BEGIN:STANDARD
TZOFFSETFROM:-0400
TZOFFSETTO:-0500
TZNAME:EST
DTSTART:20251102T060000
END:STANDARD
END:VTIMEZONE
BEGIN:VEVENT
DTSTART;TZID=America/New_York:20250301T103000
DTEND;TZID=America/New_York:20250301T113000
DTSTAMP:20260419T202457
CREATED:20250122T145328Z
LAST-MODIFIED:20250122T145328Z
UID:35259-1740825000-1740828600@moreheadplanetarium.org
SUMMARY:Magic Tree House Space Mission
DESCRIPTION:
URL:https://moreheadplanetarium.org/calendar/magic-tree-house-space-mission-195/
CATEGORIES:Planetarium Shows
END:VEVENT
BEGIN:VEVENT
DTSTART;TZID=America/New_York:20250301T120000
DTEND;TZID=America/New_York:20250301T130000
DTSTAMP:20260419T202457
CREATED:20250122T145328Z
LAST-MODIFIED:20250122T145328Z
UID:35260-1740830400-1740834000@moreheadplanetarium.org
SUMMARY:Solar System Odyssey
DESCRIPTION:
URL:https://moreheadplanetarium.org/calendar/solar-system-odyssey-74/
CATEGORIES:Planetarium Shows
END:VEVENT
BEGIN:VEVENT
DTSTART;TZID=America/New_York:20250301T133000
DTEND;TZID=America/New_York:20250301T143000
DTSTAMP:20260419T202457
CREATED:20250122T145329Z
LAST-MODIFIED:20250224T153505Z
UID:35261-1740835800-1740839400@moreheadplanetarium.org
SUMMARY:Earth\, Moon and Sun
DESCRIPTION:
URL:https://moreheadplanetarium.org/calendar/earth-moon-and-sun-164/
CATEGORIES:Planetarium Shows
END:VEVENT
BEGIN:VEVENT
DTSTART;TZID=America/New_York:20250301T150000
DTEND;TZID=America/New_York:20250301T160000
DTSTAMP:20260419T202458
CREATED:20250122T145330Z
LAST-MODIFIED:20250122T145330Z
UID:35262-1740841200-1740844800@moreheadplanetarium.org
SUMMARY:We Are Stars
DESCRIPTION:
URL:https://moreheadplanetarium.org/calendar/we-are-stars-144/
CATEGORIES:Planetarium Shows
END:VEVENT
BEGIN:VEVENT
DTSTART;TZID=America/New_York:20250301T163000
DTEND;TZID=America/New_York:20250301T173000
DTSTAMP:20260419T202458
CREATED:20250122T145330Z
LAST-MODIFIED:20250122T145330Z
UID:35263-1740846600-1740850200@moreheadplanetarium.org
SUMMARY:Carolina Skies
DESCRIPTION:
URL:https://moreheadplanetarium.org/calendar/carolina-skies-413/
CATEGORIES:Planetarium Shows
END:VEVENT
END:VCALENDAR