BEGIN:VCALENDAR
VERSION:2.0
PRODID:-//Morehead Planetarium and Science Center - ECPv6.13.2.1//NONSGML v1.0//EN
CALSCALE:GREGORIAN
METHOD:PUBLISH
X-WR-CALNAME:Morehead Planetarium and Science Center
X-ORIGINAL-URL:https://moreheadplanetarium.org
X-WR-CALDESC:Events for Morehead Planetarium and Science Center
REFRESH-INTERVAL;VALUE=DURATION:PT1H
X-Robots-Tag:noindex
X-PUBLISHED-TTL:PT1H
BEGIN:VTIMEZONE
TZID:America/New_York
BEGIN:DAYLIGHT
TZOFFSETFROM:-0500
TZOFFSETTO:-0400
TZNAME:EDT
DTSTART:20250309T070000
END:DAYLIGHT
BEGIN:STANDARD
TZOFFSETFROM:-0400
TZOFFSETTO:-0500
TZNAME:EST
DTSTART:20251102T060000
END:STANDARD
END:VTIMEZONE
BEGIN:VEVENT
DTSTART;TZID=America/New_York:20250222T103000
DTEND;TZID=America/New_York:20250222T113000
DTSTAMP:20260419T214950
CREATED:20241030T015932Z
LAST-MODIFIED:20241030T015932Z
UID:34864-1740220200-1740223800@moreheadplanetarium.org
SUMMARY:Magic Tree House Space Mission
DESCRIPTION:
URL:https://moreheadplanetarium.org/calendar/magic-tree-house-space-mission-194/
CATEGORIES:Planetarium Shows
END:VEVENT
BEGIN:VEVENT
DTSTART;TZID=America/New_York:20250222T120000
DTEND;TZID=America/New_York:20250222T130000
DTSTAMP:20260419T214950
CREATED:20241030T015932Z
LAST-MODIFIED:20241030T015932Z
UID:34865-1740225600-1740229200@moreheadplanetarium.org
SUMMARY:Galileo: The Power of the Telescope
DESCRIPTION:
URL:https://moreheadplanetarium.org/calendar/galileo-the-power-of-the-telescope-18/
CATEGORIES:Planetarium Shows
END:VEVENT
BEGIN:VEVENT
DTSTART;TZID=America/New_York:20250222T133000
DTEND;TZID=America/New_York:20250222T143000
DTSTAMP:20260419T214950
CREATED:20241030T015932Z
LAST-MODIFIED:20241030T015932Z
UID:34866-1740231000-1740234600@moreheadplanetarium.org
SUMMARY:Supermassive Black Holes
DESCRIPTION:
URL:https://moreheadplanetarium.org/calendar/supermassive-black-holes-26/
CATEGORIES:Planetarium Shows
END:VEVENT
BEGIN:VEVENT
DTSTART;TZID=America/New_York:20250222T150000
DTEND;TZID=America/New_York:20250222T160000
DTSTAMP:20260419T214950
CREATED:20241030T015933Z
LAST-MODIFIED:20241030T015933Z
UID:34867-1740236400-1740240000@moreheadplanetarium.org
SUMMARY:The Longest Night: A Winter's Tale
DESCRIPTION:
URL:https://moreheadplanetarium.org/calendar/the-longest-night-a-winters-tale-116/
CATEGORIES:Planetarium Shows
END:VEVENT
BEGIN:VEVENT
DTSTART;TZID=America/New_York:20250222T163000
DTEND;TZID=America/New_York:20250222T173000
DTSTAMP:20260419T214950
CREATED:20241030T015933Z
LAST-MODIFIED:20241030T015933Z
UID:34868-1740241800-1740245400@moreheadplanetarium.org
SUMMARY:Carolina Skies
DESCRIPTION:
URL:https://moreheadplanetarium.org/calendar/carolina-skies-412/
CATEGORIES:Planetarium Shows
END:VEVENT
END:VCALENDAR