BEGIN:VCALENDAR
VERSION:2.0
PRODID:-//Morehead Planetarium and Science Center - ECPv6.13.2.1//NONSGML v1.0//EN
CALSCALE:GREGORIAN
METHOD:PUBLISH
X-WR-CALNAME:Morehead Planetarium and Science Center
X-ORIGINAL-URL:https://moreheadplanetarium.org
X-WR-CALDESC:Events for Morehead Planetarium and Science Center
REFRESH-INTERVAL;VALUE=DURATION:PT1H
X-Robots-Tag:noindex
X-PUBLISHED-TTL:PT1H
BEGIN:VTIMEZONE
TZID:America/New_York
BEGIN:DAYLIGHT
TZOFFSETFROM:-0500
TZOFFSETTO:-0400
TZNAME:EDT
DTSTART:20250309T070000
END:DAYLIGHT
BEGIN:STANDARD
TZOFFSETFROM:-0400
TZOFFSETTO:-0500
TZNAME:EST
DTSTART:20251102T060000
END:STANDARD
END:VTIMEZONE
BEGIN:VEVENT
DTSTART;TZID=America/New_York:20250126T133000
DTEND;TZID=America/New_York:20250126T143000
DTSTAMP:20260419T232419
CREATED:20241030T014324Z
LAST-MODIFIED:20241030T014324Z
UID:34825-1737898200-1737901800@moreheadplanetarium.org
SUMMARY:Forward! To the Moon
DESCRIPTION:
URL:https://moreheadplanetarium.org/calendar/forward-to-the-moon-85/
CATEGORIES:Planetarium Shows
END:VEVENT
BEGIN:VEVENT
DTSTART;TZID=America/New_York:20250126T150000
DTEND;TZID=America/New_York:20250126T160000
DTSTAMP:20260419T232419
CREATED:20241030T014325Z
LAST-MODIFIED:20241030T014325Z
UID:34826-1737903600-1737907200@moreheadplanetarium.org
SUMMARY:The Longest Night: A Winter's Tale
DESCRIPTION:
URL:https://moreheadplanetarium.org/calendar/the-longest-night-a-winters-tale-109/
CATEGORIES:Planetarium Shows
END:VEVENT
BEGIN:VEVENT
DTSTART;TZID=America/New_York:20250126T163000
DTEND;TZID=America/New_York:20250126T173000
DTSTAMP:20260419T232419
CREATED:20241030T014325Z
LAST-MODIFIED:20241030T014325Z
UID:34827-1737909000-1737912600@moreheadplanetarium.org
SUMMARY:One Sky\, Many Eyes
DESCRIPTION:
URL:https://moreheadplanetarium.org/calendar/one-sky-many-eyes-90/
CATEGORIES:Planetarium Shows
END:VEVENT
END:VCALENDAR