BEGIN:VCALENDAR
VERSION:2.0
PRODID:-//Morehead Planetarium and Science Center - ECPv6.13.2.1//NONSGML v1.0//EN
CALSCALE:GREGORIAN
METHOD:PUBLISH
X-ORIGINAL-URL:https://moreheadplanetarium.org
X-WR-CALDESC:Events for Morehead Planetarium and Science Center
REFRESH-INTERVAL;VALUE=DURATION:PT1H
X-Robots-Tag:noindex
X-PUBLISHED-TTL:PT1H
BEGIN:VTIMEZONE
TZID:America/New_York
BEGIN:DAYLIGHT
TZOFFSETFROM:-0500
TZOFFSETTO:-0400
TZNAME:EDT
DTSTART:20240310T070000
END:DAYLIGHT
BEGIN:STANDARD
TZOFFSETFROM:-0400
TZOFFSETTO:-0500
TZNAME:EST
DTSTART:20241103T060000
END:STANDARD
END:VTIMEZONE
BEGIN:VEVENT
DTSTART;TZID=America/New_York:20241222T133000
DTEND;TZID=America/New_York:20241222T143000
DTSTAMP:20260420T004545
CREATED:20241030T013319Z
LAST-MODIFIED:20241030T013319Z
UID:34785-1734874200-1734877800@moreheadplanetarium.org
SUMMARY:Forward! To the Moon
DESCRIPTION:
URL:https://moreheadplanetarium.org/calendar/forward-to-the-moon-81/
CATEGORIES:Planetarium Shows
END:VEVENT
BEGIN:VEVENT
DTSTART;TZID=America/New_York:20241222T150000
DTEND;TZID=America/New_York:20241222T160000
DTSTAMP:20260420T004545
CREATED:20241030T013320Z
LAST-MODIFIED:20241030T013320Z
UID:34786-1734879600-1734883200@moreheadplanetarium.org
SUMMARY:The Longest Night: A Winter's Tale
DESCRIPTION:
URL:https://moreheadplanetarium.org/calendar/the-longest-night-a-winters-tale-101/
CATEGORIES:Planetarium Shows
END:VEVENT
BEGIN:VEVENT
DTSTART;TZID=America/New_York:20241222T163000
DTEND;TZID=America/New_York:20241222T173000
DTSTAMP:20260420T004545
CREATED:20241030T013320Z
LAST-MODIFIED:20241030T013320Z
UID:34787-1734885000-1734888600@moreheadplanetarium.org
SUMMARY:One Sky\, Many Eyes
DESCRIPTION:
URL:https://moreheadplanetarium.org/calendar/one-sky-many-eyes-82/
CATEGORIES:Planetarium Shows
END:VEVENT
END:VCALENDAR