BEGIN:VCALENDAR
VERSION:2.0
PRODID:-//Morehead Planetarium and Science Center - ECPv6.13.2.1//NONSGML v1.0//EN
CALSCALE:GREGORIAN
METHOD:PUBLISH
X-ORIGINAL-URL:https://moreheadplanetarium.org
X-WR-CALDESC:Events for Morehead Planetarium and Science Center
REFRESH-INTERVAL;VALUE=DURATION:PT1H
X-Robots-Tag:noindex
X-PUBLISHED-TTL:PT1H
BEGIN:VTIMEZONE
TZID:America/New_York
BEGIN:DAYLIGHT
TZOFFSETFROM:-0500
TZOFFSETTO:-0400
TZNAME:EDT
DTSTART:20240310T070000
END:DAYLIGHT
BEGIN:STANDARD
TZOFFSETFROM:-0400
TZOFFSETTO:-0500
TZNAME:EST
DTSTART:20241103T060000
END:STANDARD
END:VTIMEZONE
BEGIN:VEVENT
DTSTART;TZID=America/New_York:20240922T133000
DTEND;TZID=America/New_York:20240922T143000
DTSTAMP:20260420T041105
CREATED:20240801T184330Z
LAST-MODIFIED:20240801T184330Z
UID:34212-1727011800-1727015400@moreheadplanetarium.org
SUMMARY:Mysteries of Your Brain
DESCRIPTION:
URL:https://moreheadplanetarium.org/calendar/mysteries-of-your-brain-79/
CATEGORIES:Planetarium Shows
END:VEVENT
BEGIN:VEVENT
DTSTART;TZID=America/New_York:20240922T150000
DTEND;TZID=America/New_York:20240922T160000
DTSTAMP:20260420T041105
CREATED:20240801T184330Z
LAST-MODIFIED:20240801T184330Z
UID:34213-1727017200-1727020800@moreheadplanetarium.org
SUMMARY:We Are Stars
DESCRIPTION:
URL:https://moreheadplanetarium.org/calendar/we-are-stars-134/
CATEGORIES:Planetarium Shows
END:VEVENT
BEGIN:VEVENT
DTSTART;TZID=America/New_York:20240922T163000
DTEND;TZID=America/New_York:20240922T173000
DTSTAMP:20260420T041105
CREATED:20240801T184330Z
LAST-MODIFIED:20240801T184330Z
UID:34214-1727022600-1727026200@moreheadplanetarium.org
SUMMARY:One Sky\, Many Eyes
DESCRIPTION:
URL:https://moreheadplanetarium.org/calendar/one-sky-many-eyes-57/
CATEGORIES:Planetarium Shows
END:VEVENT
END:VCALENDAR