BEGIN:VCALENDAR
VERSION:2.0
PRODID:-//Morehead Planetarium and Science Center - ECPv6.13.2.1//NONSGML v1.0//EN
CALSCALE:GREGORIAN
METHOD:PUBLISH
X-WR-CALNAME:Morehead Planetarium and Science Center
X-ORIGINAL-URL:https://moreheadplanetarium.org
X-WR-CALDESC:Events for Morehead Planetarium and Science Center
REFRESH-INTERVAL;VALUE=DURATION:PT1H
X-Robots-Tag:noindex
X-PUBLISHED-TTL:PT1H
BEGIN:VTIMEZONE
TZID:America/New_York
BEGIN:DAYLIGHT
TZOFFSETFROM:-0500
TZOFFSETTO:-0400
TZNAME:EDT
DTSTART:20240310T070000
END:DAYLIGHT
BEGIN:STANDARD
TZOFFSETFROM:-0400
TZOFFSETTO:-0500
TZNAME:EST
DTSTART:20241103T060000
END:STANDARD
END:VTIMEZONE
BEGIN:VEVENT
DTSTART;TZID=America/New_York:20240806T103000
DTEND;TZID=America/New_York:20240806T113000
DTSTAMP:20260420T024044
CREATED:20240514T195950Z
LAST-MODIFIED:20240514T195950Z
UID:33470-1722940200-1722943800@moreheadplanetarium.org
SUMMARY:Magic Tree House Space Mission
DESCRIPTION:
URL:https://moreheadplanetarium.org/calendar/magic-tree-house-space-mission-177/
CATEGORIES:Planetarium Shows
END:VEVENT
BEGIN:VEVENT
DTSTART;TZID=America/New_York:20240806T120000
DTEND;TZID=America/New_York:20240806T130000
DTSTAMP:20260420T024044
CREATED:20240514T200150Z
LAST-MODIFIED:20240514T200150Z
UID:33471-1722945600-1722949200@moreheadplanetarium.org
SUMMARY:Earthquakes\, Volcanoes\, and Tsunamis
DESCRIPTION:
URL:https://moreheadplanetarium.org/calendar/earthquakes-volcanoes-and-tsunamis-149/
CATEGORIES:Planetarium Shows
END:VEVENT
BEGIN:VEVENT
DTSTART;TZID=America/New_York:20240806T133000
DTEND;TZID=America/New_York:20240806T143000
DTSTAMP:20260420T024044
CREATED:20240514T200150Z
LAST-MODIFIED:20240514T200150Z
UID:33472-1722951000-1722954600@moreheadplanetarium.org
SUMMARY:Mars: The Ultimate Voyage
DESCRIPTION:
URL:https://moreheadplanetarium.org/calendar/mars-the-ultimate-voyage-121/
CATEGORIES:Planetarium Shows
END:VEVENT
BEGIN:VEVENT
DTSTART;TZID=America/New_York:20240806T150000
DTEND;TZID=America/New_York:20240806T160000
DTSTAMP:20260420T024044
CREATED:20240514T200151Z
LAST-MODIFIED:20240514T200151Z
UID:33473-1722956400-1722960000@moreheadplanetarium.org
SUMMARY:Mysteries of Your Brain
DESCRIPTION:
URL:https://moreheadplanetarium.org/calendar/mysteries-of-your-brain-73/
CATEGORIES:Planetarium Shows
END:VEVENT
END:VCALENDAR