BEGIN:VCALENDAR
VERSION:2.0
PRODID:-//Morehead Planetarium and Science Center - ECPv6.13.2.1//NONSGML v1.0//EN
CALSCALE:GREGORIAN
METHOD:PUBLISH
X-ORIGINAL-URL:https://moreheadplanetarium.org
X-WR-CALDESC:Events for Morehead Planetarium and Science Center
REFRESH-INTERVAL;VALUE=DURATION:PT1H
X-Robots-Tag:noindex
X-PUBLISHED-TTL:PT1H
BEGIN:VTIMEZONE
TZID:America/New_York
BEGIN:DAYLIGHT
TZOFFSETFROM:-0500
TZOFFSETTO:-0400
TZNAME:EDT
DTSTART:20240310T070000
END:DAYLIGHT
BEGIN:STANDARD
TZOFFSETFROM:-0400
TZOFFSETTO:-0500
TZNAME:EST
DTSTART:20241103T060000
END:STANDARD
END:VTIMEZONE
BEGIN:VEVENT
DTSTART;TZID=America/New_York:20240703T103000
DTEND;TZID=America/New_York:20240703T113000
DTSTAMP:20260420T041017
CREATED:20240514T180849Z
LAST-MODIFIED:20240514T180849Z
UID:33354-1720002600-1720006200@moreheadplanetarium.org
SUMMARY:Earth\, Moon and Sun
DESCRIPTION:
URL:https://moreheadplanetarium.org/calendar/earth-moon-and-sun-144/
CATEGORIES:Planetarium Shows
END:VEVENT
BEGIN:VEVENT
DTSTART;TZID=America/New_York:20240703T120000
DTEND;TZID=America/New_York:20240703T130000
DTSTAMP:20260420T041017
CREATED:20240514T180849Z
LAST-MODIFIED:20240514T180849Z
UID:33355-1720008000-1720011600@moreheadplanetarium.org
SUMMARY:Solar System Odyssey
DESCRIPTION:
URL:https://moreheadplanetarium.org/calendar/solar-system-odyssey-60/
CATEGORIES:Planetarium Shows
END:VEVENT
BEGIN:VEVENT
DTSTART;TZID=America/New_York:20240703T133000
DTEND;TZID=America/New_York:20240703T143000
DTSTAMP:20260420T041017
CREATED:20240514T180849Z
LAST-MODIFIED:20240514T180849Z
UID:33356-1720013400-1720017000@moreheadplanetarium.org
SUMMARY:From Earth to the Universe
DESCRIPTION:
URL:https://moreheadplanetarium.org/calendar/from-earth-to-the-universe-90/
CATEGORIES:Planetarium Shows
END:VEVENT
BEGIN:VEVENT
DTSTART;TZID=America/New_York:20240703T150000
DTEND;TZID=America/New_York:20240703T160000
DTSTAMP:20260420T041017
CREATED:20240514T181049Z
LAST-MODIFIED:20240514T181049Z
UID:33357-1720018800-1720022400@moreheadplanetarium.org
SUMMARY:Forward! To the Moon
DESCRIPTION:
URL:https://moreheadplanetarium.org/calendar/forward-to-the-moon-64/
CATEGORIES:Planetarium Shows
END:VEVENT
END:VCALENDAR