BEGIN:VCALENDAR
VERSION:2.0
PRODID:-//Morehead Planetarium and Science Center - ECPv6.13.2.1//NONSGML v1.0//EN
CALSCALE:GREGORIAN
METHOD:PUBLISH
X-ORIGINAL-URL:https://moreheadplanetarium.org
X-WR-CALDESC:Events for Morehead Planetarium and Science Center
REFRESH-INTERVAL;VALUE=DURATION:PT1H
X-Robots-Tag:noindex
X-PUBLISHED-TTL:PT1H
BEGIN:VTIMEZONE
TZID:America/New_York
BEGIN:DAYLIGHT
TZOFFSETFROM:-0500
TZOFFSETTO:-0400
TZNAME:EDT
DTSTART:20240310T070000
END:DAYLIGHT
BEGIN:STANDARD
TZOFFSETFROM:-0400
TZOFFSETTO:-0500
TZNAME:EST
DTSTART:20241103T060000
END:STANDARD
END:VTIMEZONE
BEGIN:VEVENT
DTSTART;TZID=America/New_York:20240620T103000
DTEND;TZID=America/New_York:20240620T113000
DTSTAMP:20260420T225726
CREATED:20240514T174914Z
LAST-MODIFIED:20240514T174914Z
UID:33310-1718879400-1718883000@moreheadplanetarium.org
SUMMARY:Magic Tree House Space Mission
DESCRIPTION:
URL:https://moreheadplanetarium.org/calendar/magic-tree-house-space-mission-158/
CATEGORIES:Planetarium Shows
END:VEVENT
BEGIN:VEVENT
DTSTART;TZID=America/New_York:20240620T120000
DTEND;TZID=America/New_York:20240620T130000
DTSTAMP:20260420T225726
CREATED:20240514T174914Z
LAST-MODIFIED:20240514T174914Z
UID:33311-1718884800-1718888400@moreheadplanetarium.org
SUMMARY:Earthquakes\, Volcanoes\, and Tsunamis
DESCRIPTION:
URL:https://moreheadplanetarium.org/calendar/earthquakes-volcanoes-and-tsunamis-134/
CATEGORIES:Planetarium Shows
END:VEVENT
BEGIN:VEVENT
DTSTART;TZID=America/New_York:20240620T133000
DTEND;TZID=America/New_York:20240620T143000
DTSTAMP:20260420T225726
CREATED:20240514T175114Z
LAST-MODIFIED:20240514T175114Z
UID:33312-1718890200-1718893800@moreheadplanetarium.org
SUMMARY:Mars: The Ultimate Voyage
DESCRIPTION:
URL:https://moreheadplanetarium.org/calendar/mars-the-ultimate-voyage-102/
CATEGORIES:Planetarium Shows
END:VEVENT
BEGIN:VEVENT
DTSTART;TZID=America/New_York:20240620T150000
DTEND;TZID=America/New_York:20240620T160000
DTSTAMP:20260420T225726
CREATED:20240514T175115Z
LAST-MODIFIED:20240514T175115Z
UID:33313-1718895600-1718899200@moreheadplanetarium.org
SUMMARY:Phantom of the Universe
DESCRIPTION:
URL:https://moreheadplanetarium.org/calendar/phantom-of-the-universe-47/
CATEGORIES:Planetarium Shows
END:VEVENT
END:VCALENDAR