BEGIN:VCALENDAR
VERSION:2.0
PRODID:-//Morehead Planetarium and Science Center - ECPv6.13.2.1//NONSGML v1.0//EN
CALSCALE:GREGORIAN
METHOD:PUBLISH
X-ORIGINAL-URL:https://moreheadplanetarium.org
X-WR-CALDESC:Events for Morehead Planetarium and Science Center
REFRESH-INTERVAL;VALUE=DURATION:PT1H
X-Robots-Tag:noindex
X-PUBLISHED-TTL:PT1H
BEGIN:VTIMEZONE
TZID:America/New_York
BEGIN:DAYLIGHT
TZOFFSETFROM:-0500
TZOFFSETTO:-0400
TZNAME:EDT
DTSTART:20240310T070000
END:DAYLIGHT
BEGIN:STANDARD
TZOFFSETFROM:-0400
TZOFFSETTO:-0500
TZNAME:EST
DTSTART:20241103T060000
END:STANDARD
END:VTIMEZONE
BEGIN:VEVENT
DTSTART;TZID=America/New_York:20240427T103000
DTEND;TZID=America/New_York:20240427T113000
DTSTAMP:20260421T222845
CREATED:20240125T193513Z
LAST-MODIFIED:20240125T215542Z
UID:31885-1714213800-1714217400@moreheadplanetarium.org
SUMMARY:Magic Tree House Space Mission
DESCRIPTION:
URL:https://moreheadplanetarium.org/calendar/magic-tree-house-space-mission-147/
CATEGORIES:Planetarium Shows
END:VEVENT
BEGIN:VEVENT
DTSTART;TZID=America/New_York:20240427T120000
DTEND;TZID=America/New_York:20240427T130000
DTSTAMP:20260421T222845
CREATED:20240125T193513Z
LAST-MODIFIED:20240125T215542Z
UID:31886-1714219200-1714222800@moreheadplanetarium.org
SUMMARY:Astronaut
DESCRIPTION:
URL:https://moreheadplanetarium.org/calendar/astronaut-117/
CATEGORIES:Planetarium Shows
END:VEVENT
BEGIN:VEVENT
DTSTART;TZID=America/New_York:20240427T133000
DTEND;TZID=America/New_York:20240427T143000
DTSTAMP:20260421T222845
CREATED:20240125T193513Z
LAST-MODIFIED:20240125T215542Z
UID:31887-1714224600-1714228200@moreheadplanetarium.org
SUMMARY:Earth\, Moon and Sun
DESCRIPTION:
URL:https://moreheadplanetarium.org/calendar/earth-moon-and-sun-131/
CATEGORIES:Planetarium Shows
END:VEVENT
BEGIN:VEVENT
DTSTART;TZID=America/New_York:20240427T150000
DTEND;TZID=America/New_York:20240427T160000
DTSTAMP:20260421T222845
CREATED:20240125T193514Z
LAST-MODIFIED:20240125T223833Z
UID:31888-1714230000-1714233600@moreheadplanetarium.org
SUMMARY:Earthquakes\, Volcanoes\, and Tsunamis
DESCRIPTION:
URL:https://moreheadplanetarium.org/calendar/earthquakes-volcanoes-and-tsunamis-125/
CATEGORIES:Planetarium Shows
END:VEVENT
BEGIN:VEVENT
DTSTART;TZID=America/New_York:20240427T163000
DTEND;TZID=America/New_York:20240427T173000
DTSTAMP:20260421T222845
CREATED:20240125T193527Z
LAST-MODIFIED:20240125T223833Z
UID:31889-1714235400-1714239000@moreheadplanetarium.org
SUMMARY:Carolina Skies
DESCRIPTION:
URL:https://moreheadplanetarium.org/calendar/carolina-skies-363/
CATEGORIES:Planetarium Shows
END:VEVENT
END:VCALENDAR