BEGIN:VCALENDAR
VERSION:2.0
PRODID:-//Morehead Planetarium and Science Center - ECPv6.13.2.1//NONSGML v1.0//EN
CALSCALE:GREGORIAN
METHOD:PUBLISH
X-ORIGINAL-URL:https://moreheadplanetarium.org
X-WR-CALDESC:Events for Morehead Planetarium and Science Center
REFRESH-INTERVAL;VALUE=DURATION:PT1H
X-Robots-Tag:noindex
X-PUBLISHED-TTL:PT1H
BEGIN:VTIMEZONE
TZID:America/New_York
BEGIN:DAYLIGHT
TZOFFSETFROM:-0500
TZOFFSETTO:-0400
TZNAME:EDT
DTSTART:20240310T070000
END:DAYLIGHT
BEGIN:STANDARD
TZOFFSETFROM:-0400
TZOFFSETTO:-0500
TZNAME:EST
DTSTART:20241103T060000
END:STANDARD
END:VTIMEZONE
BEGIN:VEVENT
DTSTART;TZID=America/New_York:20240413T103000
DTEND;TZID=America/New_York:20240413T113000
DTSTAMP:20260421T222844
CREATED:20240125T193413Z
LAST-MODIFIED:20240125T214737Z
UID:31866-1713004200-1713007800@moreheadplanetarium.org
SUMMARY:Magic Tree House Space Mission
DESCRIPTION:
URL:https://moreheadplanetarium.org/calendar/magic-tree-house-space-mission-145/
CATEGORIES:Planetarium Shows
END:VEVENT
BEGIN:VEVENT
DTSTART;TZID=America/New_York:20240413T120000
DTEND;TZID=America/New_York:20240413T130000
DTSTAMP:20260421T222844
CREATED:20240125T193413Z
LAST-MODIFIED:20240125T214738Z
UID:31867-1713009600-1713013200@moreheadplanetarium.org
SUMMARY:Astronaut
DESCRIPTION:
URL:https://moreheadplanetarium.org/calendar/astronaut-116/
CATEGORIES:Planetarium Shows
END:VEVENT
BEGIN:VEVENT
DTSTART;TZID=America/New_York:20240413T133000
DTEND;TZID=America/New_York:20240413T143000
DTSTAMP:20260421T222844
CREATED:20240125T193413Z
LAST-MODIFIED:20240125T214738Z
UID:31868-1713015000-1713018600@moreheadplanetarium.org
SUMMARY:Earth\, Moon and Sun
DESCRIPTION:
URL:https://moreheadplanetarium.org/calendar/earth-moon-and-sun-129/
CATEGORIES:Planetarium Shows
END:VEVENT
BEGIN:VEVENT
DTSTART;TZID=America/New_York:20240413T150000
DTEND;TZID=America/New_York:20240413T160000
DTSTAMP:20260421T222844
CREATED:20240125T193414Z
LAST-MODIFIED:20240125T214938Z
UID:31869-1713020400-1713024000@moreheadplanetarium.org
SUMMARY:Earthquakes\, Volcanoes\, and Tsunamis
DESCRIPTION:
URL:https://moreheadplanetarium.org/calendar/earthquakes-volcanoes-and-tsunamis-123/
CATEGORIES:Planetarium Shows
END:VEVENT
BEGIN:VEVENT
DTSTART;TZID=America/New_York:20240413T163000
DTEND;TZID=America/New_York:20240413T173000
DTSTAMP:20260421T222844
CREATED:20240125T193427Z
LAST-MODIFIED:20240125T214938Z
UID:31870-1713025800-1713029400@moreheadplanetarium.org
SUMMARY:Carolina Skies
DESCRIPTION:
URL:https://moreheadplanetarium.org/calendar/carolina-skies-359/
CATEGORIES:Planetarium Shows
END:VEVENT
END:VCALENDAR