BEGIN:VCALENDAR
VERSION:2.0
PRODID:-//Morehead Planetarium and Science Center - ECPv6.13.2.1//NONSGML v1.0//EN
CALSCALE:GREGORIAN
METHOD:PUBLISH
X-ORIGINAL-URL:https://moreheadplanetarium.org
X-WR-CALDESC:Events for Morehead Planetarium and Science Center
REFRESH-INTERVAL;VALUE=DURATION:PT1H
X-Robots-Tag:noindex
X-PUBLISHED-TTL:PT1H
BEGIN:VTIMEZONE
TZID:America/New_York
BEGIN:DAYLIGHT
TZOFFSETFROM:-0500
TZOFFSETTO:-0400
TZNAME:EDT
DTSTART:20240310T070000
END:DAYLIGHT
BEGIN:STANDARD
TZOFFSETFROM:-0400
TZOFFSETTO:-0500
TZNAME:EST
DTSTART:20241103T060000
END:STANDARD
END:VTIMEZONE
BEGIN:VEVENT
DTSTART;TZID=America/New_York:20240406T103000
DTEND;TZID=America/New_York:20240406T113000
DTSTAMP:20260421T210144
CREATED:20240125T193328Z
LAST-MODIFIED:20240125T214521Z
UID:31856-1712399400-1712403000@moreheadplanetarium.org
SUMMARY:Magic Tree House Space Mission
DESCRIPTION:
URL:https://moreheadplanetarium.org/calendar/magic-tree-house-space-mission-144/
CATEGORIES:Planetarium Shows
END:VEVENT
BEGIN:VEVENT
DTSTART;TZID=America/New_York:20240406T120000
DTEND;TZID=America/New_York:20240406T130000
DTSTAMP:20260421T210144
CREATED:20240125T193328Z
LAST-MODIFIED:20240125T214521Z
UID:31857-1712404800-1712408400@moreheadplanetarium.org
SUMMARY:Cosmic Colors
DESCRIPTION:
URL:https://moreheadplanetarium.org/calendar/cosmic-colors-44/
CATEGORIES:Planetarium Shows
END:VEVENT
BEGIN:VEVENT
DTSTART;TZID=America/New_York:20240406T133000
DTEND;TZID=America/New_York:20240406T143000
DTSTAMP:20260421T210144
CREATED:20240125T193329Z
LAST-MODIFIED:20240125T214522Z
UID:31858-1712410200-1712413800@moreheadplanetarium.org
SUMMARY:Earth\, Moon and Sun
DESCRIPTION:
URL:https://moreheadplanetarium.org/calendar/earth-moon-and-sun-128/
CATEGORIES:Planetarium Shows
END:VEVENT
BEGIN:VEVENT
DTSTART;TZID=America/New_York:20240406T150000
DTEND;TZID=America/New_York:20240406T160000
DTSTAMP:20260421T210144
CREATED:20240125T193329Z
LAST-MODIFIED:20240125T214536Z
UID:31859-1712415600-1712419200@moreheadplanetarium.org
SUMMARY:Earthquakes\, Volcanoes\, and Tsunamis
DESCRIPTION:
URL:https://moreheadplanetarium.org/calendar/earthquakes-volcanoes-and-tsunamis-122/
CATEGORIES:Planetarium Shows
END:VEVENT
BEGIN:VEVENT
DTSTART;TZID=America/New_York:20240406T163000
DTEND;TZID=America/New_York:20240406T173000
DTSTAMP:20260421T210144
CREATED:20240125T193357Z
LAST-MODIFIED:20240125T214537Z
UID:31860-1712421000-1712424600@moreheadplanetarium.org
SUMMARY:Carolina Skies
DESCRIPTION:
URL:https://moreheadplanetarium.org/calendar/carolina-skies-357/
CATEGORIES:Planetarium Shows
END:VEVENT
END:VCALENDAR