BEGIN:VCALENDAR
VERSION:2.0
PRODID:-//Morehead Planetarium and Science Center - ECPv6.13.2.1//NONSGML v1.0//EN
CALSCALE:GREGORIAN
METHOD:PUBLISH
X-WR-CALNAME:Morehead Planetarium and Science Center
X-ORIGINAL-URL:https://moreheadplanetarium.org
X-WR-CALDESC:Events for Morehead Planetarium and Science Center
REFRESH-INTERVAL;VALUE=DURATION:PT1H
X-Robots-Tag:noindex
X-PUBLISHED-TTL:PT1H
BEGIN:VTIMEZONE
TZID:America/New_York
BEGIN:DAYLIGHT
TZOFFSETFROM:-0500
TZOFFSETTO:-0400
TZNAME:EDT
DTSTART:20240310T070000
END:DAYLIGHT
BEGIN:STANDARD
TZOFFSETFROM:-0400
TZOFFSETTO:-0500
TZNAME:EST
DTSTART:20241103T060000
END:STANDARD
END:VTIMEZONE
BEGIN:VEVENT
DTSTART;TZID=America/New_York:20240127T103000
DTEND;TZID=America/New_York:20240127T113000
DTSTAMP:20260424T102011
CREATED:20231027T172115Z
LAST-MODIFIED:20240126T194032Z
UID:30661-1706351400-1706355000@moreheadplanetarium.org
SUMMARY:Magic Tree House Space Mission
DESCRIPTION:
URL:https://moreheadplanetarium.org/calendar/magic-tree-house-space-mission-135/
CATEGORIES:Planetarium Shows
END:VEVENT
BEGIN:VEVENT
DTSTART;TZID=America/New_York:20240127T120000
DTEND;TZID=America/New_York:20240127T130000
DTSTAMP:20260424T102011
CREATED:20231027T172116Z
LAST-MODIFIED:20240126T194103Z
UID:30662-1706356800-1706360400@moreheadplanetarium.org
SUMMARY:Take Flight
DESCRIPTION:
URL:https://moreheadplanetarium.org/calendar/take-flight-27/
CATEGORIES:Planetarium Shows
END:VEVENT
BEGIN:VEVENT
DTSTART;TZID=America/New_York:20240127T133000
DTEND;TZID=America/New_York:20240127T143000
DTSTAMP:20260424T102011
CREATED:20231027T172116Z
LAST-MODIFIED:20231027T172116Z
UID:30663-1706362200-1706365800@moreheadplanetarium.org
SUMMARY:Forward! To the Moon
DESCRIPTION:
URL:https://moreheadplanetarium.org/calendar/forward-to-the-moon-41/
CATEGORIES:Planetarium Shows
END:VEVENT
BEGIN:VEVENT
DTSTART;TZID=America/New_York:20240127T150000
DTEND;TZID=America/New_York:20240127T160000
DTSTAMP:20260424T102011
CREATED:20231027T172116Z
LAST-MODIFIED:20231027T172116Z
UID:30664-1706367600-1706371200@moreheadplanetarium.org
SUMMARY:The Longest Night: A Winter's Tale
DESCRIPTION:
URL:https://moreheadplanetarium.org/calendar/the-longest-night-a-winters-tale-84/
CATEGORIES:Planetarium Shows
END:VEVENT
BEGIN:VEVENT
DTSTART;TZID=America/New_York:20240127T163000
DTEND;TZID=America/New_York:20240127T173000
DTSTAMP:20260424T102011
CREATED:20231027T172117Z
LAST-MODIFIED:20231027T172117Z
UID:30665-1706373000-1706376600@moreheadplanetarium.org
SUMMARY:Carolina Skies
DESCRIPTION:
URL:https://moreheadplanetarium.org/calendar/carolina-skies-341/
CATEGORIES:Planetarium Shows
END:VEVENT
END:VCALENDAR