BEGIN:VCALENDAR
VERSION:2.0
PRODID:-//Morehead Planetarium and Science Center - ECPv6.13.2.1//NONSGML v1.0//EN
CALSCALE:GREGORIAN
METHOD:PUBLISH
X-ORIGINAL-URL:https://moreheadplanetarium.org
X-WR-CALDESC:Events for Morehead Planetarium and Science Center
REFRESH-INTERVAL;VALUE=DURATION:PT1H
X-Robots-Tag:noindex
X-PUBLISHED-TTL:PT1H
BEGIN:VTIMEZONE
TZID:America/New_York
BEGIN:DAYLIGHT
TZOFFSETFROM:-0500
TZOFFSETTO:-0400
TZNAME:EDT
DTSTART:20240310T070000
END:DAYLIGHT
BEGIN:STANDARD
TZOFFSETFROM:-0400
TZOFFSETTO:-0500
TZNAME:EST
DTSTART:20241103T060000
END:STANDARD
END:VTIMEZONE
BEGIN:VEVENT
DTSTART;TZID=America/New_York:20240106T103000
DTEND;TZID=America/New_York:20240106T113000
DTSTAMP:20260423T134246
CREATED:20231027T171028Z
LAST-MODIFIED:20231027T171028Z
UID:30630-1704537000-1704540600@moreheadplanetarium.org
SUMMARY:Magic Tree House Space Mission
DESCRIPTION:
URL:https://moreheadplanetarium.org/calendar/magic-tree-house-space-mission-132/
CATEGORIES:Planetarium Shows
END:VEVENT
BEGIN:VEVENT
DTSTART;TZID=America/New_York:20240106T120000
DTEND;TZID=America/New_York:20240106T130000
DTSTAMP:20260423T134246
CREATED:20231027T171228Z
LAST-MODIFIED:20231027T171228Z
UID:30631-1704542400-1704546000@moreheadplanetarium.org
SUMMARY:Astronaut
DESCRIPTION:
URL:https://moreheadplanetarium.org/calendar/astronaut-112/
CATEGORIES:Planetarium Shows
END:VEVENT
BEGIN:VEVENT
DTSTART;TZID=America/New_York:20240106T133000
DTEND;TZID=America/New_York:20240106T143000
DTSTAMP:20260423T134246
CREATED:20231027T171228Z
LAST-MODIFIED:20231027T171228Z
UID:30632-1704547800-1704551400@moreheadplanetarium.org
SUMMARY:Forward! To the Moon
DESCRIPTION:
URL:https://moreheadplanetarium.org/calendar/forward-to-the-moon-38/
CATEGORIES:Planetarium Shows
END:VEVENT
BEGIN:VEVENT
DTSTART;TZID=America/New_York:20240106T150000
DTEND;TZID=America/New_York:20240106T160000
DTSTAMP:20260423T134246
CREATED:20231027T171228Z
LAST-MODIFIED:20231027T171228Z
UID:30633-1704553200-1704556800@moreheadplanetarium.org
SUMMARY:The Longest Night: A Winter's Tale
DESCRIPTION:
URL:https://moreheadplanetarium.org/calendar/the-longest-night-a-winters-tale-78/
CATEGORIES:Planetarium Shows
END:VEVENT
BEGIN:VEVENT
DTSTART;TZID=America/New_York:20240106T163000
DTEND;TZID=America/New_York:20240106T173000
DTSTAMP:20260423T134246
CREATED:20231027T171229Z
LAST-MODIFIED:20231027T171229Z
UID:30634-1704558600-1704562200@moreheadplanetarium.org
SUMMARY:Carolina Skies
DESCRIPTION:
URL:https://moreheadplanetarium.org/calendar/carolina-skies-335/
CATEGORIES:Planetarium Shows
END:VEVENT
END:VCALENDAR