BEGIN:VCALENDAR
VERSION:2.0
PRODID:-//Morehead Planetarium and Science Center - ECPv6.13.2.1//NONSGML v1.0//EN
CALSCALE:GREGORIAN
METHOD:PUBLISH
X-WR-CALNAME:Morehead Planetarium and Science Center
X-ORIGINAL-URL:https://moreheadplanetarium.org
X-WR-CALDESC:Events for Morehead Planetarium and Science Center
REFRESH-INTERVAL;VALUE=DURATION:PT1H
X-Robots-Tag:noindex
X-PUBLISHED-TTL:PT1H
BEGIN:VTIMEZONE
TZID:America/New_York
BEGIN:DAYLIGHT
TZOFFSETFROM:-0500
TZOFFSETTO:-0400
TZNAME:EDT
DTSTART:20230312T070000
END:DAYLIGHT
BEGIN:STANDARD
TZOFFSETFROM:-0400
TZOFFSETTO:-0500
TZNAME:EST
DTSTART:20231105T060000
END:STANDARD
END:VTIMEZONE
BEGIN:VEVENT
DTSTART;TZID=America/New_York:20230613T103000
DTEND;TZID=America/New_York:20230613T113000
DTSTAMP:20260422T191604
CREATED:20230420T142738Z
LAST-MODIFIED:20230613T235051Z
UID:28080-1686652200-1686655800@moreheadplanetarium.org
SUMMARY:Earth\, Moon and Sun
DESCRIPTION:
URL:https://moreheadplanetarium.org/calendar/earth-moon-and-sun-84/
LOCATION:GSK Fulldome Theater
CATEGORIES:Planetarium Shows
END:VEVENT
BEGIN:VEVENT
DTSTART;TZID=America/New_York:20230613T120000
DTEND;TZID=America/New_York:20230613T130000
DTSTAMP:20260422T191604
CREATED:20230420T142738Z
LAST-MODIFIED:20230613T235051Z
UID:28081-1686657600-1686661200@moreheadplanetarium.org
SUMMARY:We Are Stars
DESCRIPTION:
URL:https://moreheadplanetarium.org/calendar/we-are-stars-87/
LOCATION:GSK Fulldome Theater
CATEGORIES:Planetarium Shows
END:VEVENT
BEGIN:VEVENT
DTSTART;TZID=America/New_York:20230613T133000
DTEND;TZID=America/New_York:20230613T143000
DTSTAMP:20260422T191604
CREATED:20230519T214416Z
LAST-MODIFIED:20230613T235051Z
UID:28460-1686663000-1686666600@moreheadplanetarium.org
SUMMARY:Forward! To the Moon
DESCRIPTION:
URL:https://moreheadplanetarium.org/calendar/forward-to-the-moon/
LOCATION:GSK Fulldome Theater
CATEGORIES:Planetarium Shows
END:VEVENT
BEGIN:VEVENT
DTSTART;TZID=America/New_York:20230613T150000
DTEND;TZID=America/New_York:20230613T160000
DTSTAMP:20260422T191604
CREATED:20230420T142738Z
LAST-MODIFIED:20230613T235051Z
UID:28082-1686668400-1686672000@moreheadplanetarium.org
SUMMARY:Astronaut
DESCRIPTION:
URL:https://moreheadplanetarium.org/calendar/astronaut-92/
LOCATION:GSK Fulldome Theater
CATEGORIES:Planetarium Shows
END:VEVENT
END:VCALENDAR