BEGIN:VCALENDAR
VERSION:2.0
PRODID:-//Morehead Planetarium and Science Center - ECPv6.13.2.1//NONSGML v1.0//EN
CALSCALE:GREGORIAN
METHOD:PUBLISH
X-ORIGINAL-URL:https://moreheadplanetarium.org
X-WR-CALDESC:Events for Morehead Planetarium and Science Center
REFRESH-INTERVAL;VALUE=DURATION:PT1H
X-Robots-Tag:noindex
X-PUBLISHED-TTL:PT1H
BEGIN:VTIMEZONE
TZID:America/New_York
BEGIN:DAYLIGHT
TZOFFSETFROM:-0500
TZOFFSETTO:-0400
TZNAME:EDT
DTSTART:20230312T070000
END:DAYLIGHT
BEGIN:STANDARD
TZOFFSETFROM:-0400
TZOFFSETTO:-0500
TZNAME:EST
DTSTART:20231105T060000
END:STANDARD
END:VTIMEZONE
BEGIN:VEVENT
DTSTART;TZID=America/New_York:20230122T133000
DTEND;TZID=America/New_York:20230122T143000
DTSTAMP:20260422T181021
CREATED:20221108T195349Z
LAST-MODIFIED:20230106T132624Z
UID:25344-1674394200-1674397800@moreheadplanetarium.org
SUMMARY:Solar System Odyssey
DESCRIPTION:
URL:https://moreheadplanetarium.org/calendar/solar-system-odyssey-25/
LOCATION:GSK Fulldome Theater
CATEGORIES:Planetarium Shows
END:VEVENT
BEGIN:VEVENT
DTSTART;TZID=America/New_York:20230122T150000
DTEND;TZID=America/New_York:20230122T160000
DTSTAMP:20260422T181021
CREATED:20221108T195349Z
LAST-MODIFIED:20230106T132624Z
UID:25345-1674399600-1674403200@moreheadplanetarium.org
SUMMARY:The Longest Night: A Winter’s Tale
DESCRIPTION:
URL:https://moreheadplanetarium.org/calendar/the-longest-night-a-winters-tale-59/
LOCATION:GSK Fulldome Theater
CATEGORIES:Planetarium Shows
END:VEVENT
BEGIN:VEVENT
DTSTART;TZID=America/New_York:20230122T163000
DTEND;TZID=America/New_York:20230122T173000
DTSTAMP:20260422T181021
CREATED:20221108T195349Z
LAST-MODIFIED:20230106T132825Z
UID:25346-1674405000-1674408600@moreheadplanetarium.org
SUMMARY:Carolina Skies
DESCRIPTION:
URL:https://moreheadplanetarium.org/calendar/carolina-skies-232/
LOCATION:GSK Fulldome Theater
CATEGORIES:Planetarium Shows
END:VEVENT
END:VCALENDAR